BEGIN:VCALENDAR
VERSION:2.0
PRODID:-//QuickScores.com//BQ Dynamic iCal Creator//EN
METHOD:PUBLISH
X-WR-CALNAME:Kough/Kough - Pupc Thursday Night Low Int./rec League - Latesummer25 - Completed Leagues 2025
X-WR-CALDESC:QuickScores game calendar
X-PUBLISHED-TTL:PT24H
REFRESH-INTERVAL;VALUE=DURATION:PT24H
CALSCALE:GREGORIAN
BEGIN:VTIMEZONE
TZID:America/Chicago
X-LIC-LOCATION:America/Chicago
BEGIN:DAYLIGHT
TZNAME:CDT
TZOFFSETFROM:-0600
TZOFFSETTO:-0500
DTSTART:19700308T020000
RRULE:FREQ=YEARLY;BYMONTH=3;BYDAY=2SU
END:DAYLIGHT
BEGIN:STANDARD
TZNAME:CST
TZOFFSETFROM:-0500
TZOFFSETTO:-0600
DTSTART:19701101T020000
RRULE:FREQ=YEARLY;BYMONTH=11;BYDAY=1SU
END:STANDARD
END:VTIMEZONE
BEGIN:VEVENT
UID:pupc-69841706-20250724T180000@quickscores.com
DTSTAMP:20260423T233200Z
DTSTART;TZID=America/Chicago:20250724T180000
DURATION:PT0H40M0S
SUMMARY:Kough/Kough vs. Wilson/Wilson
DESCRIPTION:Pupc Thursday Night Low Int./rec League - Latesummer25 - Paddle Up Pickleball Club
LOCATION:Court 4
CATEGORIES:QuickScores, Pickleball Game
TRANSP:OPAQUE
BEGIN:VALARM
TRIGGER:-PT2H
ACTION:DISPLAY
DESCRIPTION:Kough/Kough vs. Wilson/Wilson
END:VALARM
END:VEVENT
BEGIN:VEVENT
UID:pupc-69841713-20250724T184000@quickscores.com
DTSTAMP:20260423T233200Z
DTSTART;TZID=America/Chicago:20250724T184000
DURATION:PT0H40M0S
SUMMARY:Kough/Kough vs. Stuhlman/Stuhlman
DESCRIPTION:Pupc Thursday Night Low Int./rec League - Latesummer25 - Paddle Up Pickleball Club
LOCATION:Court 4
CATEGORIES:QuickScores, Pickleball Game
TRANSP:OPAQUE
BEGIN:VALARM
TRIGGER:-PT2H
ACTION:DISPLAY
DESCRIPTION:Kough/Kough vs. Stuhlman/Stuhlman
END:VALARM
END:VEVENT
BEGIN:VEVENT
UID:pupc-69841717-20250731T184000@quickscores.com
DTSTAMP:20260423T233200Z
DTSTART;TZID=America/Chicago:20250731T184000
DURATION:PT0H40M0S
SUMMARY:Clabaugh/Clabaugh vs. Kough/Kough
DESCRIPTION:Pupc Thursday Night Low Int./rec League - Latesummer25 - Paddle Up Pickleball Club
LOCATION:Court 2
CATEGORIES:QuickScores, Pickleball Game
TRANSP:OPAQUE
BEGIN:VALARM
TRIGGER:-PT2H
ACTION:DISPLAY
DESCRIPTION:Clabaugh/Clabaugh vs. Kough/Kough
END:VALARM
END:VEVENT
BEGIN:VEVENT
UID:pupc-69841718-20250731T192000@quickscores.com
DTSTAMP:20260423T233200Z
DTSTART;TZID=America/Chicago:20250731T192000
DURATION:PT0H40M0S
SUMMARY:Kough/Kough vs. Denny/Nettler
DESCRIPTION:Pupc Thursday Night Low Int./rec League - Latesummer25 - Paddle Up Pickleball Club
LOCATION:Court 4
CATEGORIES:QuickScores, Pickleball Game
TRANSP:OPAQUE
BEGIN:VALARM
TRIGGER:-PT2H
ACTION:DISPLAY
DESCRIPTION:Kough/Kough vs. Denny/Nettler
END:VALARM
END:VEVENT
BEGIN:VEVENT
UID:pupc-69841722-20250807T180000@quickscores.com
DTSTAMP:20260423T233200Z
DTSTART;TZID=America/Chicago:20250807T180000
DURATION:PT0H40M0S
SUMMARY:Kough/Kough vs. Steams/Vinograd
DESCRIPTION:Pupc Thursday Night Low Int./rec League - Latesummer25 - Paddle Up Pickleball Club
LOCATION:Court 4
CATEGORIES:QuickScores, Pickleball Game
TRANSP:OPAQUE
BEGIN:VALARM
TRIGGER:-PT2H
ACTION:DISPLAY
DESCRIPTION:Kough/Kough vs. Steams/Vinograd
END:VALARM
END:VEVENT
BEGIN:VEVENT
UID:pupc-69841729-20250807T184000@quickscores.com
DTSTAMP:20260423T233200Z
DTSTART;TZID=America/Chicago:20250807T184000
DURATION:PT0H40M0S
SUMMARY:Friese/Yates vs. Kough/Kough
DESCRIPTION:Pupc Thursday Night Low Int./rec League - Latesummer25 - Paddle Up Pickleball Club
LOCATION:Court 4
CATEGORIES:QuickScores, Pickleball Game
TRANSP:OPAQUE
BEGIN:VALARM
TRIGGER:-PT2H
ACTION:DISPLAY
DESCRIPTION:Friese/Yates vs. Kough/Kough
END:VALARM
END:VEVENT
BEGIN:VEVENT
UID:pupc-69841736-20250814T184000@quickscores.com
DTSTAMP:20260423T233200Z
DTSTART;TZID=America/Chicago:20250814T184000
DURATION:PT0H40M0S
SUMMARY:GHennessy/BHennessy vs. Kough/Kough
DESCRIPTION:Pupc Thursday Night Low Int./rec League - Latesummer25 - Paddle Up Pickleball Club
LOCATION:Court 2
CATEGORIES:QuickScores, Pickleball Game
TRANSP:OPAQUE
BEGIN:VALARM
TRIGGER:-PT2H
ACTION:DISPLAY
DESCRIPTION:GHennessy/BHennessy vs. Kough/Kough
END:VALARM
END:VEVENT
BEGIN:VEVENT
UID:pupc-69841734-20250814T192000@quickscores.com
DTSTAMP:20260423T233200Z
DTSTART;TZID=America/Chicago:20250814T192000
DURATION:PT0H40M0S
SUMMARY:Wilson/Wilson vs. Kough/Kough
DESCRIPTION:Pupc Thursday Night Low Int./rec League - Latesummer25 - Paddle Up Pickleball Club
LOCATION:Court 6
CATEGORIES:QuickScores, Pickleball Game
TRANSP:OPAQUE
BEGIN:VALARM
TRIGGER:-PT2H
ACTION:DISPLAY
DESCRIPTION:Wilson/Wilson vs. Kough/Kough
END:VALARM
END:VEVENT
BEGIN:VEVENT
UID:pupc-69841745-20250821T184000@quickscores.com
DTSTAMP:20260423T233200Z
DTSTART;TZID=America/Chicago:20250821T184000
DURATION:PT0H40M0S
SUMMARY:Friese/Yates vs. Kough/Kough
DESCRIPTION:Pupc Thursday Night Low Int./rec League - Latesummer25 - Paddle Up Pickleball Club
LOCATION:Court 6
CATEGORIES:QuickScores, Pickleball Game
TRANSP:OPAQUE
BEGIN:VALARM
TRIGGER:-PT2H
ACTION:DISPLAY
DESCRIPTION:Friese/Yates vs. Kough/Kough
END:VALARM
END:VEVENT
BEGIN:VEVENT
UID:pupc-69841742-20250821T192000@quickscores.com
DTSTAMP:20260423T233200Z
DTSTART;TZID=America/Chicago:20250821T192000
DURATION:PT0H40M0S
SUMMARY:Denny/Nettler vs. Kough/Kough
DESCRIPTION:Pupc Thursday Night Low Int./rec League - Latesummer25 - Paddle Up Pickleball Club
LOCATION:Court 6
CATEGORIES:QuickScores, Pickleball Game
TRANSP:OPAQUE
BEGIN:VALARM
TRIGGER:-PT2H
ACTION:DISPLAY
DESCRIPTION:Denny/Nettler vs. Kough/Kough
END:VALARM
END:VEVENT
BEGIN:VEVENT
UID:pupc-70509775-20250828T183000@quickscores.com
DTSTAMP:20260423T233200Z
DTSTART;TZID=America/Chicago:20250828T183000
DURATION:PT0H30M0S
SUMMARY:[2] Steams/Vinograd vs. [7] Kough/Kough
DESCRIPTION:Pupc Thursday Night Low Int./rec League - Latesummer25 - Paddle Up Pickleball Club
LOCATION:Court 4
CATEGORIES:QuickScores, Pickleball Game
TRANSP:OPAQUE
BEGIN:VALARM
TRIGGER:-PT2H
ACTION:DISPLAY
DESCRIPTION:[2] Steams/Vinograd vs. [7] Kough/Kough
END:VALARM
END:VEVENT
END:VCALENDAR
