BEGIN:VCALENDAR
VERSION:2.0
PRODID:-//QuickScores.com//BQ Dynamic iCal Creator//EN
METHOD:PUBLISH
X-WR-CALNAME:Friese/Yates - Pupc Thursday Night Low Int./rec League - Latesummer25 - Completed Leagues 2025
X-WR-CALDESC:QuickScores game calendar
X-PUBLISHED-TTL:PT24H
REFRESH-INTERVAL;VALUE=DURATION:PT24H
CALSCALE:GREGORIAN
BEGIN:VTIMEZONE
TZID:America/Chicago
X-LIC-LOCATION:America/Chicago
BEGIN:DAYLIGHT
TZNAME:CDT
TZOFFSETFROM:-0600
TZOFFSETTO:-0500
DTSTART:19700308T020000
RRULE:FREQ=YEARLY;BYMONTH=3;BYDAY=2SU
END:DAYLIGHT
BEGIN:STANDARD
TZNAME:CST
TZOFFSETFROM:-0500
TZOFFSETTO:-0600
DTSTART:19701101T020000
RRULE:FREQ=YEARLY;BYMONTH=11;BYDAY=1SU
END:STANDARD
END:VTIMEZONE
BEGIN:VEVENT
UID:pupc-69841710-20250724T180000@quickscores.com
DTSTAMP:20260424T062000Z
DTSTART;TZID=America/Chicago:20250724T180000
DURATION:PT0H40M0S
SUMMARY:Friese/Yates vs. GHennessy/BHennessy
DESCRIPTION:Pupc Thursday Night Low Int./rec League - Latesummer25 - Paddle Up Pickleball Club
LOCATION:Court 2
CATEGORIES:QuickScores, Pickleball Game
TRANSP:OPAQUE
BEGIN:VALARM
TRIGGER:-PT2H
ACTION:DISPLAY
DESCRIPTION:Friese/Yates vs. GHennessy/BHennessy
END:VALARM
END:VEVENT
BEGIN:VEVENT
UID:pupc-69841711-20250724T184000@quickscores.com
DTSTAMP:20260424T062000Z
DTSTART;TZID=America/Chicago:20250724T184000
DURATION:PT0H40M0S
SUMMARY:Friese/Yates vs. Denny/Nettler
DESCRIPTION:Pupc Thursday Night Low Int./rec League - Latesummer25 - Paddle Up Pickleball Club
LOCATION:Court 2
CATEGORIES:QuickScores, Pickleball Game
TRANSP:OPAQUE
BEGIN:VALARM
TRIGGER:-PT2H
ACTION:DISPLAY
DESCRIPTION:Friese/Yates vs. Denny/Nettler
END:VALARM
END:VEVENT
BEGIN:VEVENT
UID:pupc-69841729-20250807T184000@quickscores.com
DTSTAMP:20260424T062000Z
DTSTART;TZID=America/Chicago:20250807T184000
DURATION:PT0H40M0S
SUMMARY:Friese/Yates vs. Kough/Kough
DESCRIPTION:Pupc Thursday Night Low Int./rec League - Latesummer25 - Paddle Up Pickleball Club
LOCATION:Court 4
CATEGORIES:QuickScores, Pickleball Game
TRANSP:OPAQUE
BEGIN:VALARM
TRIGGER:-PT2H
ACTION:DISPLAY
DESCRIPTION:Friese/Yates vs. Kough/Kough
END:VALARM
END:VEVENT
BEGIN:VEVENT
UID:pupc-69841728-20250807T192000@quickscores.com
DTSTAMP:20260424T062000Z
DTSTART;TZID=America/Chicago:20250807T192000
DURATION:PT0H40M0S
SUMMARY:Friese/Yates vs. Wilson/Wilson
DESCRIPTION:Pupc Thursday Night Low Int./rec League - Latesummer25 - Paddle Up Pickleball Club
LOCATION:Court 4
CATEGORIES:QuickScores, Pickleball Game
TRANSP:OPAQUE
BEGIN:VALARM
TRIGGER:-PT2H
ACTION:DISPLAY
DESCRIPTION:Friese/Yates vs. Wilson/Wilson
END:VALARM
END:VEVENT
BEGIN:VEVENT
UID:pupc-69841730-20250814T180000@quickscores.com
DTSTAMP:20260424T062000Z
DTSTART;TZID=America/Chicago:20250814T180000
DURATION:PT0H40M0S
SUMMARY:Friese/Yates vs. GHennessy/BHennessy
DESCRIPTION:Pupc Thursday Night Low Int./rec League - Latesummer25 - Paddle Up Pickleball Club
LOCATION:Court 2
CATEGORIES:QuickScores, Pickleball Game
TRANSP:OPAQUE
BEGIN:VALARM
TRIGGER:-PT2H
ACTION:DISPLAY
DESCRIPTION:Friese/Yates vs. GHennessy/BHennessy
END:VALARM
END:VEVENT
BEGIN:VEVENT
UID:pupc-69841731-20250814T192000@quickscores.com
DTSTAMP:20260424T062000Z
DTSTART;TZID=America/Chicago:20250814T192000
DURATION:PT0H40M0S
SUMMARY:Steams/Vinograd vs. Friese/Yates
DESCRIPTION:Pupc Thursday Night Low Int./rec League - Latesummer25 - Paddle Up Pickleball Club
LOCATION:Court 4
CATEGORIES:QuickScores, Pickleball Game
TRANSP:OPAQUE
BEGIN:VALARM
TRIGGER:-PT2H
ACTION:DISPLAY
DESCRIPTION:Steams/Vinograd vs. Friese/Yates
END:VALARM
END:VEVENT
BEGIN:VEVENT
UID:pupc-69841741-20250821T180000@quickscores.com
DTSTAMP:20260424T062000Z
DTSTART;TZID=America/Chicago:20250821T180000
DURATION:PT0H40M0S
SUMMARY:Wilson/Wilson vs. Friese/Yates
DESCRIPTION:Pupc Thursday Night Low Int./rec League - Latesummer25 - Paddle Up Pickleball Club
LOCATION:Court 2
CATEGORIES:QuickScores, Pickleball Game
TRANSP:OPAQUE
BEGIN:VALARM
TRIGGER:-PT2H
ACTION:DISPLAY
DESCRIPTION:Wilson/Wilson vs. Friese/Yates
END:VALARM
END:VEVENT
BEGIN:VEVENT
UID:pupc-69841745-20250821T184000@quickscores.com
DTSTAMP:20260424T062000Z
DTSTART;TZID=America/Chicago:20250821T184000
DURATION:PT0H40M0S
SUMMARY:Friese/Yates vs. Kough/Kough
DESCRIPTION:Pupc Thursday Night Low Int./rec League - Latesummer25 - Paddle Up Pickleball Club
LOCATION:Court 6
CATEGORIES:QuickScores, Pickleball Game
TRANSP:OPAQUE
BEGIN:VALARM
TRIGGER:-PT2H
ACTION:DISPLAY
DESCRIPTION:Friese/Yates vs. Kough/Kough
END:VALARM
END:VEVENT
BEGIN:VEVENT
UID:pupc-70509774-20250828T180000@quickscores.com
DTSTAMP:20260424T062000Z
DTSTART;TZID=America/Chicago:20250828T180000
DURATION:PT0H30M0S
SUMMARY:[4] Wilson/Wilson vs. [5] Friese/Yates
DESCRIPTION:Pupc Thursday Night Low Int./rec League - Latesummer25 - Paddle Up Pickleball Club
LOCATION:Court 6
CATEGORIES:QuickScores, Pickleball Game
TRANSP:OPAQUE
BEGIN:VALARM
TRIGGER:-PT2H
ACTION:DISPLAY
DESCRIPTION:[4] Wilson/Wilson vs. [5] Friese/Yates
END:VALARM
END:VEVENT
END:VCALENDAR
