BEGIN:VCALENDAR
VERSION:2.0
PRODID:-//QuickScores.com//BQ Dynamic iCal Creator//EN
METHOD:PUBLISH
X-WR-CALNAME:AlaynaHosna/RaviChinnaien - Paddle Up Club Championship - Mixed Doubles 7/27 (9:00 Am Start) - Completed Tournaments 2024-25
X-WR-CALDESC:QuickScores game calendar
X-PUBLISHED-TTL:PT24H
REFRESH-INTERVAL;VALUE=DURATION:PT24H
CALSCALE:GREGORIAN
BEGIN:VTIMEZONE
TZID:America/Chicago
X-LIC-LOCATION:America/Chicago
BEGIN:DAYLIGHT
TZNAME:CDT
TZOFFSETFROM:-0600
TZOFFSETTO:-0500
DTSTART:19700308T020000
RRULE:FREQ=YEARLY;BYMONTH=3;BYDAY=2SU
END:DAYLIGHT
BEGIN:STANDARD
TZNAME:CST
TZOFFSETFROM:-0500
TZOFFSETTO:-0600
DTSTART:19701101T020000
RRULE:FREQ=YEARLY;BYMONTH=11;BYDAY=1SU
END:STANDARD
END:VTIMEZONE
BEGIN:VEVENT
UID:pupc-69939566-20250727T091000@quickscores.com
DTSTAMP:20260425T230400Z
DTSTART;TZID=America/Chicago:20250727T091000
DURATION:PT0H20M0S
SUMMARY:TrishEddy/JeffreyEddy vs. AlaynaHosna/RaviChinnaien
DESCRIPTION:Paddle Up Club Championship - Mixed Doubles 7/27 (9:00 Am Start) - Paddle Up Pickleball Club
LOCATION:Court 2
CATEGORIES:QuickScores, Pickleball Game
TRANSP:OPAQUE
BEGIN:VALARM
TRIGGER:-PT2H
ACTION:DISPLAY
DESCRIPTION:TrishEddy/JeffreyEddy vs. AlaynaHosna/RaviChinnaien
END:VALARM
END:VEVENT
BEGIN:VEVENT
UID:pupc-69939593-20250727T095000@quickscores.com
DTSTAMP:20260425T230400Z
DTSTART;TZID=America/Chicago:20250727T095000
DURATION:PT0H20M0S
SUMMARY:AlaynaHosna/RaviChinnaien vs. SteveDubois/CherylDubois
DESCRIPTION:Paddle Up Club Championship - Mixed Doubles 7/27 (9:00 Am Start) - Paddle Up Pickleball Club
LOCATION:Court 3
CATEGORIES:QuickScores, Pickleball Game
TRANSP:OPAQUE
BEGIN:VALARM
TRIGGER:-PT2H
ACTION:DISPLAY
DESCRIPTION:AlaynaHosna/RaviChinnaien vs. SteveDubois/CherylDubois
END:VALARM
END:VEVENT
BEGIN:VEVENT
UID:pupc-69939578-20250727T101000@quickscores.com
DTSTAMP:20260425T230400Z
DTSTART;TZID=America/Chicago:20250727T101000
DURATION:PT0H20M0S
SUMMARY:JenikaHernandez/GioHernandez vs. AlaynaHosna/RaviChinnaien
DESCRIPTION:Paddle Up Club Championship - Mixed Doubles 7/27 (9:00 Am Start) - Paddle Up Pickleball Club
LOCATION:Court 5
CATEGORIES:QuickScores, Pickleball Game
TRANSP:OPAQUE
BEGIN:VALARM
TRIGGER:-PT2H
ACTION:DISPLAY
DESCRIPTION:JenikaHernandez/GioHernandez vs. AlaynaHosna/RaviChinnaien
END:VALARM
END:VEVENT
BEGIN:VEVENT
UID:pupc-69939603-20250727T103000@quickscores.com
DTSTAMP:20260425T230400Z
DTSTART;TZID=America/Chicago:20250727T103000
DURATION:PT0H20M0S
SUMMARY:AlaynaHosna/RaviChinnaien vs. AshmaSingh/AarogyaRana
DESCRIPTION:Paddle Up Club Championship - Mixed Doubles 7/27 (9:00 Am Start) - Paddle Up Pickleball Club
LOCATION:Court 5
CATEGORIES:QuickScores, Pickleball Game
TRANSP:OPAQUE
BEGIN:VALARM
TRIGGER:-PT2H
ACTION:DISPLAY
DESCRIPTION:AlaynaHosna/RaviChinnaien vs. AshmaSingh/AarogyaRana
END:VALARM
END:VEVENT
BEGIN:VEVENT
UID:pupc-69939620-20250727T111000@quickscores.com
DTSTAMP:20260425T230400Z
DTSTART;TZID=America/Chicago:20250727T111000
DURATION:PT0H20M0S
SUMMARY:AlaynaHosna/RaviChinnaien vs. DawnTegeler/KevinTegeler
DESCRIPTION:Paddle Up Club Championship - Mixed Doubles 7/27 (9:00 Am Start) - Paddle Up Pickleball Club
LOCATION:Court 2
CATEGORIES:QuickScores, Pickleball Game
TRANSP:OPAQUE
BEGIN:VALARM
TRIGGER:-PT2H
ACTION:DISPLAY
DESCRIPTION:AlaynaHosna/RaviChinnaien vs. DawnTegeler/KevinTegeler
END:VALARM
END:VEVENT
BEGIN:VEVENT
UID:pupc-69939628-20250727T115000@quickscores.com
DTSTAMP:20260425T230400Z
DTSTART;TZID=America/Chicago:20250727T115000
DURATION:PT0H20M0S
SUMMARY:WhitneyDurham/ScottDurham vs. AlaynaHosna/RaviChinnaien
DESCRIPTION:Paddle Up Club Championship - Mixed Doubles 7/27 (9:00 Am Start) - Paddle Up Pickleball Club
LOCATION:Court 6
CATEGORIES:QuickScores, Pickleball Game
TRANSP:OPAQUE
BEGIN:VALARM
TRIGGER:-PT2H
ACTION:DISPLAY
DESCRIPTION:WhitneyDurham/ScottDurham vs. AlaynaHosna/RaviChinnaien
END:VALARM
END:VEVENT
END:VCALENDAR
