BEGIN:VCALENDAR
VERSION:2.0
PRODID:-//QuickScores.com//BQ Dynamic iCal Creator//EN
METHOD:PUBLISH
X-WR-CALNAME:BrandiHallemeier/AustenPitkanan - Paddle Up Club Championship - Mixed Doubles 7/27 (9:00 Am Start) - Completed Tournaments 2024-25
X-WR-CALDESC:QuickScores game calendar
X-PUBLISHED-TTL:PT24H
REFRESH-INTERVAL;VALUE=DURATION:PT24H
CALSCALE:GREGORIAN
BEGIN:VTIMEZONE
TZID:America/Chicago
X-LIC-LOCATION:America/Chicago
BEGIN:DAYLIGHT
TZNAME:CDT
TZOFFSETFROM:-0600
TZOFFSETTO:-0500
DTSTART:19700308T020000
RRULE:FREQ=YEARLY;BYMONTH=3;BYDAY=2SU
END:DAYLIGHT
BEGIN:STANDARD
TZNAME:CST
TZOFFSETFROM:-0500
TZOFFSETTO:-0600
DTSTART:19701101T020000
RRULE:FREQ=YEARLY;BYMONTH=11;BYDAY=1SU
END:STANDARD
END:VTIMEZONE
BEGIN:VEVENT
UID:pupc-69939560-20250727T091000@quickscores.com
DTSTAMP:20260422T205700Z
DTSTART;TZID=America/Chicago:20250727T091000
DURATION:PT0H20M0S
SUMMARY:BrandiHallemeier/AustenPitkanan vs. GuyZitting/LeonaScifres
DESCRIPTION:Paddle Up Club Championship - Mixed Doubles 7/27 (9:00 Am Start) - Paddle Up Pickleball Club
LOCATION:Court 3
CATEGORIES:QuickScores, Pickleball Game
TRANSP:OPAQUE
BEGIN:VALARM
TRIGGER:-PT2H
ACTION:DISPLAY
DESCRIPTION:BrandiHallemeier/AustenPitkanan vs. GuyZitting/LeonaScifres
END:VALARM
END:VEVENT
BEGIN:VEVENT
UID:pupc-69939639-20250727T093000@quickscores.com
DTSTAMP:20260422T205700Z
DTSTART;TZID=America/Chicago:20250727T093000
DURATION:PT0H20M0S
SUMMARY:BrandiHallemeier/AustenPitkanan vs. JennyLivaditis/BradMorgenthaler
DESCRIPTION:Paddle Up Club Championship - Mixed Doubles 7/27 (9:00 Am Start) - Paddle Up Pickleball Club
LOCATION:Court 5
CATEGORIES:QuickScores, Pickleball Game
TRANSP:OPAQUE
BEGIN:VALARM
TRIGGER:-PT2H
ACTION:DISPLAY
DESCRIPTION:BrandiHallemeier/AustenPitkanan vs. JennyLivaditis/BradMorgenthaler
END:VALARM
END:VEVENT
BEGIN:VEVENT
UID:pupc-69939601-20250727T095000@quickscores.com
DTSTAMP:20260422T205700Z
DTSTART;TZID=America/Chicago:20250727T095000
DURATION:PT0H20M0S
SUMMARY:DwayneAllen/SherryAllen vs. BrandiHallemeier/AustenPitkanan
DESCRIPTION:Paddle Up Club Championship - Mixed Doubles 7/27 (9:00 Am Start) - Paddle Up Pickleball Club
LOCATION:Court 4
CATEGORIES:QuickScores, Pickleball Game
TRANSP:OPAQUE
BEGIN:VALARM
TRIGGER:-PT2H
ACTION:DISPLAY
DESCRIPTION:DwayneAllen/SherryAllen vs. BrandiHallemeier/AustenPitkanan
END:VALARM
END:VEVENT
BEGIN:VEVENT
UID:pupc-69939627-20250727T101000@quickscores.com
DTSTAMP:20260422T205700Z
DTSTART;TZID=America/Chicago:20250727T101000
DURATION:PT0H20M0S
SUMMARY:BrandiHallemeier/AustenPitkanan vs. ErickEnciso/KarenSerrano
DESCRIPTION:Paddle Up Club Championship - Mixed Doubles 7/27 (9:00 Am Start) - Paddle Up Pickleball Club
LOCATION:Court 2
CATEGORIES:QuickScores, Pickleball Game
TRANSP:OPAQUE
BEGIN:VALARM
TRIGGER:-PT2H
ACTION:DISPLAY
DESCRIPTION:BrandiHallemeier/AustenPitkanan vs. ErickEnciso/KarenSerrano
END:VALARM
END:VEVENT
BEGIN:VEVENT
UID:pupc-69939574-20250727T105000@quickscores.com
DTSTAMP:20260422T205700Z
DTSTART;TZID=America/Chicago:20250727T105000
DURATION:PT0H20M0S
SUMMARY:KathyAllen/ScottKalna vs. BrandiHallemeier/AustenPitkanan
DESCRIPTION:Paddle Up Club Championship - Mixed Doubles 7/27 (9:00 Am Start) - Paddle Up Pickleball Club
LOCATION:Court 7
CATEGORIES:QuickScores, Pickleball Game
TRANSP:OPAQUE
BEGIN:VALARM
TRIGGER:-PT2H
ACTION:DISPLAY
DESCRIPTION:KathyAllen/ScottKalna vs. BrandiHallemeier/AustenPitkanan
END:VALARM
END:VEVENT
BEGIN:VEVENT
UID:pupc-69939585-20250727T113000@quickscores.com
DTSTAMP:20260422T205700Z
DTSTART;TZID=America/Chicago:20250727T113000
DURATION:PT0H20M0S
SUMMARY:LisaHavens/LoganHavens vs. BrandiHallemeier/AustenPitkanan
DESCRIPTION:Paddle Up Club Championship - Mixed Doubles 7/27 (9:00 Am Start) - Paddle Up Pickleball Club
LOCATION:Court 4
CATEGORIES:QuickScores, Pickleball Game
TRANSP:OPAQUE
BEGIN:VALARM
TRIGGER:-PT2H
ACTION:DISPLAY
DESCRIPTION:LisaHavens/LoganHavens vs. BrandiHallemeier/AustenPitkanan
END:VALARM
END:VEVENT
END:VCALENDAR
