BEGIN:VCALENDAR
VERSION:2.0
PRODID:-//QuickScores.com//BQ Dynamic iCal Creator//EN
METHOD:PUBLISH
X-WR-CALNAME:Chi/Beauchamp - Fmg Thursday Low Intermediate Lg. -  Late Summer 2025 - Completed Leagues 2025
X-WR-CALDESC:QuickScores game calendar
X-PUBLISHED-TTL:PT24H
REFRESH-INTERVAL;VALUE=DURATION:PT24H
CALSCALE:GREGORIAN
BEGIN:VTIMEZONE
TZID:America/Chicago
X-LIC-LOCATION:America/Chicago
BEGIN:DAYLIGHT
TZNAME:CDT
TZOFFSETFROM:-0600
TZOFFSETTO:-0500
DTSTART:19700308T020000
RRULE:FREQ=YEARLY;BYMONTH=3;BYDAY=2SU
END:DAYLIGHT
BEGIN:STANDARD
TZNAME:CST
TZOFFSETFROM:-0500
TZOFFSETTO:-0600
DTSTART:19701101T020000
RRULE:FREQ=YEARLY;BYMONTH=11;BYDAY=1SU
END:STANDARD
END:VTIMEZONE
BEGIN:VEVENT
UID:pupc-69839521-20250724T200000@quickscores.com
DTSTAMP:20260424T004400Z
DTSTART;TZID=America/Chicago:20250724T200000
DURATION:PT0H40M0S
SUMMARY:Zeisler/Zeisler vs. Chi/Beauchamp
DESCRIPTION:Fmg Thursday Low Intermediate Lg. -  Late Summer 2025 - Paddle Up Pickleball Club
LOCATION:FMG Court 4
CATEGORIES:QuickScores, Pickleball Game
TRANSP:OPAQUE
BEGIN:VALARM
TRIGGER:-PT2H
ACTION:DISPLAY
DESCRIPTION:Zeisler/Zeisler vs. Chi/Beauchamp
END:VALARM
END:VEVENT
BEGIN:VEVENT
UID:pupc-69839520-20250724T204000@quickscores.com
DTSTAMP:20260424T004400Z
DTSTART;TZID=America/Chicago:20250724T204000
DURATION:PT0H40M0S
SUMMARY:Stilwell/Stilwell vs. Chi/Beauchamp
DESCRIPTION:Fmg Thursday Low Intermediate Lg. -  Late Summer 2025 - Paddle Up Pickleball Club
LOCATION:FMG Court 4
CATEGORIES:QuickScores, Pickleball Game
TRANSP:OPAQUE
BEGIN:VALARM
TRIGGER:-PT2H
ACTION:DISPLAY
DESCRIPTION:Stilwell/Stilwell vs. Chi/Beauchamp
END:VALARM
END:VEVENT
BEGIN:VEVENT
UID:pupc-69839547-20250807T192000@quickscores.com
DTSTAMP:20260424T004400Z
DTSTART;TZID=America/Chicago:20250807T192000
DURATION:PT0H40M0S
SUMMARY:Chi/Beauchamp vs. Gurgol/Burke
DESCRIPTION:Fmg Thursday Low Intermediate Lg. -  Late Summer 2025 - Paddle Up Pickleball Club
LOCATION:FMG Court 4
CATEGORIES:QuickScores, Pickleball Game
TRANSP:OPAQUE
BEGIN:VALARM
TRIGGER:-PT2H
ACTION:DISPLAY
DESCRIPTION:Chi/Beauchamp vs. Gurgol/Burke
END:VALARM
END:VEVENT
BEGIN:VEVENT
UID:pupc-69839545-20250807T204000@quickscores.com
DTSTAMP:20260424T004400Z
DTSTART;TZID=America/Chicago:20250807T204000
DURATION:PT0H40M0S
SUMMARY:Chi/Beauchamp vs. Summers/Stugart
DESCRIPTION:Fmg Thursday Low Intermediate Lg. -  Late Summer 2025 - Paddle Up Pickleball Club
LOCATION:FMG Court 4
CATEGORIES:QuickScores, Pickleball Game
TRANSP:OPAQUE
BEGIN:VALARM
TRIGGER:-PT2H
ACTION:DISPLAY
DESCRIPTION:Chi/Beauchamp vs. Summers/Stugart
END:VALARM
END:VEVENT
BEGIN:VEVENT
UID:pupc-69839550-20250814T192000@quickscores.com
DTSTAMP:20260424T004400Z
DTSTART;TZID=America/Chicago:20250814T192000
DURATION:PT0H40M0S
SUMMARY:Chi/Beauchamp vs. Ellebrecht/Brewer
DESCRIPTION:Fmg Thursday Low Intermediate Lg. -  Late Summer 2025 - Paddle Up Pickleball Club
LOCATION:FMG Court 3
CATEGORIES:QuickScores, Pickleball Game
TRANSP:OPAQUE
BEGIN:VALARM
TRIGGER:-PT2H
ACTION:DISPLAY
DESCRIPTION:Chi/Beauchamp vs. Ellebrecht/Brewer
END:VALARM
END:VEVENT
BEGIN:VEVENT
UID:pupc-69839556-20250814T200000@quickscores.com
DTSTAMP:20260424T004400Z
DTSTART;TZID=America/Chicago:20250814T200000
DURATION:PT0H40M0S
SUMMARY:Arras/Malloy vs. Chi/Beauchamp
DESCRIPTION:Fmg Thursday Low Intermediate Lg. -  Late Summer 2025 - Paddle Up Pickleball Club
LOCATION:FMG Court 3
CATEGORIES:QuickScores, Pickleball Game
TRANSP:OPAQUE
BEGIN:VALARM
TRIGGER:-PT2H
ACTION:DISPLAY
DESCRIPTION:Arras/Malloy vs. Chi/Beauchamp
END:VALARM
END:VEVENT
BEGIN:VEVENT
UID:pupc-69839565-20250821T200000@quickscores.com
DTSTAMP:20260424T004400Z
DTSTART;TZID=America/Chicago:20250821T200000
DURATION:PT0H40M0S
SUMMARY:Chi/Beauchamp vs. Zeisler/Zeisler
DESCRIPTION:Fmg Thursday Low Intermediate Lg. -  Late Summer 2025 - Paddle Up Pickleball Club
LOCATION:FMG Court 3
CATEGORIES:QuickScores, Pickleball Game
TRANSP:OPAQUE
BEGIN:VALARM
TRIGGER:-PT2H
ACTION:DISPLAY
DESCRIPTION:Chi/Beauchamp vs. Zeisler/Zeisler
END:VALARM
END:VEVENT
BEGIN:VEVENT
UID:pupc-69839564-20250821T204000@quickscores.com
DTSTAMP:20260424T004400Z
DTSTART;TZID=America/Chicago:20250821T204000
DURATION:PT0H40M0S
SUMMARY:Chi/Beauchamp vs. Henderson/Henderson
DESCRIPTION:Fmg Thursday Low Intermediate Lg. -  Late Summer 2025 - Paddle Up Pickleball Club
LOCATION:FMG Court 3
CATEGORIES:QuickScores, Pickleball Game
TRANSP:OPAQUE
BEGIN:VALARM
TRIGGER:-PT2H
ACTION:DISPLAY
DESCRIPTION:Chi/Beauchamp vs. Henderson/Henderson
END:VALARM
END:VEVENT
END:VCALENDAR
