BEGIN:VCALENDAR
VERSION:2.0
PRODID:-//QuickScores.com//BQ Dynamic iCal Creator//EN
METHOD:PUBLISH
X-WR-CALNAME:Gurgol/Burke - Fmg Thursday Low Intermediate Lg. -  Late Summer 2025 - Completed Leagues 2025
X-WR-CALDESC:QuickScores game calendar
X-PUBLISHED-TTL:PT24H
REFRESH-INTERVAL;VALUE=DURATION:PT24H
CALSCALE:GREGORIAN
BEGIN:VTIMEZONE
TZID:America/Chicago
X-LIC-LOCATION:America/Chicago
BEGIN:DAYLIGHT
TZNAME:CDT
TZOFFSETFROM:-0600
TZOFFSETTO:-0500
DTSTART:19700308T020000
RRULE:FREQ=YEARLY;BYMONTH=3;BYDAY=2SU
END:DAYLIGHT
BEGIN:STANDARD
TZNAME:CST
TZOFFSETFROM:-0500
TZOFFSETTO:-0600
DTSTART:19701101T020000
RRULE:FREQ=YEARLY;BYMONTH=11;BYDAY=1SU
END:STANDARD
END:VTIMEZONE
BEGIN:VEVENT
UID:pupc-69839515-20250724T180000@quickscores.com
DTSTAMP:20260424T055600Z
DTSTART;TZID=America/Chicago:20250724T180000
DURATION:PT0H40M0S
SUMMARY:Arras/Malloy vs. Gurgol/Burke
DESCRIPTION:Fmg Thursday Low Intermediate Lg. -  Late Summer 2025 - Paddle Up Pickleball Club
LOCATION:FMG Court 3
CATEGORIES:QuickScores, Pickleball Game
TRANSP:OPAQUE
BEGIN:VALARM
TRIGGER:-PT2H
ACTION:DISPLAY
DESCRIPTION:Arras/Malloy vs. Gurgol/Burke
END:VALARM
END:VEVENT
BEGIN:VEVENT
UID:pupc-69839516-20250724T184000@quickscores.com
DTSTAMP:20260424T055600Z
DTSTART;TZID=America/Chicago:20250724T184000
DURATION:PT0H40M0S
SUMMARY:Henderson/Henderson vs. Gurgol/Burke
DESCRIPTION:Fmg Thursday Low Intermediate Lg. -  Late Summer 2025 - Paddle Up Pickleball Club
LOCATION:FMG Court 2
CATEGORIES:QuickScores, Pickleball Game
TRANSP:OPAQUE
BEGIN:VALARM
TRIGGER:-PT2H
ACTION:DISPLAY
DESCRIPTION:Henderson/Henderson vs. Gurgol/Burke
END:VALARM
END:VEVENT
BEGIN:VEVENT
UID:pupc-69839534-20250731T200000@quickscores.com
DTSTAMP:20260424T055600Z
DTSTART;TZID=America/Chicago:20250731T200000
DURATION:PT0H40M0S
SUMMARY:Herdt/Herdt vs. Gurgol/Burke
DESCRIPTION:Fmg Thursday Low Intermediate Lg. -  Late Summer 2025 - Paddle Up Pickleball Club
LOCATION:FMG Court 4
CATEGORIES:QuickScores, Pickleball Game
TRANSP:OPAQUE
BEGIN:VALARM
TRIGGER:-PT2H
ACTION:DISPLAY
DESCRIPTION:Herdt/Herdt vs. Gurgol/Burke
END:VALARM
END:VEVENT
BEGIN:VEVENT
UID:pupc-69839533-20250731T204000@quickscores.com
DTSTAMP:20260424T055600Z
DTSTART;TZID=America/Chicago:20250731T204000
DURATION:PT0H40M0S
SUMMARY:Gurgol/Burke vs. Jones/Jones
DESCRIPTION:Fmg Thursday Low Intermediate Lg. -  Late Summer 2025 - Paddle Up Pickleball Club
LOCATION:FMG Court 4
CATEGORIES:QuickScores, Pickleball Game
TRANSP:OPAQUE
BEGIN:VALARM
TRIGGER:-PT2H
ACTION:DISPLAY
DESCRIPTION:Gurgol/Burke vs. Jones/Jones
END:VALARM
END:VEVENT
BEGIN:VEVENT
UID:pupc-69839539-20250807T184000@quickscores.com
DTSTAMP:20260424T055600Z
DTSTART;TZID=America/Chicago:20250807T184000
DURATION:PT0H40M0S
SUMMARY:Zeisler/Zeisler vs. Gurgol/Burke
DESCRIPTION:Fmg Thursday Low Intermediate Lg. -  Late Summer 2025 - Paddle Up Pickleball Club
LOCATION:FMG Court 3
CATEGORIES:QuickScores, Pickleball Game
TRANSP:OPAQUE
BEGIN:VALARM
TRIGGER:-PT2H
ACTION:DISPLAY
DESCRIPTION:Zeisler/Zeisler vs. Gurgol/Burke
END:VALARM
END:VEVENT
BEGIN:VEVENT
UID:pupc-69839547-20250807T192000@quickscores.com
DTSTAMP:20260424T055600Z
DTSTART;TZID=America/Chicago:20250807T192000
DURATION:PT0H40M0S
SUMMARY:Chi/Beauchamp vs. Gurgol/Burke
DESCRIPTION:Fmg Thursday Low Intermediate Lg. -  Late Summer 2025 - Paddle Up Pickleball Club
LOCATION:FMG Court 4
CATEGORIES:QuickScores, Pickleball Game
TRANSP:OPAQUE
BEGIN:VALARM
TRIGGER:-PT2H
ACTION:DISPLAY
DESCRIPTION:Chi/Beauchamp vs. Gurgol/Burke
END:VALARM
END:VEVENT
BEGIN:VEVENT
UID:pupc-69839554-20250814T200000@quickscores.com
DTSTAMP:20260424T055600Z
DTSTART;TZID=America/Chicago:20250814T200000
DURATION:PT0H40M0S
SUMMARY:Gurgol/Burke vs. Henderson/Henderson
DESCRIPTION:Fmg Thursday Low Intermediate Lg. -  Late Summer 2025 - Paddle Up Pickleball Club
LOCATION:FMG Court 2
CATEGORIES:QuickScores, Pickleball Game
TRANSP:OPAQUE
BEGIN:VALARM
TRIGGER:-PT2H
ACTION:DISPLAY
DESCRIPTION:Gurgol/Burke vs. Henderson/Henderson
END:VALARM
END:VEVENT
BEGIN:VEVENT
UID:pupc-69839557-20250814T204000@quickscores.com
DTSTAMP:20260424T055600Z
DTSTART;TZID=America/Chicago:20250814T204000
DURATION:PT0H40M0S
SUMMARY:Gurgol/Burke vs. Arras/Malloy
DESCRIPTION:Fmg Thursday Low Intermediate Lg. -  Late Summer 2025 - Paddle Up Pickleball Club
LOCATION:FMG Court 4
CATEGORIES:QuickScores, Pickleball Game
TRANSP:OPAQUE
BEGIN:VALARM
TRIGGER:-PT2H
ACTION:DISPLAY
DESCRIPTION:Gurgol/Burke vs. Arras/Malloy
END:VALARM
END:VEVENT
BEGIN:VEVENT
UID:pupc-69839561-20250821T180000@quickscores.com
DTSTAMP:20260424T055600Z
DTSTART;TZID=America/Chicago:20250821T180000
DURATION:PT0H40M0S
SUMMARY:Gurgol/Burke vs. Ellebrecht/Brewer
DESCRIPTION:Fmg Thursday Low Intermediate Lg. -  Late Summer 2025 - Paddle Up Pickleball Club
LOCATION:FMG Court 3
CATEGORIES:QuickScores, Pickleball Game
TRANSP:OPAQUE
BEGIN:VALARM
TRIGGER:-PT2H
ACTION:DISPLAY
DESCRIPTION:Gurgol/Burke vs. Ellebrecht/Brewer
END:VALARM
END:VEVENT
BEGIN:VEVENT
UID:pupc-69839562-20250821T184000@quickscores.com
DTSTAMP:20260424T055600Z
DTSTART;TZID=America/Chicago:20250821T184000
DURATION:PT0H40M0S
SUMMARY:Gurgol/Burke vs. Herdt/Herdt
DESCRIPTION:Fmg Thursday Low Intermediate Lg. -  Late Summer 2025 - Paddle Up Pickleball Club
LOCATION:FMG Court 2
CATEGORIES:QuickScores, Pickleball Game
TRANSP:OPAQUE
BEGIN:VALARM
TRIGGER:-PT2H
ACTION:DISPLAY
DESCRIPTION:Gurgol/Burke vs. Herdt/Herdt
END:VALARM
END:VEVENT
END:VCALENDAR
