BEGIN:VCALENDAR
VERSION:2.0
PRODID:-//QuickScores.com//BQ Dynamic iCal Creator//EN
METHOD:PUBLISH
X-WR-CALNAME:DwayneAllen/SherryAllen - Paddle Up Club Championship - Mixed Doubles 7/27 (9:00 Am Start) - Completed Tournaments 2024-25
X-WR-CALDESC:QuickScores game calendar
X-PUBLISHED-TTL:PT24H
REFRESH-INTERVAL;VALUE=DURATION:PT24H
CALSCALE:GREGORIAN
BEGIN:VTIMEZONE
TZID:America/Chicago
X-LIC-LOCATION:America/Chicago
BEGIN:DAYLIGHT
TZNAME:CDT
TZOFFSETFROM:-0600
TZOFFSETTO:-0500
DTSTART:19700308T020000
RRULE:FREQ=YEARLY;BYMONTH=3;BYDAY=2SU
END:DAYLIGHT
BEGIN:STANDARD
TZNAME:CST
TZOFFSETFROM:-0500
TZOFFSETTO:-0600
DTSTART:19701101T020000
RRULE:FREQ=YEARLY;BYMONTH=11;BYDAY=1SU
END:STANDARD
END:VTIMEZONE
BEGIN:VEVENT
UID:pupc-69939586-20250727T091000@quickscores.com
DTSTAMP:20260422T123600Z
DTSTART;TZID=America/Chicago:20250727T091000
DURATION:PT0H20M0S
SUMMARY:DwayneAllen/SherryAllen vs. LindseyCarroll/CadenceAllen
DESCRIPTION:Paddle Up Club Championship - Mixed Doubles 7/27 (9:00 Am Start) - Paddle Up Pickleball Club
LOCATION:Court 9
CATEGORIES:QuickScores, Pickleball Game
TRANSP:OPAQUE
BEGIN:VALARM
TRIGGER:-PT2H
ACTION:DISPLAY
DESCRIPTION:DwayneAllen/SherryAllen vs. LindseyCarroll/CadenceAllen
END:VALARM
END:VEVENT
BEGIN:VEVENT
UID:pupc-69939601-20250727T095000@quickscores.com
DTSTAMP:20260422T123600Z
DTSTART;TZID=America/Chicago:20250727T095000
DURATION:PT0H20M0S
SUMMARY:DwayneAllen/SherryAllen vs. BrandiHallemeier/AustenPitkanan
DESCRIPTION:Paddle Up Club Championship - Mixed Doubles 7/27 (9:00 Am Start) - Paddle Up Pickleball Club
LOCATION:Court 4
CATEGORIES:QuickScores, Pickleball Game
TRANSP:OPAQUE
BEGIN:VALARM
TRIGGER:-PT2H
ACTION:DISPLAY
DESCRIPTION:DwayneAllen/SherryAllen vs. BrandiHallemeier/AustenPitkanan
END:VALARM
END:VEVENT
BEGIN:VEVENT
UID:pupc-69939626-20250727T101000@quickscores.com
DTSTAMP:20260422T123600Z
DTSTART;TZID=America/Chicago:20250727T101000
DURATION:PT0H20M0S
SUMMARY:LisaHavens/LoganHavens vs. DwayneAllen/SherryAllen
DESCRIPTION:Paddle Up Club Championship - Mixed Doubles 7/27 (9:00 Am Start) - Paddle Up Pickleball Club
LOCATION:Court 4
CATEGORIES:QuickScores, Pickleball Game
TRANSP:OPAQUE
BEGIN:VALARM
TRIGGER:-PT2H
ACTION:DISPLAY
DESCRIPTION:LisaHavens/LoganHavens vs. DwayneAllen/SherryAllen
END:VALARM
END:VEVENT
BEGIN:VEVENT
UID:pupc-69939575-20250727T105000@quickscores.com
DTSTAMP:20260422T123600Z
DTSTART;TZID=America/Chicago:20250727T105000
DURATION:PT0H20M0S
SUMMARY:SethPeimann/BetsyPeimann vs. DwayneAllen/SherryAllen
DESCRIPTION:Paddle Up Club Championship - Mixed Doubles 7/27 (9:00 Am Start) - Paddle Up Pickleball Club
LOCATION:Court 8
CATEGORIES:QuickScores, Pickleball Game
TRANSP:OPAQUE
BEGIN:VALARM
TRIGGER:-PT2H
ACTION:DISPLAY
DESCRIPTION:SethPeimann/BetsyPeimann vs. DwayneAllen/SherryAllen
END:VALARM
END:VEVENT
BEGIN:VEVENT
UID:pupc-69939611-20250727T111000@quickscores.com
DTSTAMP:20260422T123600Z
DTSTART;TZID=America/Chicago:20250727T111000
DURATION:PT0H20M0S
SUMMARY:DwayneAllen/SherryAllen vs. ErickEnciso/KarenSerrano
DESCRIPTION:Paddle Up Club Championship - Mixed Doubles 7/27 (9:00 Am Start) - Paddle Up Pickleball Club
LOCATION:Court 6
CATEGORIES:QuickScores, Pickleball Game
TRANSP:OPAQUE
BEGIN:VALARM
TRIGGER:-PT2H
ACTION:DISPLAY
DESCRIPTION:DwayneAllen/SherryAllen vs. ErickEnciso/KarenSerrano
END:VALARM
END:VEVENT
BEGIN:VEVENT
UID:pupc-69939561-20250727T113000@quickscores.com
DTSTAMP:20260422T123600Z
DTSTART;TZID=America/Chicago:20250727T113000
DURATION:PT0H20M0S
SUMMARY:JennyLivaditis/BradMorgenthaler vs. DwayneAllen/SherryAllen
DESCRIPTION:Paddle Up Club Championship - Mixed Doubles 7/27 (9:00 Am Start) - Paddle Up Pickleball Club
LOCATION:Court 9
CATEGORIES:QuickScores, Pickleball Game
TRANSP:OPAQUE
BEGIN:VALARM
TRIGGER:-PT2H
ACTION:DISPLAY
DESCRIPTION:JennyLivaditis/BradMorgenthaler vs. DwayneAllen/SherryAllen
END:VALARM
END:VEVENT
END:VCALENDAR
