BEGIN:VCALENDAR
VERSION:2.0
PRODID:-//QuickScores.com//BQ Dynamic iCal Creator//EN
METHOD:PUBLISH
X-WR-CALNAME:RebeccaHawkins/PrestonLanglois - Paddle Up Club Championship - Mixed Doubles 7/27 (9:00 Am Start) - Completed Tournaments 2024-25
X-WR-CALDESC:QuickScores game calendar
X-PUBLISHED-TTL:PT24H
REFRESH-INTERVAL;VALUE=DURATION:PT24H
CALSCALE:GREGORIAN
BEGIN:VTIMEZONE
TZID:America/Chicago
X-LIC-LOCATION:America/Chicago
BEGIN:DAYLIGHT
TZNAME:CDT
TZOFFSETFROM:-0600
TZOFFSETTO:-0500
DTSTART:19700308T020000
RRULE:FREQ=YEARLY;BYMONTH=3;BYDAY=2SU
END:DAYLIGHT
BEGIN:STANDARD
TZNAME:CST
TZOFFSETFROM:-0500
TZOFFSETTO:-0600
DTSTART:19701101T020000
RRULE:FREQ=YEARLY;BYMONTH=11;BYDAY=1SU
END:STANDARD
END:VTIMEZONE
BEGIN:VEVENT
UID:pupc-69939621-20250727T091000@quickscores.com
DTSTAMP:20260423T181400Z
DTSTART;TZID=America/Chicago:20250727T091000
DURATION:PT0H20M0S
SUMMARY:RebeccaHawkins/PrestonLanglois vs. TobiOla/BekahOla
DESCRIPTION:Paddle Up Club Championship - Mixed Doubles 7/27 (9:00 Am Start) - Paddle Up Pickleball Club
LOCATION:Court 7
CATEGORIES:QuickScores, Pickleball Game
TRANSP:OPAQUE
BEGIN:VALARM
TRIGGER:-PT2H
ACTION:DISPLAY
DESCRIPTION:RebeccaHawkins/PrestonLanglois vs. TobiOla/BekahOla
END:VALARM
END:VEVENT
BEGIN:VEVENT
UID:pupc-69939571-20250727T093000@quickscores.com
DTSTAMP:20260423T181400Z
DTSTART;TZID=America/Chicago:20250727T093000
DURATION:PT0H20M0S
SUMMARY:RebeccaHawkins/PrestonLanglois vs. PaigeReque/NickBorger
DESCRIPTION:Paddle Up Club Championship - Mixed Doubles 7/27 (9:00 Am Start) - Paddle Up Pickleball Club
LOCATION:Court 8
CATEGORIES:QuickScores, Pickleball Game
TRANSP:OPAQUE
BEGIN:VALARM
TRIGGER:-PT2H
ACTION:DISPLAY
DESCRIPTION:RebeccaHawkins/PrestonLanglois vs. PaigeReque/NickBorger
END:VALARM
END:VEVENT
BEGIN:VEVENT
UID:pupc-69939583-20250727T095000@quickscores.com
DTSTAMP:20260423T181400Z
DTSTART;TZID=America/Chicago:20250727T095000
DURATION:PT0H20M0S
SUMMARY:KayleighTrokey/CooperWeseli vs. RebeccaHawkins/PrestonLanglois
DESCRIPTION:Paddle Up Club Championship - Mixed Doubles 7/27 (9:00 Am Start) - Paddle Up Pickleball Club
LOCATION:Court 7
CATEGORIES:QuickScores, Pickleball Game
TRANSP:OPAQUE
BEGIN:VALARM
TRIGGER:-PT2H
ACTION:DISPLAY
DESCRIPTION:KayleighTrokey/CooperWeseli vs. RebeccaHawkins/PrestonLanglois
END:VALARM
END:VEVENT
BEGIN:VEVENT
UID:pupc-69939596-20250727T103000@quickscores.com
DTSTAMP:20260423T181400Z
DTSTART;TZID=America/Chicago:20250727T103000
DURATION:PT0H20M0S
SUMMARY:RebeccaHawkins/PrestonLanglois vs. KevinRoach/KaliPruss
DESCRIPTION:Paddle Up Club Championship - Mixed Doubles 7/27 (9:00 Am Start) - Paddle Up Pickleball Club
LOCATION:Court 7
CATEGORIES:QuickScores, Pickleball Game
TRANSP:OPAQUE
BEGIN:VALARM
TRIGGER:-PT2H
ACTION:DISPLAY
DESCRIPTION:RebeccaHawkins/PrestonLanglois vs. KevinRoach/KaliPruss
END:VALARM
END:VEVENT
BEGIN:VEVENT
UID:pupc-69939608-20250727T111000@quickscores.com
DTSTAMP:20260423T181400Z
DTSTART;TZID=America/Chicago:20250727T111000
DURATION:PT0H20M0S
SUMMARY:MaryGraves/DuaneMuntzing vs. RebeccaHawkins/PrestonLanglois
DESCRIPTION:Paddle Up Club Championship - Mixed Doubles 7/27 (9:00 Am Start) - Paddle Up Pickleball Club
LOCATION:Court 8
CATEGORIES:QuickScores, Pickleball Game
TRANSP:OPAQUE
BEGIN:VALARM
TRIGGER:-PT2H
ACTION:DISPLAY
DESCRIPTION:MaryGraves/DuaneMuntzing vs. RebeccaHawkins/PrestonLanglois
END:VALARM
END:VEVENT
BEGIN:VEVENT
UID:pupc-69939558-20250727T115000@quickscores.com
DTSTAMP:20260423T181400Z
DTSTART;TZID=America/Chicago:20250727T115000
DURATION:PT0H20M0S
SUMMARY:TabbethaBohac/CurtisMcKenney vs. RebeccaHawkins/PrestonLanglois
DESCRIPTION:Paddle Up Club Championship - Mixed Doubles 7/27 (9:00 Am Start) - Paddle Up Pickleball Club
LOCATION:Court 1
CATEGORIES:QuickScores, Pickleball Game
TRANSP:OPAQUE
BEGIN:VALARM
TRIGGER:-PT2H
ACTION:DISPLAY
DESCRIPTION:TabbethaBohac/CurtisMcKenney vs. RebeccaHawkins/PrestonLanglois
END:VALARM
END:VEVENT
END:VCALENDAR
