BEGIN:VCALENDAR
VERSION:2.0
PRODID:-//QuickScores.com//BQ Dynamic iCal Creator//EN
METHOD:PUBLISH
X-WR-CALNAME:AndrewLee/JadonWing - Paddle Up Club Championship - Championship Divisions 7/26 (6:00 Pm Start) - Completed Tournaments 2024-25
X-WR-CALDESC:QuickScores game calendar
X-PUBLISHED-TTL:PT24H
REFRESH-INTERVAL;VALUE=DURATION:PT24H
CALSCALE:GREGORIAN
BEGIN:VTIMEZONE
TZID:America/Chicago
X-LIC-LOCATION:America/Chicago
BEGIN:DAYLIGHT
TZNAME:CDT
TZOFFSETFROM:-0600
TZOFFSETTO:-0500
DTSTART:19700308T020000
RRULE:FREQ=YEARLY;BYMONTH=3;BYDAY=2SU
END:DAYLIGHT
BEGIN:STANDARD
TZNAME:CST
TZOFFSETFROM:-0500
TZOFFSETTO:-0600
DTSTART:19701101T020000
RRULE:FREQ=YEARLY;BYMONTH=11;BYDAY=1SU
END:STANDARD
END:VTIMEZONE
BEGIN:VEVENT
UID:pupc-69934647-20250726T181000@quickscores.com
DTSTAMP:20260423T194900Z
DTSTART;TZID=America/Chicago:20250726T181000
DURATION:PT0H20M0S
SUMMARY:AndrewLee/JadonWing vs. ChaseBlickhan/JohnHarte
DESCRIPTION:Paddle Up Club Championship - Championship Divisions 7/26 (6:00 Pm Start) - Paddle Up Pickleball Club
LOCATION:Court 7
CATEGORIES:QuickScores, Pickleball Game
TRANSP:OPAQUE
BEGIN:VALARM
TRIGGER:-PT2H
ACTION:DISPLAY
DESCRIPTION:AndrewLee/JadonWing vs. ChaseBlickhan/JohnHarte
END:VALARM
END:VEVENT
BEGIN:VEVENT
UID:pupc-69934656-20250726T183000@quickscores.com
DTSTAMP:20260423T194900Z
DTSTART;TZID=America/Chicago:20250726T183000
DURATION:PT0H20M0S
SUMMARY:SeanListon/KevinReque vs. AndrewLee/JadonWing
DESCRIPTION:Paddle Up Club Championship - Championship Divisions 7/26 (6:00 Pm Start) - Paddle Up Pickleball Club
LOCATION:Court 1
CATEGORIES:QuickScores, Pickleball Game
TRANSP:OPAQUE
BEGIN:VALARM
TRIGGER:-PT2H
ACTION:DISPLAY
DESCRIPTION:SeanListon/KevinReque vs. AndrewLee/JadonWing
END:VALARM
END:VEVENT
BEGIN:VEVENT
UID:pupc-69934665-20250726T185000@quickscores.com
DTSTAMP:20260423T194900Z
DTSTART;TZID=America/Chicago:20250726T185000
DURATION:PT0H20M0S
SUMMARY:BrettMell/AidenPetterson vs. AndrewLee/JadonWing
DESCRIPTION:Paddle Up Club Championship - Championship Divisions 7/26 (6:00 Pm Start) - Paddle Up Pickleball Club
LOCATION:Court 8
CATEGORIES:QuickScores, Pickleball Game
TRANSP:OPAQUE
BEGIN:VALARM
TRIGGER:-PT2H
ACTION:DISPLAY
DESCRIPTION:BrettMell/AidenPetterson vs. AndrewLee/JadonWing
END:VALARM
END:VEVENT
BEGIN:VEVENT
UID:pupc-69934673-20250726T191000@quickscores.com
DTSTAMP:20260423T194900Z
DTSTART;TZID=America/Chicago:20250726T191000
DURATION:PT0H20M0S
SUMMARY:AndrewLee/JadonWing vs. BrettTaylor/ChuckTaylor
DESCRIPTION:Paddle Up Club Championship - Championship Divisions 7/26 (6:00 Pm Start) - Paddle Up Pickleball Club
LOCATION:Court 4
CATEGORIES:QuickScores, Pickleball Game
TRANSP:OPAQUE
BEGIN:VALARM
TRIGGER:-PT2H
ACTION:DISPLAY
DESCRIPTION:AndrewLee/JadonWing vs. BrettTaylor/ChuckTaylor
END:VALARM
END:VEVENT
END:VCALENDAR
