BEGIN:VCALENDAR
VERSION:2.0
PRODID:-//QuickScores.com//BQ Dynamic iCal Creator//EN
METHOD:PUBLISH
X-WR-CALNAME:Beach/Masa - Friday Night Tourney - 6/20 Frankie Martins Garden - Completed Tournaments 2024-25
X-WR-CALDESC:QuickScores game calendar
X-PUBLISHED-TTL:PT24H
REFRESH-INTERVAL;VALUE=DURATION:PT24H
CALSCALE:GREGORIAN
BEGIN:VTIMEZONE
TZID:America/Chicago
X-LIC-LOCATION:America/Chicago
BEGIN:DAYLIGHT
TZNAME:CDT
TZOFFSETFROM:-0600
TZOFFSETTO:-0500
DTSTART:19700308T020000
RRULE:FREQ=YEARLY;BYMONTH=3;BYDAY=2SU
END:DAYLIGHT
BEGIN:STANDARD
TZNAME:CST
TZOFFSETFROM:-0500
TZOFFSETTO:-0600
DTSTART:19701101T020000
RRULE:FREQ=YEARLY;BYMONTH=11;BYDAY=1SU
END:STANDARD
END:VTIMEZONE
BEGIN:VEVENT
UID:pupc-69588539-20250620T182000@quickscores.com
DTSTAMP:20260425T105500Z
DTSTART;TZID=America/Chicago:20250620T182000
DURATION:PT0H20M0S
SUMMARY:Mckinney/Hughes vs. Beach/Masa
DESCRIPTION:Friday Night Tourney - 6/20 Frankie Martins Garden - Paddle Up Pickleball Club
LOCATION:FMG Court 2
CATEGORIES:QuickScores, Pickleball Game
TRANSP:OPAQUE
BEGIN:VALARM
TRIGGER:-PT2H
ACTION:DISPLAY
DESCRIPTION:Mckinney/Hughes vs. Beach/Masa
END:VALARM
END:VEVENT
BEGIN:VEVENT
UID:pupc-69588529-20250620T184500@quickscores.com
DTSTAMP:20260425T105500Z
DTSTART;TZID=America/Chicago:20250620T184500
DURATION:PT0H20M0S
SUMMARY:Beach/Masa vs. Mutert/Mutert
DESCRIPTION:Friday Night Tourney - 6/20 Frankie Martins Garden - Paddle Up Pickleball Club
LOCATION:FMG Court 5
CATEGORIES:QuickScores, Pickleball Game
TRANSP:OPAQUE
BEGIN:VALARM
TRIGGER:-PT2H
ACTION:DISPLAY
DESCRIPTION:Beach/Masa vs. Mutert/Mutert
END:VALARM
END:VEVENT
BEGIN:VEVENT
UID:pupc-69588534-20250620T191000@quickscores.com
DTSTAMP:20260425T105500Z
DTSTART;TZID=America/Chicago:20250620T191000
DURATION:PT0H20M0S
SUMMARY:Beach/Masa vs. Mohs/Mutert
DESCRIPTION:Friday Night Tourney - 6/20 Frankie Martins Garden - Paddle Up Pickleball Club
LOCATION:FMG Court 2
CATEGORIES:QuickScores, Pickleball Game
TRANSP:OPAQUE
BEGIN:VALARM
TRIGGER:-PT2H
ACTION:DISPLAY
DESCRIPTION:Beach/Masa vs. Mohs/Mutert
END:VALARM
END:VEVENT
END:VCALENDAR
