BEGIN:VCALENDAR
VERSION:2.0
PRODID:-//QuickScores.com//BQ Dynamic iCal Creator//EN
METHOD:PUBLISH
X-WR-CALNAME:Ferrell/Ott - Ddtc - Monday High Intermediate Lg. - Earlysummer25 - Completed Leagues 2025
X-WR-CALDESC:QuickScores game calendar
X-PUBLISHED-TTL:PT24H
REFRESH-INTERVAL;VALUE=DURATION:PT24H
CALSCALE:GREGORIAN
BEGIN:VTIMEZONE
TZID:America/Chicago
X-LIC-LOCATION:America/Chicago
BEGIN:DAYLIGHT
TZNAME:CDT
TZOFFSETFROM:-0600
TZOFFSETTO:-0500
DTSTART:19700308T020000
RRULE:FREQ=YEARLY;BYMONTH=3;BYDAY=2SU
END:DAYLIGHT
BEGIN:STANDARD
TZNAME:CST
TZOFFSETFROM:-0500
TZOFFSETTO:-0600
DTSTART:19701101T020000
RRULE:FREQ=YEARLY;BYMONTH=11;BYDAY=1SU
END:STANDARD
END:VTIMEZONE
BEGIN:VEVENT
UID:pupc-69364699-20250616T202000@quickscores.com
DTSTAMP:20260419T155600Z
DTSTART;TZID=America/Chicago:20250616T202000
DURATION:PT0H40M0S
SUMMARY:Ferrell/Ott vs. Kirkpatrick/Kirkpatrick
DESCRIPTION:Ddtc - Monday High Intermediate Lg. - Earlysummer25 - Paddle Up Pickleball Club
LOCATION:DDTC Court 11S
CATEGORIES:QuickScores, Pickleball Game
TRANSP:OPAQUE
BEGIN:VALARM
TRIGGER:-PT2H
ACTION:DISPLAY
DESCRIPTION:Ferrell/Ott vs. Kirkpatrick/Kirkpatrick
END:VALARM
END:VEVENT
BEGIN:VEVENT
UID:pupc-69433494-20250616T210000@quickscores.com
DTSTAMP:20260419T155600Z
DTSTART;TZID=America/Chicago:20250616T210000
DURATION:PT0H40M0S
SUMMARY:Ecklund/Fleming vs. Ferrell/Ott
DESCRIPTION:Ddtc - Monday High Intermediate Lg. - Earlysummer25 - Paddle Up Pickleball Club
LOCATION:DDTC Court 11N
CATEGORIES:QuickScores, Pickleball Game
TRANSP:OPAQUE
BEGIN:VALARM
TRIGGER:-PT2H
ACTION:DISPLAY
DESCRIPTION:Ecklund/Fleming vs. Ferrell/Ott
END:VALARM
END:VEVENT
BEGIN:VEVENT
UID:pupc-69364703-20250623T174000@quickscores.com
DTSTAMP:20260419T155600Z
DTSTART;TZID=America/Chicago:20250623T174000
DURATION:PT0H40M0S
SUMMARY:Ferrell/Ott vs. Gorman/Gorman
DESCRIPTION:Ddtc - Monday High Intermediate Lg. - Earlysummer25 - Paddle Up Pickleball Club
LOCATION:DDTC Court 11N
CATEGORIES:QuickScores, Pickleball Game
TRANSP:OPAQUE
BEGIN:VALARM
TRIGGER:-PT2H
ACTION:DISPLAY
DESCRIPTION:Ferrell/Ott vs. Gorman/Gorman
END:VALARM
END:VEVENT
BEGIN:VEVENT
UID:pupc-69364708-20250623T190000@quickscores.com
DTSTAMP:20260419T155600Z
DTSTART;TZID=America/Chicago:20250623T190000
DURATION:PT0H40M0S
SUMMARY:Ferrell/Ott vs. Hessler/Hessler
DESCRIPTION:Ddtc - Monday High Intermediate Lg. - Earlysummer25 - Paddle Up Pickleball Club
LOCATION:DDTC Court 11S
CATEGORIES:QuickScores, Pickleball Game
TRANSP:OPAQUE
BEGIN:VALARM
TRIGGER:-PT2H
ACTION:DISPLAY
DESCRIPTION:Ferrell/Ott vs. Hessler/Hessler
END:VALARM
END:VEVENT
BEGIN:VEVENT
UID:pupc-69364725-20250630T194000@quickscores.com
DTSTAMP:20260419T155600Z
DTSTART;TZID=America/Chicago:20250630T194000
DURATION:PT0H40M0S
SUMMARY:Phalke/Veqar vs. Ferrell/Ott
DESCRIPTION:Ddtc - Monday High Intermediate Lg. - Earlysummer25 - Paddle Up Pickleball Club
LOCATION:DDTC Court 12N
CATEGORIES:QuickScores, Pickleball Game
TRANSP:OPAQUE
BEGIN:VALARM
TRIGGER:-PT2H
ACTION:DISPLAY
DESCRIPTION:Phalke/Veqar vs. Ferrell/Ott
END:VALARM
END:VEVENT
BEGIN:VEVENT
UID:pupc-69433496-20250630T202000@quickscores.com
DTSTAMP:20260419T155600Z
DTSTART;TZID=America/Chicago:20250630T202000
DURATION:PT0H40M0S
SUMMARY:Flinn/Turner vs. Ferrell/Ott
DESCRIPTION:Ddtc - Monday High Intermediate Lg. - Earlysummer25 - Paddle Up Pickleball Club
LOCATION:DDTC Court 11N
CATEGORIES:QuickScores, Pickleball Game
TRANSP:OPAQUE
BEGIN:VALARM
TRIGGER:-PT2H
ACTION:DISPLAY
DESCRIPTION:Flinn/Turner vs. Ferrell/Ott
END:VALARM
END:VEVENT
BEGIN:VEVENT
UID:pupc-69364761-20250707T174000@quickscores.com
DTSTAMP:20260419T155600Z
DTSTART;TZID=America/Chicago:20250707T174000
DURATION:PT0H40M0S
SUMMARY:Ferrell/Ott vs. Hatzigeorgiou/Klohmann
DESCRIPTION:Ddtc - Monday High Intermediate Lg. - Earlysummer25 - Paddle Up Pickleball Club
LOCATION:DDTC Court 22
CATEGORIES:QuickScores, Pickleball Game
TRANSP:OPAQUE
BEGIN:VALARM
TRIGGER:-PT2H
ACTION:DISPLAY
DESCRIPTION:Ferrell/Ott vs. Hatzigeorgiou/Klohmann
END:VALARM
END:VEVENT
BEGIN:VEVENT
UID:pupc-69364742-20250707T182000@quickscores.com
DTSTAMP:20260419T155600Z
DTSTART;TZID=America/Chicago:20250707T182000
DURATION:PT0H40M0S
SUMMARY:Ferrell/Ott vs. Ecklund/Fleming
DESCRIPTION:Ddtc - Monday High Intermediate Lg. - Earlysummer25 - Paddle Up Pickleball Club
LOCATION:DDTC Court 22
CATEGORIES:QuickScores, Pickleball Game
TRANSP:OPAQUE
BEGIN:VALARM
TRIGGER:-PT2H
ACTION:DISPLAY
DESCRIPTION:Ferrell/Ott vs. Ecklund/Fleming
END:VALARM
END:VEVENT
END:VCALENDAR
