BEGIN:VCALENDAR
VERSION:2.0
PRODID:-//QuickScores.com//BQ Dynamic iCal Creator//EN
METHOD:PUBLISH
X-WR-CALNAME:Lansing/Cage - Ddtc - Monday High Intermediate Lg. - Earlysummer25 - Completed Leagues 2025
X-WR-CALDESC:QuickScores game calendar
X-PUBLISHED-TTL:PT24H
REFRESH-INTERVAL;VALUE=DURATION:PT24H
CALSCALE:GREGORIAN
BEGIN:VTIMEZONE
TZID:America/Chicago
X-LIC-LOCATION:America/Chicago
BEGIN:DAYLIGHT
TZNAME:CDT
TZOFFSETFROM:-0600
TZOFFSETTO:-0500
DTSTART:19700308T020000
RRULE:FREQ=YEARLY;BYMONTH=3;BYDAY=2SU
END:DAYLIGHT
BEGIN:STANDARD
TZNAME:CST
TZOFFSETFROM:-0500
TZOFFSETTO:-0600
DTSTART:19701101T020000
RRULE:FREQ=YEARLY;BYMONTH=11;BYDAY=1SU
END:STANDARD
END:VTIMEZONE
BEGIN:VEVENT
UID:pupc-69364678-20250609T202000@quickscores.com
DTSTAMP:20260419T174900Z
DTSTART;TZID=America/Chicago:20250609T202000
DURATION:PT0H40M0S
SUMMARY:Vandercar/Hughes vs. Lansing/Cage
DESCRIPTION:Ddtc - Monday High Intermediate Lg. - Earlysummer25 - Paddle Up Pickleball Club
LOCATION:DDTC Court 22
CATEGORIES:QuickScores, Pickleball Game
TRANSP:OPAQUE
BEGIN:VALARM
TRIGGER:-PT2H
ACTION:DISPLAY
DESCRIPTION:Vandercar/Hughes vs. Lansing/Cage
END:VALARM
END:VEVENT
BEGIN:VEVENT
UID:pupc-69364679-20250609T210000@quickscores.com
DTSTAMP:20260419T174900Z
DTSTART;TZID=America/Chicago:20250609T210000
DURATION:PT0H40M0S
SUMMARY:Hatzigeorgiou/Klohmann vs. Lansing/Cage
DESCRIPTION:Ddtc - Monday High Intermediate Lg. - Earlysummer25 - Paddle Up Pickleball Club
LOCATION:DDTC Court 22
CATEGORIES:QuickScores, Pickleball Game
TRANSP:OPAQUE
BEGIN:VALARM
TRIGGER:-PT2H
ACTION:DISPLAY
DESCRIPTION:Hatzigeorgiou/Klohmann vs. Lansing/Cage
END:VALARM
END:VEVENT
BEGIN:VEVENT
UID:pupc-69364696-20250616T174000@quickscores.com
DTSTAMP:20260419T174900Z
DTSTART;TZID=America/Chicago:20250616T174000
DURATION:PT0H40M0S
SUMMARY:Flinn/Turner vs. Lansing/Cage
DESCRIPTION:Ddtc - Monday High Intermediate Lg. - Earlysummer25 - Paddle Up Pickleball Club
LOCATION:DDTC Court 11N
CATEGORIES:QuickScores, Pickleball Game
TRANSP:OPAQUE
BEGIN:VALARM
TRIGGER:-PT2H
ACTION:DISPLAY
DESCRIPTION:Flinn/Turner vs. Lansing/Cage
END:VALARM
END:VEVENT
BEGIN:VEVENT
UID:pupc-69364695-20250616T182000@quickscores.com
DTSTAMP:20260419T174900Z
DTSTART;TZID=America/Chicago:20250616T182000
DURATION:PT0H40M0S
SUMMARY:Lansing/Cage vs. Hutchens/Rainford
DESCRIPTION:Ddtc - Monday High Intermediate Lg. - Earlysummer25 - Paddle Up Pickleball Club
LOCATION:DDTC Court 22
CATEGORIES:QuickScores, Pickleball Game
TRANSP:OPAQUE
BEGIN:VALARM
TRIGGER:-PT2H
ACTION:DISPLAY
DESCRIPTION:Lansing/Cage vs. Hutchens/Rainford
END:VALARM
END:VEVENT
BEGIN:VEVENT
UID:pupc-69364721-20250623T174000@quickscores.com
DTSTAMP:20260419T174900Z
DTSTART;TZID=America/Chicago:20250623T174000
DURATION:PT0H40M0S
SUMMARY:Lansing/Cage vs. Barbeau/Courtney
DESCRIPTION:Ddtc - Monday High Intermediate Lg. - Earlysummer25 - Paddle Up Pickleball Club
LOCATION:DDTC Court 22
CATEGORIES:QuickScores, Pickleball Game
TRANSP:OPAQUE
BEGIN:VALARM
TRIGGER:-PT2H
ACTION:DISPLAY
DESCRIPTION:Lansing/Cage vs. Barbeau/Courtney
END:VALARM
END:VEVENT
BEGIN:VEVENT
UID:pupc-69364720-20250623T190000@quickscores.com
DTSTAMP:20260419T174900Z
DTSTART;TZID=America/Chicago:20250623T190000
DURATION:PT0H40M0S
SUMMARY:Lansing/Cage vs. Falconi/Tin
DESCRIPTION:Ddtc - Monday High Intermediate Lg. - Earlysummer25 - Paddle Up Pickleball Club
LOCATION:DDTC Court 22
CATEGORIES:QuickScores, Pickleball Game
TRANSP:OPAQUE
BEGIN:VALARM
TRIGGER:-PT2H
ACTION:DISPLAY
DESCRIPTION:Lansing/Cage vs. Falconi/Tin
END:VALARM
END:VEVENT
BEGIN:VEVENT
UID:pupc-69364732-20250630T174000@quickscores.com
DTSTAMP:20260419T174900Z
DTSTART;TZID=America/Chicago:20250630T174000
DURATION:PT0H40M0S
SUMMARY:Lansing/Cage vs. Huether/Crissup2
DESCRIPTION:Ddtc - Monday High Intermediate Lg. - Earlysummer25 - Paddle Up Pickleball Club
LOCATION:DDTC Court 22
CATEGORIES:QuickScores, Pickleball Game
TRANSP:OPAQUE
BEGIN:VALARM
TRIGGER:-PT2H
ACTION:DISPLAY
DESCRIPTION:Lansing/Cage vs. Huether/Crissup2
END:VALARM
END:VEVENT
BEGIN:VEVENT
UID:pupc-69364733-20250630T182000@quickscores.com
DTSTAMP:20260419T174900Z
DTSTART;TZID=America/Chicago:20250630T182000
DURATION:PT0H40M0S
SUMMARY:Lanter/Baalman vs. Lansing/Cage
DESCRIPTION:Ddtc - Monday High Intermediate Lg. - Earlysummer25 - Paddle Up Pickleball Club
LOCATION:DDTC Court 22
CATEGORIES:QuickScores, Pickleball Game
TRANSP:OPAQUE
BEGIN:VALARM
TRIGGER:-PT2H
ACTION:DISPLAY
DESCRIPTION:Lanter/Baalman vs. Lansing/Cage
END:VALARM
END:VEVENT
BEGIN:VEVENT
UID:pupc-69364757-20250707T202000@quickscores.com
DTSTAMP:20260419T174900Z
DTSTART;TZID=America/Chicago:20250707T202000
DURATION:PT0H40M0S
SUMMARY:Moolsintong/Phruttitum vs. Lansing/Cage
DESCRIPTION:Ddtc - Monday High Intermediate Lg. - Earlysummer25 - Paddle Up Pickleball Club
LOCATION:DDTC Court 22
CATEGORIES:QuickScores, Pickleball Game
TRANSP:OPAQUE
BEGIN:VALARM
TRIGGER:-PT2H
ACTION:DISPLAY
DESCRIPTION:Moolsintong/Phruttitum vs. Lansing/Cage
END:VALARM
END:VEVENT
BEGIN:VEVENT
UID:pupc-69364756-20250707T210000@quickscores.com
DTSTAMP:20260419T174900Z
DTSTART;TZID=America/Chicago:20250707T210000
DURATION:PT0H40M0S
SUMMARY:Lansing/Cage vs. Kirkpatrick/Kirkpatrick
DESCRIPTION:Ddtc - Monday High Intermediate Lg. - Earlysummer25 - Paddle Up Pickleball Club
LOCATION:DDTC Court 12N
CATEGORIES:QuickScores, Pickleball Game
TRANSP:OPAQUE
BEGIN:VALARM
TRIGGER:-PT2H
ACTION:DISPLAY
DESCRIPTION:Lansing/Cage vs. Kirkpatrick/Kirkpatrick
END:VALARM
END:VEVENT
END:VCALENDAR
