BEGIN:VCALENDAR
VERSION:2.0
PRODID:-//QuickScores.com//BQ Dynamic iCal Creator//EN
METHOD:PUBLISH
X-WR-CALNAME:Vandercar/Hughes - Ddtc - Monday High Intermediate Lg. - Earlysummer25 - Completed Leagues 2025
X-WR-CALDESC:QuickScores game calendar
X-PUBLISHED-TTL:PT24H
REFRESH-INTERVAL;VALUE=DURATION:PT24H
CALSCALE:GREGORIAN
BEGIN:VTIMEZONE
TZID:America/Chicago
X-LIC-LOCATION:America/Chicago
BEGIN:DAYLIGHT
TZNAME:CDT
TZOFFSETFROM:-0600
TZOFFSETTO:-0500
DTSTART:19700308T020000
RRULE:FREQ=YEARLY;BYMONTH=3;BYDAY=2SU
END:DAYLIGHT
BEGIN:STANDARD
TZNAME:CST
TZOFFSETFROM:-0500
TZOFFSETTO:-0600
DTSTART:19701101T020000
RRULE:FREQ=YEARLY;BYMONTH=11;BYDAY=1SU
END:STANDARD
END:VTIMEZONE
BEGIN:VEVENT
UID:pupc-69364678-20250609T202000@quickscores.com
DTSTAMP:20260420T082500Z
DTSTART;TZID=America/Chicago:20250609T202000
DURATION:PT0H40M0S
SUMMARY:Vandercar/Hughes vs. Lansing/Cage
DESCRIPTION:Ddtc - Monday High Intermediate Lg. - Earlysummer25 - Paddle Up Pickleball Club
LOCATION:DDTC Court 22
CATEGORIES:QuickScores, Pickleball Game
TRANSP:OPAQUE
BEGIN:VALARM
TRIGGER:-PT2H
ACTION:DISPLAY
DESCRIPTION:Vandercar/Hughes vs. Lansing/Cage
END:VALARM
END:VEVENT
BEGIN:VEVENT
UID:pupc-69364677-20250609T210000@quickscores.com
DTSTAMP:20260420T082500Z
DTSTART;TZID=America/Chicago:20250609T210000
DURATION:PT0H40M0S
SUMMARY:Lanter/Baalman vs. Vandercar/Hughes
DESCRIPTION:Ddtc - Monday High Intermediate Lg. - Earlysummer25 - Paddle Up Pickleball Club
LOCATION:DDTC Court 12N
CATEGORIES:QuickScores, Pickleball Game
TRANSP:OPAQUE
BEGIN:VALARM
TRIGGER:-PT2H
ACTION:DISPLAY
DESCRIPTION:Lanter/Baalman vs. Vandercar/Hughes
END:VALARM
END:VEVENT
BEGIN:VEVENT
UID:pupc-69364694-20250616T174000@quickscores.com
DTSTAMP:20260420T082500Z
DTSTART;TZID=America/Chicago:20250616T174000
DURATION:PT0H40M0S
SUMMARY:Hutchens/Rainford vs. Vandercar/Hughes
DESCRIPTION:Ddtc - Monday High Intermediate Lg. - Earlysummer25 - Paddle Up Pickleball Club
LOCATION:DDTC Court 22
CATEGORIES:QuickScores, Pickleball Game
TRANSP:OPAQUE
BEGIN:VALARM
TRIGGER:-PT2H
ACTION:DISPLAY
DESCRIPTION:Hutchens/Rainford vs. Vandercar/Hughes
END:VALARM
END:VEVENT
BEGIN:VEVENT
UID:pupc-69364693-20250616T190000@quickscores.com
DTSTAMP:20260420T082500Z
DTSTART;TZID=America/Chicago:20250616T190000
DURATION:PT0H40M0S
SUMMARY:Vandercar/Hughes vs. Phalke/Veqar
DESCRIPTION:Ddtc - Monday High Intermediate Lg. - Earlysummer25 - Paddle Up Pickleball Club
LOCATION:DDTC Court 22
CATEGORIES:QuickScores, Pickleball Game
TRANSP:OPAQUE
BEGIN:VALARM
TRIGGER:-PT2H
ACTION:DISPLAY
DESCRIPTION:Vandercar/Hughes vs. Phalke/Veqar
END:VALARM
END:VEVENT
BEGIN:VEVENT
UID:pupc-69364706-20250623T202000@quickscores.com
DTSTAMP:20260420T082500Z
DTSTART;TZID=America/Chicago:20250623T202000
DURATION:PT0H40M0S
SUMMARY:Hatzigeorgiou/Klohmann vs. Vandercar/Hughes
DESCRIPTION:Ddtc - Monday High Intermediate Lg. - Earlysummer25 - Paddle Up Pickleball Club
LOCATION:DDTC Court 11S
CATEGORIES:QuickScores, Pickleball Game
TRANSP:OPAQUE
BEGIN:VALARM
TRIGGER:-PT2H
ACTION:DISPLAY
DESCRIPTION:Hatzigeorgiou/Klohmann vs. Vandercar/Hughes
END:VALARM
END:VEVENT
BEGIN:VEVENT
UID:pupc-69433495-20250623T210000@quickscores.com
DTSTAMP:20260420T082500Z
DTSTART;TZID=America/Chicago:20250623T210000
DURATION:PT0H40M0S
SUMMARY:Thompson/Thompson vs. Vandercar/Hughes
DESCRIPTION:Ddtc - Monday High Intermediate Lg. - Earlysummer25 - Paddle Up Pickleball Club
LOCATION:DDTC Court 11N
CATEGORIES:QuickScores, Pickleball Game
TRANSP:OPAQUE
BEGIN:VALARM
TRIGGER:-PT2H
ACTION:DISPLAY
DESCRIPTION:Thompson/Thompson vs. Vandercar/Hughes
END:VALARM
END:VEVENT
BEGIN:VEVENT
UID:pupc-69364723-20250630T174000@quickscores.com
DTSTAMP:20260420T082500Z
DTSTART;TZID=America/Chicago:20250630T174000
DURATION:PT0H40M0S
SUMMARY:McKinney/Hughes vs. Vandercar/Hughes
DESCRIPTION:Ddtc - Monday High Intermediate Lg. - Earlysummer25 - Paddle Up Pickleball Club
LOCATION:DDTC Court 12N
CATEGORIES:QuickScores, Pickleball Game
TRANSP:OPAQUE
BEGIN:VALARM
TRIGGER:-PT2H
ACTION:DISPLAY
DESCRIPTION:McKinney/Hughes vs. Vandercar/Hughes
END:VALARM
END:VEVENT
BEGIN:VEVENT
UID:pupc-69364722-20250630T182000@quickscores.com
DTSTAMP:20260420T082500Z
DTSTART;TZID=America/Chicago:20250630T182000
DURATION:PT0H40M0S
SUMMARY:Barbeau/Courtney vs. Vandercar/Hughes
DESCRIPTION:Ddtc - Monday High Intermediate Lg. - Earlysummer25 - Paddle Up Pickleball Club
LOCATION:DDTC Court 12N
CATEGORIES:QuickScores, Pickleball Game
TRANSP:OPAQUE
BEGIN:VALARM
TRIGGER:-PT2H
ACTION:DISPLAY
DESCRIPTION:Barbeau/Courtney vs. Vandercar/Hughes
END:VALARM
END:VEVENT
BEGIN:VEVENT
UID:pupc-69364744-20250707T190000@quickscores.com
DTSTAMP:20260420T082500Z
DTSTART;TZID=America/Chicago:20250707T190000
DURATION:PT0H40M0S
SUMMARY:Vandercar/Hughes vs. Flinn/Turner
DESCRIPTION:Ddtc - Monday High Intermediate Lg. - Earlysummer25 - Paddle Up Pickleball Club
LOCATION:DDTC Court 11N
CATEGORIES:QuickScores, Pickleball Game
TRANSP:OPAQUE
BEGIN:VALARM
TRIGGER:-PT2H
ACTION:DISPLAY
DESCRIPTION:Vandercar/Hughes vs. Flinn/Turner
END:VALARM
END:VEVENT
BEGIN:VEVENT
UID:pupc-69364746-20250707T202000@quickscores.com
DTSTAMP:20260420T082500Z
DTSTART;TZID=America/Chicago:20250707T202000
DURATION:PT0H40M0S
SUMMARY:Vandercar/Hughes vs. Beachem/Hutchens
DESCRIPTION:Ddtc - Monday High Intermediate Lg. - Earlysummer25 - Paddle Up Pickleball Club
LOCATION:DDTC Court 11S
CATEGORIES:QuickScores, Pickleball Game
TRANSP:OPAQUE
BEGIN:VALARM
TRIGGER:-PT2H
ACTION:DISPLAY
DESCRIPTION:Vandercar/Hughes vs. Beachem/Hutchens
END:VALARM
END:VEVENT
END:VCALENDAR
