BEGIN:VCALENDAR
VERSION:2.0
PRODID:-//QuickScores.com//BQ Dynamic iCal Creator//EN
METHOD:PUBLISH
X-WR-CALNAME:Gorman/Gorman - Ddtc - Monday High Intermediate Lg. - Earlysummer25 - Completed Leagues 2025
X-WR-CALDESC:QuickScores game calendar
X-PUBLISHED-TTL:PT24H
REFRESH-INTERVAL;VALUE=DURATION:PT24H
CALSCALE:GREGORIAN
BEGIN:VTIMEZONE
TZID:America/Chicago
X-LIC-LOCATION:America/Chicago
BEGIN:DAYLIGHT
TZNAME:CDT
TZOFFSETFROM:-0600
TZOFFSETTO:-0500
DTSTART:19700308T020000
RRULE:FREQ=YEARLY;BYMONTH=3;BYDAY=2SU
END:DAYLIGHT
BEGIN:STANDARD
TZNAME:CST
TZOFFSETFROM:-0500
TZOFFSETTO:-0600
DTSTART:19701101T020000
RRULE:FREQ=YEARLY;BYMONTH=11;BYDAY=1SU
END:STANDARD
END:VTIMEZONE
BEGIN:VEVENT
UID:pupc-69364664-20250609T174000@quickscores.com
DTSTAMP:20260419T155600Z
DTSTART;TZID=America/Chicago:20250609T174000
DURATION:PT0H40M0S
SUMMARY:Gorman/Gorman vs. Phalke/Veqar
DESCRIPTION:Ddtc - Monday High Intermediate Lg. - Earlysummer25 - Paddle Up Pickleball Club
LOCATION:DDTC Court 11N
CATEGORIES:QuickScores, Pickleball Game
TRANSP:OPAQUE
BEGIN:VALARM
TRIGGER:-PT2H
ACTION:DISPLAY
DESCRIPTION:Gorman/Gorman vs. Phalke/Veqar
END:VALARM
END:VEVENT
BEGIN:VEVENT
UID:pupc-69364665-20250609T190000@quickscores.com
DTSTAMP:20260419T155600Z
DTSTART;TZID=America/Chicago:20250609T190000
DURATION:PT0H40M0S
SUMMARY:Briden/Briden vs. Gorman/Gorman
DESCRIPTION:Ddtc - Monday High Intermediate Lg. - Earlysummer25 - Paddle Up Pickleball Club
LOCATION:DDTC Court 11N
CATEGORIES:QuickScores, Pickleball Game
TRANSP:OPAQUE
BEGIN:VALARM
TRIGGER:-PT2H
ACTION:DISPLAY
DESCRIPTION:Briden/Briden vs. Gorman/Gorman
END:VALARM
END:VEVENT
BEGIN:VEVENT
UID:pupc-69364687-20250616T194000@quickscores.com
DTSTAMP:20260419T155600Z
DTSTART;TZID=America/Chicago:20250616T194000
DURATION:PT0H40M0S
SUMMARY:Gorman/Gorman vs. Thompson/Thompson
DESCRIPTION:Ddtc - Monday High Intermediate Lg. - Earlysummer25 - Paddle Up Pickleball Club
LOCATION:DDTC Court 12N
CATEGORIES:QuickScores, Pickleball Game
TRANSP:OPAQUE
BEGIN:VALARM
TRIGGER:-PT2H
ACTION:DISPLAY
DESCRIPTION:Gorman/Gorman vs. Thompson/Thompson
END:VALARM
END:VEVENT
BEGIN:VEVENT
UID:pupc-69364688-20250616T202000@quickscores.com
DTSTAMP:20260419T155600Z
DTSTART;TZID=America/Chicago:20250616T202000
DURATION:PT0H40M0S
SUMMARY:Hessler/Hessler vs. Gorman/Gorman
DESCRIPTION:Ddtc - Monday High Intermediate Lg. - Earlysummer25 - Paddle Up Pickleball Club
LOCATION:DDTC Court 12N
CATEGORIES:QuickScores, Pickleball Game
TRANSP:OPAQUE
BEGIN:VALARM
TRIGGER:-PT2H
ACTION:DISPLAY
DESCRIPTION:Hessler/Hessler vs. Gorman/Gorman
END:VALARM
END:VEVENT
BEGIN:VEVENT
UID:pupc-69364703-20250623T174000@quickscores.com
DTSTAMP:20260419T155600Z
DTSTART;TZID=America/Chicago:20250623T174000
DURATION:PT0H40M0S
SUMMARY:Ferrell/Ott vs. Gorman/Gorman
DESCRIPTION:Ddtc - Monday High Intermediate Lg. - Earlysummer25 - Paddle Up Pickleball Club
LOCATION:DDTC Court 11N
CATEGORIES:QuickScores, Pickleball Game
TRANSP:OPAQUE
BEGIN:VALARM
TRIGGER:-PT2H
ACTION:DISPLAY
DESCRIPTION:Ferrell/Ott vs. Gorman/Gorman
END:VALARM
END:VEVENT
BEGIN:VEVENT
UID:pupc-69364702-20250623T182000@quickscores.com
DTSTAMP:20260419T155600Z
DTSTART;TZID=America/Chicago:20250623T182000
DURATION:PT0H40M0S
SUMMARY:Barbeau/Courtney vs. Gorman/Gorman
DESCRIPTION:Ddtc - Monday High Intermediate Lg. - Earlysummer25 - Paddle Up Pickleball Club
LOCATION:DDTC Court 22
CATEGORIES:QuickScores, Pickleball Game
TRANSP:OPAQUE
BEGIN:VALARM
TRIGGER:-PT2H
ACTION:DISPLAY
DESCRIPTION:Barbeau/Courtney vs. Gorman/Gorman
END:VALARM
END:VEVENT
BEGIN:VEVENT
UID:pupc-69364731-20250630T190000@quickscores.com
DTSTAMP:20260419T155600Z
DTSTART;TZID=America/Chicago:20250630T190000
DURATION:PT0H40M0S
SUMMARY:Huether/Crissup2 vs. Gorman/Gorman
DESCRIPTION:Ddtc - Monday High Intermediate Lg. - Earlysummer25 - Paddle Up Pickleball Club
LOCATION:DDTC Court 22
CATEGORIES:QuickScores, Pickleball Game
TRANSP:OPAQUE
BEGIN:VALARM
TRIGGER:-PT2H
ACTION:DISPLAY
DESCRIPTION:Huether/Crissup2 vs. Gorman/Gorman
END:VALARM
END:VEVENT
BEGIN:VEVENT
UID:pupc-69364730-20250630T194000@quickscores.com
DTSTAMP:20260419T155600Z
DTSTART;TZID=America/Chicago:20250630T194000
DURATION:PT0H40M0S
SUMMARY:Gorman/Gorman vs. Ecklund/Fleming
DESCRIPTION:Ddtc - Monday High Intermediate Lg. - Earlysummer25 - Paddle Up Pickleball Club
LOCATION:DDTC Court 22
CATEGORIES:QuickScores, Pickleball Game
TRANSP:OPAQUE
BEGIN:VALARM
TRIGGER:-PT2H
ACTION:DISPLAY
DESCRIPTION:Gorman/Gorman vs. Ecklund/Fleming
END:VALARM
END:VEVENT
BEGIN:VEVENT
UID:pupc-69364747-20250707T194000@quickscores.com
DTSTAMP:20260419T155600Z
DTSTART;TZID=America/Chicago:20250707T194000
DURATION:PT0H40M0S
SUMMARY:Falconi/Tin vs. Gorman/Gorman
DESCRIPTION:Ddtc - Monday High Intermediate Lg. - Earlysummer25 - Paddle Up Pickleball Club
LOCATION:DDTC Court 11S
CATEGORIES:QuickScores, Pickleball Game
TRANSP:OPAQUE
BEGIN:VALARM
TRIGGER:-PT2H
ACTION:DISPLAY
DESCRIPTION:Falconi/Tin vs. Gorman/Gorman
END:VALARM
END:VEVENT
BEGIN:VEVENT
UID:pupc-69364745-20250707T210000@quickscores.com
DTSTAMP:20260419T155600Z
DTSTART;TZID=America/Chicago:20250707T210000
DURATION:PT0H40M0S
SUMMARY:Gorman/Gorman vs. Beachem/Hutchens
DESCRIPTION:Ddtc - Monday High Intermediate Lg. - Earlysummer25 - Paddle Up Pickleball Club
LOCATION:DDTC Court 11S
CATEGORIES:QuickScores, Pickleball Game
TRANSP:OPAQUE
BEGIN:VALARM
TRIGGER:-PT2H
ACTION:DISPLAY
DESCRIPTION:Gorman/Gorman vs. Beachem/Hutchens
END:VALARM
END:VEVENT
END:VCALENDAR
