BEGIN:VCALENDAR
VERSION:2.0
PRODID:-//QuickScores.com//BQ Dynamic iCal Creator//EN
METHOD:PUBLISH
X-WR-CALNAME:Lanter/Baalman - Ddtc - Monday High Intermediate Lg. - Earlysummer25 - Completed Leagues 2025
X-WR-CALDESC:QuickScores game calendar
X-PUBLISHED-TTL:PT24H
REFRESH-INTERVAL;VALUE=DURATION:PT24H
CALSCALE:GREGORIAN
BEGIN:VTIMEZONE
TZID:America/Chicago
X-LIC-LOCATION:America/Chicago
BEGIN:DAYLIGHT
TZNAME:CDT
TZOFFSETFROM:-0600
TZOFFSETTO:-0500
DTSTART:19700308T020000
RRULE:FREQ=YEARLY;BYMONTH=3;BYDAY=2SU
END:DAYLIGHT
BEGIN:STANDARD
TZNAME:CST
TZOFFSETFROM:-0500
TZOFFSETTO:-0600
DTSTART:19701101T020000
RRULE:FREQ=YEARLY;BYMONTH=11;BYDAY=1SU
END:STANDARD
END:VTIMEZONE
BEGIN:VEVENT
UID:pupc-69364676-20250609T202000@quickscores.com
DTSTAMP:20260420T161700Z
DTSTART;TZID=America/Chicago:20250609T202000
DURATION:PT0H40M0S
SUMMARY:Briden/Briden vs. Lanter/Baalman
DESCRIPTION:Ddtc - Monday High Intermediate Lg. - Earlysummer25 - Paddle Up Pickleball Club
LOCATION:DDTC Court 12N
CATEGORIES:QuickScores, Pickleball Game
TRANSP:OPAQUE
BEGIN:VALARM
TRIGGER:-PT2H
ACTION:DISPLAY
DESCRIPTION:Briden/Briden vs. Lanter/Baalman
END:VALARM
END:VEVENT
BEGIN:VEVENT
UID:pupc-69364677-20250609T210000@quickscores.com
DTSTAMP:20260420T161700Z
DTSTART;TZID=America/Chicago:20250609T210000
DURATION:PT0H40M0S
SUMMARY:Lanter/Baalman vs. Vandercar/Hughes
DESCRIPTION:Ddtc - Monday High Intermediate Lg. - Earlysummer25 - Paddle Up Pickleball Club
LOCATION:DDTC Court 12N
CATEGORIES:QuickScores, Pickleball Game
TRANSP:OPAQUE
BEGIN:VALARM
TRIGGER:-PT2H
ACTION:DISPLAY
DESCRIPTION:Lanter/Baalman vs. Vandercar/Hughes
END:VALARM
END:VEVENT
BEGIN:VEVENT
UID:pupc-69364684-20250616T182000@quickscores.com
DTSTAMP:20260420T161700Z
DTSTART;TZID=America/Chicago:20250616T182000
DURATION:PT0H40M0S
SUMMARY:Lanter/Baalman vs. Falconi/Tin
DESCRIPTION:Ddtc - Monday High Intermediate Lg. - Earlysummer25 - Paddle Up Pickleball Club
LOCATION:DDTC Court 12N
CATEGORIES:QuickScores, Pickleball Game
TRANSP:OPAQUE
BEGIN:VALARM
TRIGGER:-PT2H
ACTION:DISPLAY
DESCRIPTION:Lanter/Baalman vs. Falconi/Tin
END:VALARM
END:VEVENT
BEGIN:VEVENT
UID:pupc-69364701-20250616T190000@quickscores.com
DTSTAMP:20260420T161700Z
DTSTART;TZID=America/Chicago:20250616T190000
DURATION:PT0H40M0S
SUMMARY:Lanter/Baalman vs. Moolsintong/Phruttitum
DESCRIPTION:Ddtc - Monday High Intermediate Lg. - Earlysummer25 - Paddle Up Pickleball Club
LOCATION:DDTC Court 11S
CATEGORIES:QuickScores, Pickleball Game
TRANSP:OPAQUE
BEGIN:VALARM
TRIGGER:-PT2H
ACTION:DISPLAY
DESCRIPTION:Lanter/Baalman vs. Moolsintong/Phruttitum
END:VALARM
END:VEVENT
BEGIN:VEVENT
UID:pupc-69364717-20250623T202000@quickscores.com
DTSTAMP:20260420T161700Z
DTSTART;TZID=America/Chicago:20250623T202000
DURATION:PT0H40M0S
SUMMARY:Phalke/Veqar vs. Lanter/Baalman
DESCRIPTION:Ddtc - Monday High Intermediate Lg. - Earlysummer25 - Paddle Up Pickleball Club
LOCATION:DDTC Court 22
CATEGORIES:QuickScores, Pickleball Game
TRANSP:OPAQUE
BEGIN:VALARM
TRIGGER:-PT2H
ACTION:DISPLAY
DESCRIPTION:Phalke/Veqar vs. Lanter/Baalman
END:VALARM
END:VEVENT
BEGIN:VEVENT
UID:pupc-69364716-20250623T210000@quickscores.com
DTSTAMP:20260420T161700Z
DTSTART;TZID=America/Chicago:20250623T210000
DURATION:PT0H40M0S
SUMMARY:Lanter/Baalman vs. McKinney/Hughes
DESCRIPTION:Ddtc - Monday High Intermediate Lg. - Earlysummer25 - Paddle Up Pickleball Club
LOCATION:DDTC Court 12N
CATEGORIES:QuickScores, Pickleball Game
TRANSP:OPAQUE
BEGIN:VALARM
TRIGGER:-PT2H
ACTION:DISPLAY
DESCRIPTION:Lanter/Baalman vs. McKinney/Hughes
END:VALARM
END:VEVENT
BEGIN:VEVENT
UID:pupc-69364733-20250630T182000@quickscores.com
DTSTAMP:20260420T161700Z
DTSTART;TZID=America/Chicago:20250630T182000
DURATION:PT0H40M0S
SUMMARY:Lanter/Baalman vs. Lansing/Cage
DESCRIPTION:Ddtc - Monday High Intermediate Lg. - Earlysummer25 - Paddle Up Pickleball Club
LOCATION:DDTC Court 22
CATEGORIES:QuickScores, Pickleball Game
TRANSP:OPAQUE
BEGIN:VALARM
TRIGGER:-PT2H
ACTION:DISPLAY
DESCRIPTION:Lanter/Baalman vs. Lansing/Cage
END:VALARM
END:VEVENT
BEGIN:VEVENT
UID:pupc-69364739-20250630T190000@quickscores.com
DTSTAMP:20260420T161700Z
DTSTART;TZID=America/Chicago:20250630T190000
DURATION:PT0H40M0S
SUMMARY:Lanter/Baalman vs. Hatzigeorgiou/Klohmann
DESCRIPTION:Ddtc - Monday High Intermediate Lg. - Earlysummer25 - Paddle Up Pickleball Club
LOCATION:DDTC Court 11S
CATEGORIES:QuickScores, Pickleball Game
TRANSP:OPAQUE
BEGIN:VALARM
TRIGGER:-PT2H
ACTION:DISPLAY
DESCRIPTION:Lanter/Baalman vs. Hatzigeorgiou/Klohmann
END:VALARM
END:VEVENT
BEGIN:VEVENT
UID:pupc-69364760-20250707T190000@quickscores.com
DTSTAMP:20260420T161700Z
DTSTART;TZID=America/Chicago:20250707T190000
DURATION:PT0H40M0S
SUMMARY:Thompson/Thompson vs. Lanter/Baalman
DESCRIPTION:Ddtc - Monday High Intermediate Lg. - Earlysummer25 - Paddle Up Pickleball Club
LOCATION:DDTC Court 22
CATEGORIES:QuickScores, Pickleball Game
TRANSP:OPAQUE
BEGIN:VALARM
TRIGGER:-PT2H
ACTION:DISPLAY
DESCRIPTION:Thompson/Thompson vs. Lanter/Baalman
END:VALARM
END:VEVENT
BEGIN:VEVENT
UID:pupc-69364754-20250707T194000@quickscores.com
DTSTAMP:20260420T161700Z
DTSTART;TZID=America/Chicago:20250707T194000
DURATION:PT0H40M0S
SUMMARY:Phalke/Veqar vs. Lanter/Baalman
DESCRIPTION:Ddtc - Monday High Intermediate Lg. - Earlysummer25 - Paddle Up Pickleball Club
LOCATION:DDTC Court 12N
CATEGORIES:QuickScores, Pickleball Game
TRANSP:OPAQUE
BEGIN:VALARM
TRIGGER:-PT2H
ACTION:DISPLAY
DESCRIPTION:Phalke/Veqar vs. Lanter/Baalman
END:VALARM
END:VEVENT
END:VCALENDAR
