BEGIN:VCALENDAR
VERSION:2.0
PRODID:-//QuickScores.com//BQ Dynamic iCal Creator//EN
METHOD:PUBLISH
X-WR-CALNAME:Huether/Crissup2 - Ddtc - Monday High Intermediate Lg. - Earlysummer25 - Completed Leagues 2025
X-WR-CALDESC:QuickScores game calendar
X-PUBLISHED-TTL:PT24H
REFRESH-INTERVAL;VALUE=DURATION:PT24H
CALSCALE:GREGORIAN
BEGIN:VTIMEZONE
TZID:America/Chicago
X-LIC-LOCATION:America/Chicago
BEGIN:DAYLIGHT
TZNAME:CDT
TZOFFSETFROM:-0600
TZOFFSETTO:-0500
DTSTART:19700308T020000
RRULE:FREQ=YEARLY;BYMONTH=3;BYDAY=2SU
END:DAYLIGHT
BEGIN:STANDARD
TZNAME:CST
TZOFFSETFROM:-0500
TZOFFSETTO:-0600
DTSTART:19701101T020000
RRULE:FREQ=YEARLY;BYMONTH=11;BYDAY=1SU
END:STANDARD
END:VTIMEZONE
BEGIN:VEVENT
UID:pupc-69364671-20250609T174000@quickscores.com
DTSTAMP:20260419T211000Z
DTSTART;TZID=America/Chicago:20250609T174000
DURATION:PT0H40M0S
SUMMARY:Huether/Crissup2 vs. McKinney/Hughes
DESCRIPTION:Ddtc - Monday High Intermediate Lg. - Earlysummer25 - Paddle Up Pickleball Club
LOCATION:DDTC Court 11S
CATEGORIES:QuickScores, Pickleball Game
TRANSP:OPAQUE
BEGIN:VALARM
TRIGGER:-PT2H
ACTION:DISPLAY
DESCRIPTION:Huether/Crissup2 vs. McKinney/Hughes
END:VALARM
END:VEVENT
BEGIN:VEVENT
UID:pupc-69364672-20250609T182000@quickscores.com
DTSTAMP:20260419T211000Z
DTSTART;TZID=America/Chicago:20250609T182000
DURATION:PT0H40M0S
SUMMARY:Hessler/Hessler vs. Huether/Crissup2
DESCRIPTION:Ddtc - Monday High Intermediate Lg. - Earlysummer25 - Paddle Up Pickleball Club
LOCATION:DDTC Court 12N
CATEGORIES:QuickScores, Pickleball Game
TRANSP:OPAQUE
BEGIN:VALARM
TRIGGER:-PT2H
ACTION:DISPLAY
DESCRIPTION:Hessler/Hessler vs. Huether/Crissup2
END:VALARM
END:VEVENT
BEGIN:VEVENT
UID:pupc-69364692-20250616T194000@quickscores.com
DTSTAMP:20260419T211000Z
DTSTART;TZID=America/Chicago:20250616T194000
DURATION:PT0H40M0S
SUMMARY:Huether/Crissup2 vs. Moolsintong/Phruttitum
DESCRIPTION:Ddtc - Monday High Intermediate Lg. - Earlysummer25 - Paddle Up Pickleball Club
LOCATION:DDTC Court 22
CATEGORIES:QuickScores, Pickleball Game
TRANSP:OPAQUE
BEGIN:VALARM
TRIGGER:-PT2H
ACTION:DISPLAY
DESCRIPTION:Huether/Crissup2 vs. Moolsintong/Phruttitum
END:VALARM
END:VEVENT
BEGIN:VEVENT
UID:pupc-69364691-20250616T210000@quickscores.com
DTSTAMP:20260419T211000Z
DTSTART;TZID=America/Chicago:20250616T210000
DURATION:PT0H40M0S
SUMMARY:Huether/Crissup2 vs. Beachem/Hutchens
DESCRIPTION:Ddtc - Monday High Intermediate Lg. - Earlysummer25 - Paddle Up Pickleball Club
LOCATION:DDTC Court 22
CATEGORIES:QuickScores, Pickleball Game
TRANSP:OPAQUE
BEGIN:VALARM
TRIGGER:-PT2H
ACTION:DISPLAY
DESCRIPTION:Huether/Crissup2 vs. Beachem/Hutchens
END:VALARM
END:VEVENT
BEGIN:VEVENT
UID:pupc-69364712-20250623T174000@quickscores.com
DTSTAMP:20260419T211000Z
DTSTART;TZID=America/Chicago:20250623T174000
DURATION:PT0H40M0S
SUMMARY:Briden/Briden vs. Huether/Crissup2
DESCRIPTION:Ddtc - Monday High Intermediate Lg. - Earlysummer25 - Paddle Up Pickleball Club
LOCATION:DDTC Court 12N
CATEGORIES:QuickScores, Pickleball Game
TRANSP:OPAQUE
BEGIN:VALARM
TRIGGER:-PT2H
ACTION:DISPLAY
DESCRIPTION:Briden/Briden vs. Huether/Crissup2
END:VALARM
END:VEVENT
BEGIN:VEVENT
UID:pupc-69364711-20250623T182000@quickscores.com
DTSTAMP:20260419T211000Z
DTSTART;TZID=America/Chicago:20250623T182000
DURATION:PT0H40M0S
SUMMARY:Ecklund/Fleming vs. Huether/Crissup2
DESCRIPTION:Ddtc - Monday High Intermediate Lg. - Earlysummer25 - Paddle Up Pickleball Club
LOCATION:DDTC Court 12N
CATEGORIES:QuickScores, Pickleball Game
TRANSP:OPAQUE
BEGIN:VALARM
TRIGGER:-PT2H
ACTION:DISPLAY
DESCRIPTION:Ecklund/Fleming vs. Huether/Crissup2
END:VALARM
END:VEVENT
BEGIN:VEVENT
UID:pupc-69364732-20250630T174000@quickscores.com
DTSTAMP:20260419T211000Z
DTSTART;TZID=America/Chicago:20250630T174000
DURATION:PT0H40M0S
SUMMARY:Lansing/Cage vs. Huether/Crissup2
DESCRIPTION:Ddtc - Monday High Intermediate Lg. - Earlysummer25 - Paddle Up Pickleball Club
LOCATION:DDTC Court 22
CATEGORIES:QuickScores, Pickleball Game
TRANSP:OPAQUE
BEGIN:VALARM
TRIGGER:-PT2H
ACTION:DISPLAY
DESCRIPTION:Lansing/Cage vs. Huether/Crissup2
END:VALARM
END:VEVENT
BEGIN:VEVENT
UID:pupc-69364731-20250630T190000@quickscores.com
DTSTAMP:20260419T211000Z
DTSTART;TZID=America/Chicago:20250630T190000
DURATION:PT0H40M0S
SUMMARY:Huether/Crissup2 vs. Gorman/Gorman
DESCRIPTION:Ddtc - Monday High Intermediate Lg. - Earlysummer25 - Paddle Up Pickleball Club
LOCATION:DDTC Court 22
CATEGORIES:QuickScores, Pickleball Game
TRANSP:OPAQUE
BEGIN:VALARM
TRIGGER:-PT2H
ACTION:DISPLAY
DESCRIPTION:Huether/Crissup2 vs. Gorman/Gorman
END:VALARM
END:VEVENT
BEGIN:VEVENT
UID:pupc-69364752-20250707T174000@quickscores.com
DTSTAMP:20260419T211000Z
DTSTART;TZID=America/Chicago:20250707T174000
DURATION:PT0H40M0S
SUMMARY:Hutchens/Rainford vs. Huether/Crissup2
DESCRIPTION:Ddtc - Monday High Intermediate Lg. - Earlysummer25 - Paddle Up Pickleball Club
LOCATION:DDTC Court 12N
CATEGORIES:QuickScores, Pickleball Game
TRANSP:OPAQUE
BEGIN:VALARM
TRIGGER:-PT2H
ACTION:DISPLAY
DESCRIPTION:Hutchens/Rainford vs. Huether/Crissup2
END:VALARM
END:VEVENT
BEGIN:VEVENT
UID:pupc-69364749-20250707T182000@quickscores.com
DTSTAMP:20260419T211000Z
DTSTART;TZID=America/Chicago:20250707T182000
DURATION:PT0H40M0S
SUMMARY:McKinney/Hughes vs. Huether/Crissup2
DESCRIPTION:Ddtc - Monday High Intermediate Lg. - Earlysummer25 - Paddle Up Pickleball Club
LOCATION:DDTC Court 11S
CATEGORIES:QuickScores, Pickleball Game
TRANSP:OPAQUE
BEGIN:VALARM
TRIGGER:-PT2H
ACTION:DISPLAY
DESCRIPTION:McKinney/Hughes vs. Huether/Crissup2
END:VALARM
END:VEVENT
END:VCALENDAR
