BEGIN:VCALENDAR
VERSION:2.0
PRODID:-//QuickScores.com//BQ Dynamic iCal Creator//EN
METHOD:PUBLISH
X-WR-CALNAME:Moolsintong/Phruttitum - Ddtc - Monday High Intermediate Lg. - Earlysummer25 - Completed Leagues 2025
X-WR-CALDESC:QuickScores game calendar
X-PUBLISHED-TTL:PT24H
REFRESH-INTERVAL;VALUE=DURATION:PT24H
CALSCALE:GREGORIAN
BEGIN:VTIMEZONE
TZID:America/Chicago
X-LIC-LOCATION:America/Chicago
BEGIN:DAYLIGHT
TZNAME:CDT
TZOFFSETFROM:-0600
TZOFFSETTO:-0500
DTSTART:19700308T020000
RRULE:FREQ=YEARLY;BYMONTH=3;BYDAY=2SU
END:DAYLIGHT
BEGIN:STANDARD
TZNAME:CST
TZOFFSETFROM:-0500
TZOFFSETTO:-0600
DTSTART:19701101T020000
RRULE:FREQ=YEARLY;BYMONTH=11;BYDAY=1SU
END:STANDARD
END:VTIMEZONE
BEGIN:VEVENT
UID:pupc-69364674-20250609T190000@quickscores.com
DTSTAMP:20260419T174800Z
DTSTART;TZID=America/Chicago:20250609T190000
DURATION:PT0H40M0S
SUMMARY:Moolsintong/Phruttitum vs. Beachem/Hutchens
DESCRIPTION:Ddtc - Monday High Intermediate Lg. - Earlysummer25 - Paddle Up Pickleball Club
LOCATION:DDTC Court 12N
CATEGORIES:QuickScores, Pickleball Game
TRANSP:OPAQUE
BEGIN:VALARM
TRIGGER:-PT2H
ACTION:DISPLAY
DESCRIPTION:Moolsintong/Phruttitum vs. Beachem/Hutchens
END:VALARM
END:VEVENT
BEGIN:VEVENT
UID:pupc-69364675-20250609T194000@quickscores.com
DTSTAMP:20260419T174800Z
DTSTART;TZID=America/Chicago:20250609T194000
DURATION:PT0H40M0S
SUMMARY:Moolsintong/Phruttitum vs. Flinn/Turner
DESCRIPTION:Ddtc - Monday High Intermediate Lg. - Earlysummer25 - Paddle Up Pickleball Club
LOCATION:DDTC Court 12N
CATEGORIES:QuickScores, Pickleball Game
TRANSP:OPAQUE
BEGIN:VALARM
TRIGGER:-PT2H
ACTION:DISPLAY
DESCRIPTION:Moolsintong/Phruttitum vs. Flinn/Turner
END:VALARM
END:VEVENT
BEGIN:VEVENT
UID:pupc-69364701-20250616T190000@quickscores.com
DTSTAMP:20260419T174800Z
DTSTART;TZID=America/Chicago:20250616T190000
DURATION:PT0H40M0S
SUMMARY:Lanter/Baalman vs. Moolsintong/Phruttitum
DESCRIPTION:Ddtc - Monday High Intermediate Lg. - Earlysummer25 - Paddle Up Pickleball Club
LOCATION:DDTC Court 11S
CATEGORIES:QuickScores, Pickleball Game
TRANSP:OPAQUE
BEGIN:VALARM
TRIGGER:-PT2H
ACTION:DISPLAY
DESCRIPTION:Lanter/Baalman vs. Moolsintong/Phruttitum
END:VALARM
END:VEVENT
BEGIN:VEVENT
UID:pupc-69364692-20250616T194000@quickscores.com
DTSTAMP:20260419T174800Z
DTSTART;TZID=America/Chicago:20250616T194000
DURATION:PT0H40M0S
SUMMARY:Huether/Crissup2 vs. Moolsintong/Phruttitum
DESCRIPTION:Ddtc - Monday High Intermediate Lg. - Earlysummer25 - Paddle Up Pickleball Club
LOCATION:DDTC Court 22
CATEGORIES:QuickScores, Pickleball Game
TRANSP:OPAQUE
BEGIN:VALARM
TRIGGER:-PT2H
ACTION:DISPLAY
DESCRIPTION:Huether/Crissup2 vs. Moolsintong/Phruttitum
END:VALARM
END:VEVENT
BEGIN:VEVENT
UID:pupc-69364704-20250623T190000@quickscores.com
DTSTAMP:20260419T174800Z
DTSTART;TZID=America/Chicago:20250623T190000
DURATION:PT0H40M0S
SUMMARY:Kirkpatrick/Kirkpatrick vs. Moolsintong/Phruttitum
DESCRIPTION:Ddtc - Monday High Intermediate Lg. - Earlysummer25 - Paddle Up Pickleball Club
LOCATION:DDTC Court 11N
CATEGORIES:QuickScores, Pickleball Game
TRANSP:OPAQUE
BEGIN:VALARM
TRIGGER:-PT2H
ACTION:DISPLAY
DESCRIPTION:Kirkpatrick/Kirkpatrick vs. Moolsintong/Phruttitum
END:VALARM
END:VEVENT
BEGIN:VEVENT
UID:pupc-69364715-20250623T202000@quickscores.com
DTSTAMP:20260419T174800Z
DTSTART;TZID=America/Chicago:20250623T202000
DURATION:PT0H40M0S
SUMMARY:Moolsintong/Phruttitum vs. McKinney/Hughes
DESCRIPTION:Ddtc - Monday High Intermediate Lg. - Earlysummer25 - Paddle Up Pickleball Club
LOCATION:DDTC Court 12N
CATEGORIES:QuickScores, Pickleball Game
TRANSP:OPAQUE
BEGIN:VALARM
TRIGGER:-PT2H
ACTION:DISPLAY
DESCRIPTION:Moolsintong/Phruttitum vs. McKinney/Hughes
END:VALARM
END:VEVENT
BEGIN:VEVENT
UID:pupc-69364726-20250630T202000@quickscores.com
DTSTAMP:20260419T174800Z
DTSTART;TZID=America/Chicago:20250630T202000
DURATION:PT0H40M0S
SUMMARY:Beachem/Hutchens vs. Moolsintong/Phruttitum
DESCRIPTION:Ddtc - Monday High Intermediate Lg. - Earlysummer25 - Paddle Up Pickleball Club
LOCATION:DDTC Court 12N
CATEGORIES:QuickScores, Pickleball Game
TRANSP:OPAQUE
BEGIN:VALARM
TRIGGER:-PT2H
ACTION:DISPLAY
DESCRIPTION:Beachem/Hutchens vs. Moolsintong/Phruttitum
END:VALARM
END:VEVENT
BEGIN:VEVENT
UID:pupc-69364727-20250630T210000@quickscores.com
DTSTAMP:20260419T174800Z
DTSTART;TZID=America/Chicago:20250630T210000
DURATION:PT0H40M0S
SUMMARY:Moolsintong/Phruttitum vs. Hutchens/Rainford
DESCRIPTION:Ddtc - Monday High Intermediate Lg. - Earlysummer25 - Paddle Up Pickleball Club
LOCATION:DDTC Court 12N
CATEGORIES:QuickScores, Pickleball Game
TRANSP:OPAQUE
BEGIN:VALARM
TRIGGER:-PT2H
ACTION:DISPLAY
DESCRIPTION:Moolsintong/Phruttitum vs. Hutchens/Rainford
END:VALARM
END:VEVENT
BEGIN:VEVENT
UID:pupc-69364757-20250707T202000@quickscores.com
DTSTAMP:20260419T174800Z
DTSTART;TZID=America/Chicago:20250707T202000
DURATION:PT0H40M0S
SUMMARY:Moolsintong/Phruttitum vs. Lansing/Cage
DESCRIPTION:Ddtc - Monday High Intermediate Lg. - Earlysummer25 - Paddle Up Pickleball Club
LOCATION:DDTC Court 22
CATEGORIES:QuickScores, Pickleball Game
TRANSP:OPAQUE
BEGIN:VALARM
TRIGGER:-PT2H
ACTION:DISPLAY
DESCRIPTION:Moolsintong/Phruttitum vs. Lansing/Cage
END:VALARM
END:VEVENT
BEGIN:VEVENT
UID:pupc-69364758-20250707T210000@quickscores.com
DTSTAMP:20260419T174800Z
DTSTART;TZID=America/Chicago:20250707T210000
DURATION:PT0H40M0S
SUMMARY:Briden/Briden vs. Moolsintong/Phruttitum
DESCRIPTION:Ddtc - Monday High Intermediate Lg. - Earlysummer25 - Paddle Up Pickleball Club
LOCATION:DDTC Court 22
CATEGORIES:QuickScores, Pickleball Game
TRANSP:OPAQUE
BEGIN:VALARM
TRIGGER:-PT2H
ACTION:DISPLAY
DESCRIPTION:Briden/Briden vs. Moolsintong/Phruttitum
END:VALARM
END:VEVENT
END:VCALENDAR
