BEGIN:VCALENDAR
VERSION:2.0
PRODID:-//QuickScores.com//BQ Dynamic iCal Creator//EN
METHOD:PUBLISH
X-WR-CALNAME:Merrifield/Scognamiglio - Pupc Tuesday Night High Int. League - Earlysummer25 - Completed Leagues 2025
X-WR-CALDESC:QuickScores game calendar
X-PUBLISHED-TTL:PT24H
REFRESH-INTERVAL;VALUE=DURATION:PT24H
CALSCALE:GREGORIAN
BEGIN:VTIMEZONE
TZID:America/Chicago
X-LIC-LOCATION:America/Chicago
BEGIN:DAYLIGHT
TZNAME:CDT
TZOFFSETFROM:-0600
TZOFFSETTO:-0500
DTSTART:19700308T020000
RRULE:FREQ=YEARLY;BYMONTH=3;BYDAY=2SU
END:DAYLIGHT
BEGIN:STANDARD
TZNAME:CST
TZOFFSETFROM:-0500
TZOFFSETTO:-0600
DTSTART:19701101T020000
RRULE:FREQ=YEARLY;BYMONTH=11;BYDAY=1SU
END:STANDARD
END:VTIMEZONE
BEGIN:VEVENT
UID:pupc-69282855-20250603T180000@quickscores.com
DTSTAMP:20260425T213200Z
DTSTART;TZID=America/Chicago:20250603T180000
DURATION:PT0H40M0S
SUMMARY:Sigman/Cornett vs. Merrifield/Scognamiglio
DESCRIPTION:Pupc Tuesday Night High Int. League - Earlysummer25 - Paddle Up Pickleball Club
LOCATION:Court 7
CATEGORIES:QuickScores, Pickleball Game
TRANSP:OPAQUE
BEGIN:VALARM
TRIGGER:-PT2H
ACTION:DISPLAY
DESCRIPTION:Sigman/Cornett vs. Merrifield/Scognamiglio
END:VALARM
END:VEVENT
BEGIN:VEVENT
UID:pupc-69282856-20250603T184000@quickscores.com
DTSTAMP:20260425T213200Z
DTSTART;TZID=America/Chicago:20250603T184000
DURATION:PT0H40M0S
SUMMARY:Sims/Bischof vs. Merrifield/Scognamiglio
DESCRIPTION:Pupc Tuesday Night High Int. League - Earlysummer25 - Paddle Up Pickleball Club
LOCATION:Court 7
CATEGORIES:QuickScores, Pickleball Game
TRANSP:OPAQUE
BEGIN:VALARM
TRIGGER:-PT2H
ACTION:DISPLAY
DESCRIPTION:Sims/Bischof vs. Merrifield/Scognamiglio
END:VALARM
END:VEVENT
BEGIN:VEVENT
UID:pupc-69282859-20250610T180000@quickscores.com
DTSTAMP:20260425T213200Z
DTSTART;TZID=America/Chicago:20250610T180000
DURATION:PT0H40M0S
SUMMARY:Sigman/Luke vs. Merrifield/Scognamiglio
DESCRIPTION:Pupc Tuesday Night High Int. League - Earlysummer25 - Paddle Up Pickleball Club
LOCATION:Court 7
CATEGORIES:QuickScores, Pickleball Game
TRANSP:OPAQUE
BEGIN:VALARM
TRIGGER:-PT2H
ACTION:DISPLAY
DESCRIPTION:Sigman/Luke vs. Merrifield/Scognamiglio
END:VALARM
END:VEVENT
BEGIN:VEVENT
UID:pupc-69282860-20250610T184000@quickscores.com
DTSTAMP:20260425T213200Z
DTSTART;TZID=America/Chicago:20250610T184000
DURATION:PT0H40M0S
SUMMARY:Merrifield/Scognamiglio vs. Durham/Rosenberger
DESCRIPTION:Pupc Tuesday Night High Int. League - Earlysummer25 - Paddle Up Pickleball Club
LOCATION:Court 7
CATEGORIES:QuickScores, Pickleball Game
TRANSP:OPAQUE
BEGIN:VALARM
TRIGGER:-PT2H
ACTION:DISPLAY
DESCRIPTION:Merrifield/Scognamiglio vs. Durham/Rosenberger
END:VALARM
END:VEVENT
BEGIN:VEVENT
UID:pupc-69282870-20250617T180000@quickscores.com
DTSTAMP:20260425T213200Z
DTSTART;TZID=America/Chicago:20250617T180000
DURATION:PT0H40M0S
SUMMARY:Merrifield/Scognamiglio vs. Bodmer/O'Keefe
DESCRIPTION:Pupc Tuesday Night High Int. League - Earlysummer25 - Paddle Up Pickleball Club
LOCATION:Court 8
CATEGORIES:QuickScores, Pickleball Game
TRANSP:OPAQUE
BEGIN:VALARM
TRIGGER:-PT2H
ACTION:DISPLAY
DESCRIPTION:Merrifield/Scognamiglio vs. Bodmer/O'Keefe
END:VALARM
END:VEVENT
BEGIN:VEVENT
UID:pupc-69282869-20250617T192000@quickscores.com
DTSTAMP:20260425T213200Z
DTSTART;TZID=America/Chicago:20250617T192000
DURATION:PT0H40M0S
SUMMARY:Girwood/Morgan vs. Merrifield/Scognamiglio
DESCRIPTION:Pupc Tuesday Night High Int. League - Earlysummer25 - Paddle Up Pickleball Club
LOCATION:Court 8
CATEGORIES:QuickScores, Pickleball Game
TRANSP:OPAQUE
BEGIN:VALARM
TRIGGER:-PT2H
ACTION:DISPLAY
DESCRIPTION:Girwood/Morgan vs. Merrifield/Scognamiglio
END:VALARM
END:VEVENT
BEGIN:VEVENT
UID:pupc-69282876-20250624T172000@quickscores.com
DTSTAMP:20260425T213200Z
DTSTART;TZID=America/Chicago:20250624T172000
DURATION:PT0H40M0S
SUMMARY:Merrifield/Scognamiglio vs. Sigman/Cornett
DESCRIPTION:Pupc Tuesday Night High Int. League - Earlysummer25 - Paddle Up Pickleball Club
LOCATION:Court 7
CATEGORIES:QuickScores, Pickleball Game
TRANSP:OPAQUE
BEGIN:VALARM
TRIGGER:-PT2H
ACTION:DISPLAY
DESCRIPTION:Merrifield/Scognamiglio vs. Sigman/Cornett
END:VALARM
END:VEVENT
BEGIN:VEVENT
UID:pupc-69282877-20250624T180000@quickscores.com
DTSTAMP:20260425T213200Z
DTSTART;TZID=America/Chicago:20250624T180000
DURATION:PT0H40M0S
SUMMARY:Merrifield/Scognamiglio vs. Sims/Bischof
DESCRIPTION:Pupc Tuesday Night High Int. League - Earlysummer25 - Paddle Up Pickleball Club
LOCATION:Court 7
CATEGORIES:QuickScores, Pickleball Game
TRANSP:OPAQUE
BEGIN:VALARM
TRIGGER:-PT2H
ACTION:DISPLAY
DESCRIPTION:Merrifield/Scognamiglio vs. Sims/Bischof
END:VALARM
END:VEVENT
BEGIN:VEVENT
UID:pupc-69282881-20250701T172000@quickscores.com
DTSTAMP:20260425T213200Z
DTSTART;TZID=America/Chicago:20250701T172000
DURATION:PT0H40M0S
SUMMARY:Durham/Rosenberger vs. Merrifield/Scognamiglio
DESCRIPTION:Pupc Tuesday Night High Int. League - Earlysummer25 - Paddle Up Pickleball Club
LOCATION:Court 7
CATEGORIES:QuickScores, Pickleball Game
TRANSP:OPAQUE
BEGIN:VALARM
TRIGGER:-PT2H
ACTION:DISPLAY
DESCRIPTION:Durham/Rosenberger vs. Merrifield/Scognamiglio
END:VALARM
END:VEVENT
BEGIN:VEVENT
UID:pupc-69282880-20250701T180000@quickscores.com
DTSTAMP:20260425T213200Z
DTSTART;TZID=America/Chicago:20250701T180000
DURATION:PT0H40M0S
SUMMARY:Merrifield/Scognamiglio vs. Sigman/Luke
DESCRIPTION:Pupc Tuesday Night High Int. League - Earlysummer25 - Paddle Up Pickleball Club
LOCATION:Court 8
CATEGORIES:QuickScores, Pickleball Game
TRANSP:OPAQUE
BEGIN:VALARM
TRIGGER:-PT2H
ACTION:DISPLAY
DESCRIPTION:Merrifield/Scognamiglio vs. Sigman/Luke
END:VALARM
END:VEVENT
BEGIN:VEVENT
UID:pupc-69691777-20250708T180000@quickscores.com
DTSTAMP:20260425T213200Z
DTSTART;TZID=America/Chicago:20250708T180000
DURATION:PT0H30M0S
SUMMARY:Merrifield/Scognamiglio vs. Sims/Bischof
DESCRIPTION:Pupc Tuesday Night High Int. League - Earlysummer25 - Paddle Up Pickleball Club
LOCATION:Court 5
CATEGORIES:QuickScores, Pickleball Game
TRANSP:OPAQUE
BEGIN:VALARM
TRIGGER:-PT2H
ACTION:DISPLAY
DESCRIPTION:Merrifield/Scognamiglio vs. Sims/Bischof
END:VALARM
END:VEVENT
BEGIN:VEVENT
UID:pupc-69691780-20250708T190000@quickscores.com
DTSTAMP:20260425T213200Z
DTSTART;TZID=America/Chicago:20250708T190000
DURATION:PT0H30M0S
SUMMARY:Merrifield/Scognamiglio vs. Sigman/Cornett
DESCRIPTION:Pupc Tuesday Night High Int. League - Earlysummer25 - Paddle Up Pickleball Club
LOCATION:Court 5
CATEGORIES:QuickScores, Pickleball Game
TRANSP:OPAQUE
BEGIN:VALARM
TRIGGER:-PT2H
ACTION:DISPLAY
DESCRIPTION:Merrifield/Scognamiglio vs. Sigman/Cornett
END:VALARM
END:VEVENT
END:VCALENDAR
