BEGIN:VCALENDAR
VERSION:2.0
PRODID:-//QuickScores.com//BQ Dynamic iCal Creator//EN
METHOD:PUBLISH
X-WR-CALNAME:Jack Geniesse - Memorial Day Tournament Singles - 5/30 (6:30pm) - Completed Tournaments 2024-25
X-WR-CALDESC:QuickScores game calendar
X-PUBLISHED-TTL:PT24H
REFRESH-INTERVAL;VALUE=DURATION:PT24H
CALSCALE:GREGORIAN
BEGIN:VTIMEZONE
TZID:America/Chicago
X-LIC-LOCATION:America/Chicago
BEGIN:DAYLIGHT
TZNAME:CDT
TZOFFSETFROM:-0600
TZOFFSETTO:-0500
DTSTART:19700308T020000
RRULE:FREQ=YEARLY;BYMONTH=3;BYDAY=2SU
END:DAYLIGHT
BEGIN:STANDARD
TZNAME:CST
TZOFFSETFROM:-0500
TZOFFSETTO:-0600
DTSTART:19701101T020000
RRULE:FREQ=YEARLY;BYMONTH=11;BYDAY=1SU
END:STANDARD
END:VTIMEZONE
BEGIN:VEVENT
UID:pupc-69331091-20250530T184000@quickscores.com
DTSTAMP:20260425T113400Z
DTSTART;TZID=America/Chicago:20250530T184000
DURATION:PT0H20M0S
SUMMARY:Kom Divanbeigi vs. Jack Geniesse
DESCRIPTION:Memorial Day Tournament Singles - 5/30 (6:30pm) - Paddle Up Pickleball Club
LOCATION:Court 5
CATEGORIES:QuickScores, Pickleball Game
TRANSP:OPAQUE
BEGIN:VALARM
TRIGGER:-PT2H
ACTION:DISPLAY
DESCRIPTION:Kom Divanbeigi vs. Jack Geniesse
END:VALARM
END:VEVENT
BEGIN:VEVENT
UID:pupc-69331097-20250530T190000@quickscores.com
DTSTAMP:20260425T113400Z
DTSTART;TZID=America/Chicago:20250530T190000
DURATION:PT0H20M0S
SUMMARY:Jack Geniesse vs. Jon Harris
DESCRIPTION:Memorial Day Tournament Singles - 5/30 (6:30pm) - Paddle Up Pickleball Club
LOCATION:Court 8
CATEGORIES:QuickScores, Pickleball Game
TRANSP:OPAQUE
BEGIN:VALARM
TRIGGER:-PT2H
ACTION:DISPLAY
DESCRIPTION:Jack Geniesse vs. Jon Harris
END:VALARM
END:VEVENT
BEGIN:VEVENT
UID:pupc-69331102-20250530T192000@quickscores.com
DTSTAMP:20260425T113400Z
DTSTART;TZID=America/Chicago:20250530T192000
DURATION:PT0H20M0S
SUMMARY:Jon Richert vs. Jack Geniesse
DESCRIPTION:Memorial Day Tournament Singles - 5/30 (6:30pm) - Paddle Up Pickleball Club
LOCATION:Court 5
CATEGORIES:QuickScores, Pickleball Game
TRANSP:OPAQUE
BEGIN:VALARM
TRIGGER:-PT2H
ACTION:DISPLAY
DESCRIPTION:Jon Richert vs. Jack Geniesse
END:VALARM
END:VEVENT
BEGIN:VEVENT
UID:pupc-69331108-20250530T194000@quickscores.com
DTSTAMP:20260425T113400Z
DTSTART;TZID=America/Chicago:20250530T194000
DURATION:PT0H20M0S
SUMMARY:Jack Geniesse vs. Chase Blickhan
DESCRIPTION:Memorial Day Tournament Singles - 5/30 (6:30pm) - Paddle Up Pickleball Club
LOCATION:Court 7
CATEGORIES:QuickScores, Pickleball Game
TRANSP:OPAQUE
BEGIN:VALARM
TRIGGER:-PT2H
ACTION:DISPLAY
DESCRIPTION:Jack Geniesse vs. Chase Blickhan
END:VALARM
END:VEVENT
BEGIN:VEVENT
UID:pupc-69331113-20250530T200000@quickscores.com
DTSTAMP:20260425T113400Z
DTSTART;TZID=America/Chicago:20250530T200000
DURATION:PT0H20M0S
SUMMARY:Jack Geniesse vs. Matthew Trokey
DESCRIPTION:Memorial Day Tournament Singles - 5/30 (6:30pm) - Paddle Up Pickleball Club
LOCATION:Court 2
CATEGORIES:QuickScores, Pickleball Game
TRANSP:OPAQUE
BEGIN:VALARM
TRIGGER:-PT2H
ACTION:DISPLAY
DESCRIPTION:Jack Geniesse vs. Matthew Trokey
END:VALARM
END:VEVENT
END:VCALENDAR
