BEGIN:VCALENDAR
VERSION:2.0
PRODID:-//QuickScores.com//BQ Dynamic iCal Creator//EN
METHOD:PUBLISH
X-WR-CALNAME:Curtis Stout - Memorial Day Tournament Singles - 5/30 (6:30pm) - Completed Tournaments 2024-25
X-WR-CALDESC:QuickScores game calendar
X-PUBLISHED-TTL:PT24H
REFRESH-INTERVAL;VALUE=DURATION:PT24H
CALSCALE:GREGORIAN
BEGIN:VTIMEZONE
TZID:America/Chicago
X-LIC-LOCATION:America/Chicago
BEGIN:DAYLIGHT
TZNAME:CDT
TZOFFSETFROM:-0600
TZOFFSETTO:-0500
DTSTART:19700308T020000
RRULE:FREQ=YEARLY;BYMONTH=3;BYDAY=2SU
END:DAYLIGHT
BEGIN:STANDARD
TZNAME:CST
TZOFFSETFROM:-0500
TZOFFSETTO:-0600
DTSTART:19701101T020000
RRULE:FREQ=YEARLY;BYMONTH=11;BYDAY=1SU
END:STANDARD
END:VTIMEZONE
BEGIN:VEVENT
UID:pupc-69331086-20250530T184000@quickscores.com
DTSTAMP:20260424T063800Z
DTSTART;TZID=America/Chicago:20250530T184000
DURATION:PT0H20M0S
SUMMARY:Curtis Stout vs. Keaton Harris
DESCRIPTION:Memorial Day Tournament Singles - 5/30 (6:30pm) - Paddle Up Pickleball Club
LOCATION:Court 9
CATEGORIES:QuickScores, Pickleball Game
TRANSP:OPAQUE
BEGIN:VALARM
TRIGGER:-PT2H
ACTION:DISPLAY
DESCRIPTION:Curtis Stout vs. Keaton Harris
END:VALARM
END:VEVENT
BEGIN:VEVENT
UID:pupc-69331093-20250530T190000@quickscores.com
DTSTAMP:20260424T063800Z
DTSTART;TZID=America/Chicago:20250530T190000
DURATION:PT0H20M0S
SUMMARY:Brandon Pollard vs. Curtis Stout
DESCRIPTION:Memorial Day Tournament Singles - 5/30 (6:30pm) - Paddle Up Pickleball Club
LOCATION:Court 9
CATEGORIES:QuickScores, Pickleball Game
TRANSP:OPAQUE
BEGIN:VALARM
TRIGGER:-PT2H
ACTION:DISPLAY
DESCRIPTION:Brandon Pollard vs. Curtis Stout
END:VALARM
END:VEVENT
BEGIN:VEVENT
UID:pupc-69331117-20250530T194000@quickscores.com
DTSTAMP:20260424T063800Z
DTSTART;TZID=America/Chicago:20250530T194000
DURATION:PT0H20M0S
SUMMARY:Curtis Stout vs. Mike Parker
DESCRIPTION:Memorial Day Tournament Singles - 5/30 (6:30pm) - Paddle Up Pickleball Club
LOCATION:Court 2
CATEGORIES:QuickScores, Pickleball Game
TRANSP:OPAQUE
BEGIN:VALARM
TRIGGER:-PT2H
ACTION:DISPLAY
DESCRIPTION:Curtis Stout vs. Mike Parker
END:VALARM
END:VEVENT
BEGIN:VEVENT
UID:pupc-69331106-20250530T200000@quickscores.com
DTSTAMP:20260424T063800Z
DTSTART;TZID=America/Chicago:20250530T200000
DURATION:PT0H20M0S
SUMMARY:Kayleigh Trokey vs. Curtis Stout
DESCRIPTION:Memorial Day Tournament Singles - 5/30 (6:30pm) - Paddle Up Pickleball Club
LOCATION:Court 8
CATEGORIES:QuickScores, Pickleball Game
TRANSP:OPAQUE
BEGIN:VALARM
TRIGGER:-PT2H
ACTION:DISPLAY
DESCRIPTION:Kayleigh Trokey vs. Curtis Stout
END:VALARM
END:VEVENT
BEGIN:VEVENT
UID:pupc-69331110-20250530T202000@quickscores.com
DTSTAMP:20260424T063800Z
DTSTART;TZID=America/Chicago:20250530T202000
DURATION:PT0H20M0S
SUMMARY:Curtis Stout vs. Nicholas Martin
DESCRIPTION:Memorial Day Tournament Singles - 5/30 (6:30pm) - Paddle Up Pickleball Club
LOCATION:Court 4
CATEGORIES:QuickScores, Pickleball Game
TRANSP:OPAQUE
BEGIN:VALARM
TRIGGER:-PT2H
ACTION:DISPLAY
DESCRIPTION:Curtis Stout vs. Nicholas Martin
END:VALARM
END:VEVENT
END:VCALENDAR
