BEGIN:VCALENDAR
VERSION:2.0
PRODID:-//QuickScores.com//BQ Dynamic iCal Creator//EN
METHOD:PUBLISH
X-WR-CALNAME:Kaiser/Kaiser - Ddtc Monday Low Intermediate Lg. - Spring 25 - Completed Leagues 2025
X-WR-CALDESC:QuickScores game calendar
X-PUBLISHED-TTL:PT24H
REFRESH-INTERVAL;VALUE=DURATION:PT24H
CALSCALE:GREGORIAN
BEGIN:VTIMEZONE
TZID:America/Chicago
X-LIC-LOCATION:America/Chicago
BEGIN:DAYLIGHT
TZNAME:CDT
TZOFFSETFROM:-0600
TZOFFSETTO:-0500
DTSTART:19700308T020000
RRULE:FREQ=YEARLY;BYMONTH=3;BYDAY=2SU
END:DAYLIGHT
BEGIN:STANDARD
TZNAME:CST
TZOFFSETFROM:-0500
TZOFFSETTO:-0600
DTSTART:19701101T020000
RRULE:FREQ=YEARLY;BYMONTH=11;BYDAY=1SU
END:STANDARD
END:VTIMEZONE
BEGIN:VEVENT
UID:pupc-68130055-20250407T192000@quickscores.com
DTSTAMP:20260425T134100Z
DTSTART;TZID=America/Chicago:20250407T192000
DURATION:PT0H40M0S
SUMMARY:Kaiser/Kaiser vs. Huether/Crissup
DESCRIPTION:Ddtc Monday Low Intermediate Lg. - Spring 25 - Paddle Up Pickleball Club
LOCATION:DDTC Court 13S
CATEGORIES:QuickScores, Pickleball Game
TRANSP:OPAQUE
BEGIN:VALARM
TRIGGER:-PT2H
ACTION:DISPLAY
DESCRIPTION:Kaiser/Kaiser vs. Huether/Crissup
END:VALARM
END:VEVENT
BEGIN:VEVENT
UID:pupc-68130066-20250407T200000@quickscores.com
DTSTAMP:20260425T134100Z
DTSTART;TZID=America/Chicago:20250407T200000
DURATION:PT0H40M0S
SUMMARY:Aldrich/Rasche vs. Kaiser/Kaiser
DESCRIPTION:Ddtc Monday Low Intermediate Lg. - Spring 25 - Paddle Up Pickleball Club
LOCATION:DDTC Court 14S
CATEGORIES:QuickScores, Pickleball Game
TRANSP:OPAQUE
BEGIN:VALARM
TRIGGER:-PT2H
ACTION:DISPLAY
DESCRIPTION:Aldrich/Rasche vs. Kaiser/Kaiser
END:VALARM
END:VEVENT
BEGIN:VEVENT
UID:pupc-68130070-20250414T202000@quickscores.com
DTSTAMP:20260425T134100Z
DTSTART;TZID=America/Chicago:20250414T202000
DURATION:PT0H40M0S
SUMMARY:Karstens/Moody vs. Kaiser/Kaiser
DESCRIPTION:Ddtc Monday Low Intermediate Lg. - Spring 25 - Paddle Up Pickleball Club
LOCATION:DDTC Court 14S
CATEGORIES:QuickScores, Pickleball Game
TRANSP:OPAQUE
BEGIN:VALARM
TRIGGER:-PT2H
ACTION:DISPLAY
DESCRIPTION:Karstens/Moody vs. Kaiser/Kaiser
END:VALARM
END:VEVENT
BEGIN:VEVENT
UID:pupc-68130083-20250414T210000@quickscores.com
DTSTAMP:20260425T134100Z
DTSTART;TZID=America/Chicago:20250414T210000
DURATION:PT0H40M0S
SUMMARY:Kaiser/Kaiser vs. Thuet/Wientge
DESCRIPTION:Ddtc Monday Low Intermediate Lg. - Spring 25 - Paddle Up Pickleball Club
LOCATION:DDTC Court 14N
CATEGORIES:QuickScores, Pickleball Game
TRANSP:OPAQUE
BEGIN:VALARM
TRIGGER:-PT2H
ACTION:DISPLAY
DESCRIPTION:Kaiser/Kaiser vs. Thuet/Wientge
END:VALARM
END:VEVENT
BEGIN:VEVENT
UID:pupc-68551762-20250421T200000@quickscores.com
DTSTAMP:20260425T134100Z
DTSTART;TZID=America/Chicago:20250421T200000
DURATION:PT0H40M0S
SUMMARY:Caldwell/Wientge2 vs. Kaiser/Kaiser
DESCRIPTION:Ddtc Monday Low Intermediate Lg. - Spring 25 - Paddle Up Pickleball Club
LOCATION:DDTC Court 11S
CATEGORIES:QuickScores, Pickleball Game
TRANSP:OPAQUE
BEGIN:VALARM
TRIGGER:-PT2H
ACTION:DISPLAY
DESCRIPTION:Caldwell/Wientge2 vs. Kaiser/Kaiser
END:VALARM
END:VEVENT
BEGIN:VEVENT
UID:pupc-68308670-20250421T204000@quickscores.com
DTSTAMP:20260425T134100Z
DTSTART;TZID=America/Chicago:20250421T204000
DURATION:PT0H40M0S
SUMMARY:Hutchens/Rainford vs. Kaiser/Kaiser
DESCRIPTION:Ddtc Monday Low Intermediate Lg. - Spring 25 - Paddle Up Pickleball Club
LOCATION:DDTC Court 19
CATEGORIES:QuickScores, Pickleball Game
TRANSP:OPAQUE
BEGIN:VALARM
TRIGGER:-PT2H
ACTION:DISPLAY
DESCRIPTION:Hutchens/Rainford vs. Kaiser/Kaiser
END:VALARM
END:VEVENT
BEGIN:VEVENT
UID:pupc-68130112-20250428T200000@quickscores.com
DTSTAMP:20260425T134100Z
DTSTART;TZID=America/Chicago:20250428T200000
DURATION:PT0H40M0S
SUMMARY:Constance/Juras vs. Kaiser/Kaiser
DESCRIPTION:Ddtc Monday Low Intermediate Lg. - Spring 25 - Paddle Up Pickleball Club
LOCATION:DDTC Court 14S
CATEGORIES:QuickScores, Pickleball Game
TRANSP:OPAQUE
BEGIN:VALARM
TRIGGER:-PT2H
ACTION:DISPLAY
DESCRIPTION:Constance/Juras vs. Kaiser/Kaiser
END:VALARM
END:VEVENT
BEGIN:VEVENT
UID:pupc-68308671-20250428T204000@quickscores.com
DTSTAMP:20260425T134100Z
DTSTART;TZID=America/Chicago:20250428T204000
DURATION:PT0H40M0S
SUMMARY:Parr/George vs. Kaiser/Kaiser
DESCRIPTION:Ddtc Monday Low Intermediate Lg. - Spring 25 - Paddle Up Pickleball Club
LOCATION:DDTC Court 19
CATEGORIES:QuickScores, Pickleball Game
TRANSP:OPAQUE
BEGIN:VALARM
TRIGGER:-PT2H
ACTION:DISPLAY
DESCRIPTION:Parr/George vs. Kaiser/Kaiser
END:VALARM
END:VEVENT
BEGIN:VEVENT
UID:pupc-68130135-20250505T192000@quickscores.com
DTSTAMP:20260425T134100Z
DTSTART;TZID=America/Chicago:20250505T192000
DURATION:PT0H40M0S
SUMMARY:Harman/Fisher vs. Kaiser/Kaiser
DESCRIPTION:Ddtc Monday Low Intermediate Lg. - Spring 25 - Paddle Up Pickleball Club
LOCATION:DDTC Court 14N
CATEGORIES:QuickScores, Pickleball Game
TRANSP:OPAQUE
BEGIN:VALARM
TRIGGER:-PT2H
ACTION:DISPLAY
DESCRIPTION:Harman/Fisher vs. Kaiser/Kaiser
END:VALARM
END:VEVENT
BEGIN:VEVENT
UID:pupc-68551764-20250505T200000@quickscores.com
DTSTAMP:20260425T134100Z
DTSTART;TZID=America/Chicago:20250505T200000
DURATION:PT0H40M0S
SUMMARY:Harper/Harper vs. Kaiser/Kaiser
DESCRIPTION:Ddtc Monday Low Intermediate Lg. - Spring 25 - Paddle Up Pickleball Club
LOCATION:DDTC Court 11S
CATEGORIES:QuickScores, Pickleball Game
TRANSP:OPAQUE
BEGIN:VALARM
TRIGGER:-PT2H
ACTION:DISPLAY
DESCRIPTION:Harper/Harper vs. Kaiser/Kaiser
END:VALARM
END:VEVENT
BEGIN:VEVENT
UID:pupc-68945325-20250602T193000@quickscores.com
DTSTAMP:20260425T134100Z
DTSTART;TZID=America/Chicago:20250602T193000
DURATION:PT0H30M0S
SUMMARY:Lanter/Lanter vs. Kaiser/Kaiser
DESCRIPTION:Ddtc Monday Low Intermediate Lg. - Spring 25 - Paddle Up Pickleball Club
LOCATION:DDTC Court 13S
CATEGORIES:QuickScores, Pickleball Game
TRANSP:OPAQUE
BEGIN:VALARM
TRIGGER:-PT2H
ACTION:DISPLAY
DESCRIPTION:Lanter/Lanter vs. Kaiser/Kaiser
END:VALARM
END:VEVENT
END:VCALENDAR
