BEGIN:VCALENDAR
VERSION:2.0
PRODID:-//QuickScores.com//BQ Dynamic iCal Creator//EN
METHOD:PUBLISH
X-WR-CALNAME:Kellerman/Dilger - Ddtc Monday Low Intermediate Lg. - Spring 25 - Completed Leagues 2025
X-WR-CALDESC:QuickScores game calendar
X-PUBLISHED-TTL:PT24H
REFRESH-INTERVAL;VALUE=DURATION:PT24H
CALSCALE:GREGORIAN
BEGIN:VTIMEZONE
TZID:America/Chicago
X-LIC-LOCATION:America/Chicago
BEGIN:DAYLIGHT
TZNAME:CDT
TZOFFSETFROM:-0600
TZOFFSETTO:-0500
DTSTART:19700308T020000
RRULE:FREQ=YEARLY;BYMONTH=3;BYDAY=2SU
END:DAYLIGHT
BEGIN:STANDARD
TZNAME:CST
TZOFFSETFROM:-0500
TZOFFSETTO:-0600
DTSTART:19701101T020000
RRULE:FREQ=YEARLY;BYMONTH=11;BYDAY=1SU
END:STANDARD
END:VTIMEZONE
BEGIN:VEVENT
UID:pupc-68130052-20250407T180000@quickscores.com
DTSTAMP:20260422T173900Z
DTSTART;TZID=America/Chicago:20250407T180000
DURATION:PT0H40M0S
SUMMARY:Schilly/Boschert vs. Kellerman/Dilger
DESCRIPTION:Ddtc Monday Low Intermediate Lg. - Spring 25 - Paddle Up Pickleball Club
LOCATION:DDTC Court 13N
CATEGORIES:QuickScores, Pickleball Game
TRANSP:OPAQUE
BEGIN:VALARM
TRIGGER:-PT2H
ACTION:DISPLAY
DESCRIPTION:Schilly/Boschert vs. Kellerman/Dilger
END:VALARM
END:VEVENT
BEGIN:VEVENT
UID:pupc-68130051-20250407T184000@quickscores.com
DTSTAMP:20260422T173900Z
DTSTART;TZID=America/Chicago:20250407T184000
DURATION:PT0H40M0S
SUMMARY:Kellerman/Dilger vs. Parr/George
DESCRIPTION:Ddtc Monday Low Intermediate Lg. - Spring 25 - Paddle Up Pickleball Club
LOCATION:DDTC Court 13N
CATEGORIES:QuickScores, Pickleball Game
TRANSP:OPAQUE
BEGIN:VALARM
TRIGGER:-PT2H
ACTION:DISPLAY
DESCRIPTION:Kellerman/Dilger vs. Parr/George
END:VALARM
END:VEVENT
BEGIN:VEVENT
UID:pupc-68130075-20250414T190000@quickscores.com
DTSTAMP:20260422T173900Z
DTSTART;TZID=America/Chicago:20250414T190000
DURATION:PT0H40M0S
SUMMARY:Murphy/Lampe vs. Kellerman/Dilger
DESCRIPTION:Ddtc Monday Low Intermediate Lg. - Spring 25 - Paddle Up Pickleball Club
LOCATION:DDTC Court 13N
CATEGORIES:QuickScores, Pickleball Game
TRANSP:OPAQUE
BEGIN:VALARM
TRIGGER:-PT2H
ACTION:DISPLAY
DESCRIPTION:Murphy/Lampe vs. Kellerman/Dilger
END:VALARM
END:VEVENT
BEGIN:VEVENT
UID:pupc-68130074-20250414T202000@quickscores.com
DTSTAMP:20260422T173900Z
DTSTART;TZID=America/Chicago:20250414T202000
DURATION:PT0H40M0S
SUMMARY:Kellerman/Dilger vs. Constance/Juras
DESCRIPTION:Ddtc Monday Low Intermediate Lg. - Spring 25 - Paddle Up Pickleball Club
LOCATION:DDTC Court 13N
CATEGORIES:QuickScores, Pickleball Game
TRANSP:OPAQUE
BEGIN:VALARM
TRIGGER:-PT2H
ACTION:DISPLAY
DESCRIPTION:Kellerman/Dilger vs. Constance/Juras
END:VALARM
END:VEVENT
BEGIN:VEVENT
UID:pupc-68130090-20250421T180000@quickscores.com
DTSTAMP:20260422T173900Z
DTSTART;TZID=America/Chicago:20250421T180000
DURATION:PT0H40M0S
SUMMARY:Cook/Schulte vs. Kellerman/Dilger
DESCRIPTION:Ddtc Monday Low Intermediate Lg. - Spring 25 - Paddle Up Pickleball Club
LOCATION:DDTC Court 14S
CATEGORIES:QuickScores, Pickleball Game
TRANSP:OPAQUE
BEGIN:VALARM
TRIGGER:-PT2H
ACTION:DISPLAY
DESCRIPTION:Cook/Schulte vs. Kellerman/Dilger
END:VALARM
END:VEVENT
BEGIN:VEVENT
UID:pupc-68130089-20250421T184000@quickscores.com
DTSTAMP:20260422T173900Z
DTSTART;TZID=America/Chicago:20250421T184000
DURATION:PT0H40M0S
SUMMARY:Williams/Minch vs. Kellerman/Dilger
DESCRIPTION:Ddtc Monday Low Intermediate Lg. - Spring 25 - Paddle Up Pickleball Club
LOCATION:DDTC Court 14S
CATEGORIES:QuickScores, Pickleball Game
TRANSP:OPAQUE
BEGIN:VALARM
TRIGGER:-PT2H
ACTION:DISPLAY
DESCRIPTION:Williams/Minch vs. Kellerman/Dilger
END:VALARM
END:VEVENT
BEGIN:VEVENT
UID:pupc-68130118-20250428T180000@quickscores.com
DTSTAMP:20260422T173900Z
DTSTART;TZID=America/Chicago:20250428T180000
DURATION:PT0H40M0S
SUMMARY:Cotton/Stepanek vs. Kellerman/Dilger
DESCRIPTION:Ddtc Monday Low Intermediate Lg. - Spring 25 - Paddle Up Pickleball Club
LOCATION:DDTC Court 13N
CATEGORIES:QuickScores, Pickleball Game
TRANSP:OPAQUE
BEGIN:VALARM
TRIGGER:-PT2H
ACTION:DISPLAY
DESCRIPTION:Cotton/Stepanek vs. Kellerman/Dilger
END:VALARM
END:VEVENT
BEGIN:VEVENT
UID:pupc-68130117-20250428T184000@quickscores.com
DTSTAMP:20260422T173900Z
DTSTART;TZID=America/Chicago:20250428T184000
DURATION:PT0H40M0S
SUMMARY:Kellerman/Dilger vs. Lanter/Lanter
DESCRIPTION:Ddtc Monday Low Intermediate Lg. - Spring 25 - Paddle Up Pickleball Club
LOCATION:DDTC Court 13N
CATEGORIES:QuickScores, Pickleball Game
TRANSP:OPAQUE
BEGIN:VALARM
TRIGGER:-PT2H
ACTION:DISPLAY
DESCRIPTION:Kellerman/Dilger vs. Lanter/Lanter
END:VALARM
END:VEVENT
BEGIN:VEVENT
UID:pupc-68130133-20250505T200000@quickscores.com
DTSTAMP:20260422T173900Z
DTSTART;TZID=America/Chicago:20250505T200000
DURATION:PT0H40M0S
SUMMARY:Kellerman/Dilger vs. Huether/Crissup
DESCRIPTION:Ddtc Monday Low Intermediate Lg. - Spring 25 - Paddle Up Pickleball Club
LOCATION:DDTC Court 14N
CATEGORIES:QuickScores, Pickleball Game
TRANSP:OPAQUE
BEGIN:VALARM
TRIGGER:-PT2H
ACTION:DISPLAY
DESCRIPTION:Kellerman/Dilger vs. Huether/Crissup
END:VALARM
END:VEVENT
BEGIN:VEVENT
UID:pupc-68130134-20250505T204000@quickscores.com
DTSTAMP:20260422T173900Z
DTSTART;TZID=America/Chicago:20250505T204000
DURATION:PT0H40M0S
SUMMARY:Kellerman/Dilger vs. Harper/Harper
DESCRIPTION:Ddtc Monday Low Intermediate Lg. - Spring 25 - Paddle Up Pickleball Club
LOCATION:DDTC Court 14N
CATEGORIES:QuickScores, Pickleball Game
TRANSP:OPAQUE
BEGIN:VALARM
TRIGGER:-PT2H
ACTION:DISPLAY
DESCRIPTION:Kellerman/Dilger vs. Harper/Harper
END:VALARM
END:VEVENT
BEGIN:VEVENT
UID:pupc-68945330-20250602T193000@quickscores.com
DTSTAMP:20260422T173900Z
DTSTART;TZID=America/Chicago:20250602T193000
DURATION:PT0H30M0S
SUMMARY:Kellerman/Dilger vs. Winner of Game 5
DESCRIPTION:Ddtc Monday Low Intermediate Lg. - Spring 25 - Paddle Up Pickleball Club
LOCATION:DDTC Court 21
CATEGORIES:QuickScores, Pickleball Game
TRANSP:OPAQUE
BEGIN:VALARM
TRIGGER:-PT2H
ACTION:DISPLAY
DESCRIPTION:Kellerman/Dilger vs. Winner of Game 5
END:VALARM
END:VEVENT
END:VCALENDAR
