BEGIN:VCALENDAR
VERSION:2.0
PRODID:-//QuickScores.com//BQ Dynamic iCal Creator//EN
METHOD:PUBLISH
X-WR-CALNAME:Cotton/Stepanek - Ddtc Monday Low Intermediate Lg. - Spring 25 - Completed Leagues 2025
X-WR-CALDESC:QuickScores game calendar
X-PUBLISHED-TTL:PT24H
REFRESH-INTERVAL;VALUE=DURATION:PT24H
CALSCALE:GREGORIAN
BEGIN:VTIMEZONE
TZID:America/Chicago
X-LIC-LOCATION:America/Chicago
BEGIN:DAYLIGHT
TZNAME:CDT
TZOFFSETFROM:-0600
TZOFFSETTO:-0500
DTSTART:19700308T020000
RRULE:FREQ=YEARLY;BYMONTH=3;BYDAY=2SU
END:DAYLIGHT
BEGIN:STANDARD
TZNAME:CST
TZOFFSETFROM:-0500
TZOFFSETTO:-0600
DTSTART:19701101T020000
RRULE:FREQ=YEARLY;BYMONTH=11;BYDAY=1SU
END:STANDARD
END:VTIMEZONE
BEGIN:VEVENT
UID:pupc-68130060-20250407T192000@quickscores.com
DTSTAMP:20260422T142000Z
DTSTART;TZID=America/Chicago:20250407T192000
DURATION:PT0H40M0S
SUMMARY:Harper/Harper vs. Cotton/Stepanek
DESCRIPTION:Ddtc Monday Low Intermediate Lg. - Spring 25 - Paddle Up Pickleball Club
LOCATION:DDTC Court 14N
CATEGORIES:QuickScores, Pickleball Game
TRANSP:OPAQUE
BEGIN:VALARM
TRIGGER:-PT2H
ACTION:DISPLAY
DESCRIPTION:Harper/Harper vs. Cotton/Stepanek
END:VALARM
END:VEVENT
BEGIN:VEVENT
UID:pupc-68130068-20250407T200000@quickscores.com
DTSTAMP:20260422T142000Z
DTSTART;TZID=America/Chicago:20250407T200000
DURATION:PT0H40M0S
SUMMARY:Cotton/Stepanek vs. Williams/Minch
DESCRIPTION:Ddtc Monday Low Intermediate Lg. - Spring 25 - Paddle Up Pickleball Club
LOCATION:DDTC Court 11N
CATEGORIES:QuickScores, Pickleball Game
TRANSP:OPAQUE
BEGIN:VALARM
TRIGGER:-PT2H
ACTION:DISPLAY
DESCRIPTION:Cotton/Stepanek vs. Williams/Minch
END:VALARM
END:VEVENT
BEGIN:VEVENT
UID:pupc-68130085-20250414T190000@quickscores.com
DTSTAMP:20260422T142000Z
DTSTART;TZID=America/Chicago:20250414T190000
DURATION:PT0H40M0S
SUMMARY:Cotton/Stepanek vs. Cook/Schulte
DESCRIPTION:Ddtc Monday Low Intermediate Lg. - Spring 25 - Paddle Up Pickleball Club
LOCATION:DDTC Court 14N
CATEGORIES:QuickScores, Pickleball Game
TRANSP:OPAQUE
BEGIN:VALARM
TRIGGER:-PT2H
ACTION:DISPLAY
DESCRIPTION:Cotton/Stepanek vs. Cook/Schulte
END:VALARM
END:VEVENT
BEGIN:VEVENT
UID:pupc-68130084-20250414T194000@quickscores.com
DTSTAMP:20260422T142000Z
DTSTART;TZID=America/Chicago:20250414T194000
DURATION:PT0H40M0S
SUMMARY:Cotton/Stepanek vs. Huether/Crissup
DESCRIPTION:Ddtc Monday Low Intermediate Lg. - Spring 25 - Paddle Up Pickleball Club
LOCATION:DDTC Court 14N
CATEGORIES:QuickScores, Pickleball Game
TRANSP:OPAQUE
BEGIN:VALARM
TRIGGER:-PT2H
ACTION:DISPLAY
DESCRIPTION:Cotton/Stepanek vs. Huether/Crissup
END:VALARM
END:VEVENT
BEGIN:VEVENT
UID:pupc-68130094-20250421T200000@quickscores.com
DTSTAMP:20260422T142000Z
DTSTART;TZID=America/Chicago:20250421T200000
DURATION:PT0H40M0S
SUMMARY:Cotton/Stepanek vs. Krekovich/Gorman
DESCRIPTION:Ddtc Monday Low Intermediate Lg. - Spring 25 - Paddle Up Pickleball Club
LOCATION:DDTC Court 11N
CATEGORIES:QuickScores, Pickleball Game
TRANSP:OPAQUE
BEGIN:VALARM
TRIGGER:-PT2H
ACTION:DISPLAY
DESCRIPTION:Cotton/Stepanek vs. Krekovich/Gorman
END:VALARM
END:VEVENT
BEGIN:VEVENT
UID:pupc-68130095-20250421T204000@quickscores.com
DTSTAMP:20260422T142000Z
DTSTART;TZID=America/Chicago:20250421T204000
DURATION:PT0H40M0S
SUMMARY:Constance/Juras vs. Cotton/Stepanek
DESCRIPTION:Ddtc Monday Low Intermediate Lg. - Spring 25 - Paddle Up Pickleball Club
LOCATION:DDTC Court 13N
CATEGORIES:QuickScores, Pickleball Game
TRANSP:OPAQUE
BEGIN:VALARM
TRIGGER:-PT2H
ACTION:DISPLAY
DESCRIPTION:Constance/Juras vs. Cotton/Stepanek
END:VALARM
END:VEVENT
BEGIN:VEVENT
UID:pupc-68130118-20250428T180000@quickscores.com
DTSTAMP:20260422T142000Z
DTSTART;TZID=America/Chicago:20250428T180000
DURATION:PT0H40M0S
SUMMARY:Cotton/Stepanek vs. Kellerman/Dilger
DESCRIPTION:Ddtc Monday Low Intermediate Lg. - Spring 25 - Paddle Up Pickleball Club
LOCATION:DDTC Court 13N
CATEGORIES:QuickScores, Pickleball Game
TRANSP:OPAQUE
BEGIN:VALARM
TRIGGER:-PT2H
ACTION:DISPLAY
DESCRIPTION:Cotton/Stepanek vs. Kellerman/Dilger
END:VALARM
END:VEVENT
BEGIN:VEVENT
UID:pupc-68130126-20250428T192000@quickscores.com
DTSTAMP:20260422T142000Z
DTSTART;TZID=America/Chicago:20250428T192000
DURATION:PT0H40M0S
SUMMARY:Cotton/Stepanek vs. Aldrich/Rasche
DESCRIPTION:Ddtc Monday Low Intermediate Lg. - Spring 25 - Paddle Up Pickleball Club
LOCATION:DDTC Court 14N
CATEGORIES:QuickScores, Pickleball Game
TRANSP:OPAQUE
BEGIN:VALARM
TRIGGER:-PT2H
ACTION:DISPLAY
DESCRIPTION:Cotton/Stepanek vs. Aldrich/Rasche
END:VALARM
END:VEVENT
BEGIN:VEVENT
UID:pupc-68130141-20250505T200000@quickscores.com
DTSTAMP:20260422T142000Z
DTSTART;TZID=America/Chicago:20250505T200000
DURATION:PT0H40M0S
SUMMARY:Parr/George vs. Cotton/Stepanek
DESCRIPTION:Ddtc Monday Low Intermediate Lg. - Spring 25 - Paddle Up Pickleball Club
LOCATION:DDTC Court 14S
CATEGORIES:QuickScores, Pickleball Game
TRANSP:OPAQUE
BEGIN:VALARM
TRIGGER:-PT2H
ACTION:DISPLAY
DESCRIPTION:Parr/George vs. Cotton/Stepanek
END:VALARM
END:VEVENT
BEGIN:VEVENT
UID:pupc-68130142-20250505T204000@quickscores.com
DTSTAMP:20260422T142000Z
DTSTART;TZID=America/Chicago:20250505T204000
DURATION:PT0H40M0S
SUMMARY:Cook/Schulte vs. Cotton/Stepanek
DESCRIPTION:Ddtc Monday Low Intermediate Lg. - Spring 25 - Paddle Up Pickleball Club
LOCATION:DDTC Court 14S
CATEGORIES:QuickScores, Pickleball Game
TRANSP:OPAQUE
BEGIN:VALARM
TRIGGER:-PT2H
ACTION:DISPLAY
DESCRIPTION:Cook/Schulte vs. Cotton/Stepanek
END:VALARM
END:VEVENT
BEGIN:VEVENT
UID:pupc-68945313-20250602T183000@quickscores.com
DTSTAMP:20260422T142000Z
DTSTART;TZID=America/Chicago:20250602T183000
DURATION:PT0H30M0S
SUMMARY:Constance/Juras vs. Cotton/Stepanek
DESCRIPTION:Ddtc Monday Low Intermediate Lg. - Spring 25 - Paddle Up Pickleball Club
LOCATION:DDTC Court 12S
CATEGORIES:QuickScores, Pickleball Game
TRANSP:OPAQUE
BEGIN:VALARM
TRIGGER:-PT2H
ACTION:DISPLAY
DESCRIPTION:Constance/Juras vs. Cotton/Stepanek
END:VALARM
END:VEVENT
END:VCALENDAR
