BEGIN:VCALENDAR
VERSION:2.0
PRODID:-//QuickScores.com//BQ Dynamic iCal Creator//EN
METHOD:PUBLISH
X-WR-CALNAME:Harper/Harper - Ddtc Monday Low Intermediate Lg. - Spring 25 - Completed Leagues 2025
X-WR-CALDESC:QuickScores game calendar
X-PUBLISHED-TTL:PT24H
REFRESH-INTERVAL;VALUE=DURATION:PT24H
CALSCALE:GREGORIAN
BEGIN:VTIMEZONE
TZID:America/Chicago
X-LIC-LOCATION:America/Chicago
BEGIN:DAYLIGHT
TZNAME:CDT
TZOFFSETFROM:-0600
TZOFFSETTO:-0500
DTSTART:19700308T020000
RRULE:FREQ=YEARLY;BYMONTH=3;BYDAY=2SU
END:DAYLIGHT
BEGIN:STANDARD
TZNAME:CST
TZOFFSETFROM:-0500
TZOFFSETTO:-0600
DTSTART:19701101T020000
RRULE:FREQ=YEARLY;BYMONTH=11;BYDAY=1SU
END:STANDARD
END:VTIMEZONE
BEGIN:VEVENT
UID:pupc-68130061-20250407T184000@quickscores.com
DTSTAMP:20260422T205600Z
DTSTART;TZID=America/Chicago:20250407T184000
DURATION:PT0H40M0S
SUMMARY:Harper/Harper vs. Hutchens/Rainford
DESCRIPTION:Ddtc Monday Low Intermediate Lg. - Spring 25 - Paddle Up Pickleball Club
LOCATION:DDTC Court 14N
CATEGORIES:QuickScores, Pickleball Game
TRANSP:OPAQUE
BEGIN:VALARM
TRIGGER:-PT2H
ACTION:DISPLAY
DESCRIPTION:Harper/Harper vs. Hutchens/Rainford
END:VALARM
END:VEVENT
BEGIN:VEVENT
UID:pupc-68130060-20250407T192000@quickscores.com
DTSTAMP:20260422T205600Z
DTSTART;TZID=America/Chicago:20250407T192000
DURATION:PT0H40M0S
SUMMARY:Harper/Harper vs. Cotton/Stepanek
DESCRIPTION:Ddtc Monday Low Intermediate Lg. - Spring 25 - Paddle Up Pickleball Club
LOCATION:DDTC Court 14N
CATEGORIES:QuickScores, Pickleball Game
TRANSP:OPAQUE
BEGIN:VALARM
TRIGGER:-PT2H
ACTION:DISPLAY
DESCRIPTION:Harper/Harper vs. Cotton/Stepanek
END:VALARM
END:VEVENT
BEGIN:VEVENT
UID:pupc-68130072-20250414T202000@quickscores.com
DTSTAMP:20260422T205600Z
DTSTART;TZID=America/Chicago:20250414T202000
DURATION:PT0H40M0S
SUMMARY:Harman/Fisher vs. Harper/Harper
DESCRIPTION:Ddtc Monday Low Intermediate Lg. - Spring 25 - Paddle Up Pickleball Club
LOCATION:DDTC Court 11N
CATEGORIES:QuickScores, Pickleball Game
TRANSP:OPAQUE
BEGIN:VALARM
TRIGGER:-PT2H
ACTION:DISPLAY
DESCRIPTION:Harman/Fisher vs. Harper/Harper
END:VALARM
END:VEVENT
BEGIN:VEVENT
UID:pupc-68130071-20250414T210000@quickscores.com
DTSTAMP:20260422T205600Z
DTSTART;TZID=America/Chicago:20250414T210000
DURATION:PT0H40M0S
SUMMARY:Harper/Harper vs. Karstens/Moody
DESCRIPTION:Ddtc Monday Low Intermediate Lg. - Spring 25 - Paddle Up Pickleball Club
LOCATION:DDTC Court 14S
CATEGORIES:QuickScores, Pickleball Game
TRANSP:OPAQUE
BEGIN:VALARM
TRIGGER:-PT2H
ACTION:DISPLAY
DESCRIPTION:Harper/Harper vs. Karstens/Moody
END:VALARM
END:VEVENT
BEGIN:VEVENT
UID:pupc-68130107-20250421T184000@quickscores.com
DTSTAMP:20260422T205600Z
DTSTART;TZID=America/Chicago:20250421T184000
DURATION:PT0H40M0S
SUMMARY:Thuet/Wientge vs. Harper/Harper
DESCRIPTION:Ddtc Monday Low Intermediate Lg. - Spring 25 - Paddle Up Pickleball Club
LOCATION:DDTC Court 14N
CATEGORIES:QuickScores, Pickleball Game
TRANSP:OPAQUE
BEGIN:VALARM
TRIGGER:-PT2H
ACTION:DISPLAY
DESCRIPTION:Thuet/Wientge vs. Harper/Harper
END:VALARM
END:VEVENT
BEGIN:VEVENT
UID:pupc-68130106-20250421T192000@quickscores.com
DTSTAMP:20260422T205600Z
DTSTART;TZID=America/Chicago:20250421T192000
DURATION:PT0H40M0S
SUMMARY:Harper/Harper vs. Huether/Crissup
DESCRIPTION:Ddtc Monday Low Intermediate Lg. - Spring 25 - Paddle Up Pickleball Club
LOCATION:DDTC Court 14N
CATEGORIES:QuickScores, Pickleball Game
TRANSP:OPAQUE
BEGIN:VALARM
TRIGGER:-PT2H
ACTION:DISPLAY
DESCRIPTION:Harper/Harper vs. Huether/Crissup
END:VALARM
END:VEVENT
BEGIN:VEVENT
UID:pupc-68130116-20250428T200000@quickscores.com
DTSTAMP:20260422T205600Z
DTSTART;TZID=America/Chicago:20250428T200000
DURATION:PT0H40M0S
SUMMARY:Harper/Harper vs. Harman/Fisher
DESCRIPTION:Ddtc Monday Low Intermediate Lg. - Spring 25 - Paddle Up Pickleball Club
LOCATION:DDTC Court 13N
CATEGORIES:QuickScores, Pickleball Game
TRANSP:OPAQUE
BEGIN:VALARM
TRIGGER:-PT2H
ACTION:DISPLAY
DESCRIPTION:Harper/Harper vs. Harman/Fisher
END:VALARM
END:VEVENT
BEGIN:VEVENT
UID:pupc-68130115-20250428T204000@quickscores.com
DTSTAMP:20260422T205600Z
DTSTART;TZID=America/Chicago:20250428T204000
DURATION:PT0H40M0S
SUMMARY:Sutter/Schlosser vs. Harper/Harper
DESCRIPTION:Ddtc Monday Low Intermediate Lg. - Spring 25 - Paddle Up Pickleball Club
LOCATION:DDTC Court 13N
CATEGORIES:QuickScores, Pickleball Game
TRANSP:OPAQUE
BEGIN:VALARM
TRIGGER:-PT2H
ACTION:DISPLAY
DESCRIPTION:Sutter/Schlosser vs. Harper/Harper
END:VALARM
END:VEVENT
BEGIN:VEVENT
UID:pupc-68551764-20250505T200000@quickscores.com
DTSTAMP:20260422T205600Z
DTSTART;TZID=America/Chicago:20250505T200000
DURATION:PT0H40M0S
SUMMARY:Harper/Harper vs. Kaiser/Kaiser
DESCRIPTION:Ddtc Monday Low Intermediate Lg. - Spring 25 - Paddle Up Pickleball Club
LOCATION:DDTC Court 11S
CATEGORIES:QuickScores, Pickleball Game
TRANSP:OPAQUE
BEGIN:VALARM
TRIGGER:-PT2H
ACTION:DISPLAY
DESCRIPTION:Harper/Harper vs. Kaiser/Kaiser
END:VALARM
END:VEVENT
BEGIN:VEVENT
UID:pupc-68130134-20250505T204000@quickscores.com
DTSTAMP:20260422T205600Z
DTSTART;TZID=America/Chicago:20250505T204000
DURATION:PT0H40M0S
SUMMARY:Kellerman/Dilger vs. Harper/Harper
DESCRIPTION:Ddtc Monday Low Intermediate Lg. - Spring 25 - Paddle Up Pickleball Club
LOCATION:DDTC Court 14N
CATEGORIES:QuickScores, Pickleball Game
TRANSP:OPAQUE
BEGIN:VALARM
TRIGGER:-PT2H
ACTION:DISPLAY
DESCRIPTION:Kellerman/Dilger vs. Harper/Harper
END:VALARM
END:VEVENT
BEGIN:VEVENT
UID:pupc-68945317-20250602T180000@quickscores.com
DTSTAMP:20260422T205600Z
DTSTART;TZID=America/Chicago:20250602T180000
DURATION:PT0H30M0S
SUMMARY:Caldwell/Wientge2 vs. Harper/Harper
DESCRIPTION:Ddtc Monday Low Intermediate Lg. - Spring 25 - Paddle Up Pickleball Club
LOCATION:DDTC Court 22
CATEGORIES:QuickScores, Pickleball Game
TRANSP:OPAQUE
BEGIN:VALARM
TRIGGER:-PT2H
ACTION:DISPLAY
DESCRIPTION:Caldwell/Wientge2 vs. Harper/Harper
END:VALARM
END:VEVENT
END:VCALENDAR
