BEGIN:VCALENDAR
VERSION:2.0
PRODID:-//QuickScores.com//BQ Dynamic iCal Creator//EN
METHOD:PUBLISH
X-WR-CALNAME:Schilly/Boschert - Ddtc Monday Low Intermediate Lg. - Spring 25 - Completed Leagues 2025
X-WR-CALDESC:QuickScores game calendar
X-PUBLISHED-TTL:PT24H
REFRESH-INTERVAL;VALUE=DURATION:PT24H
CALSCALE:GREGORIAN
BEGIN:VTIMEZONE
TZID:America/Chicago
X-LIC-LOCATION:America/Chicago
BEGIN:DAYLIGHT
TZNAME:CDT
TZOFFSETFROM:-0600
TZOFFSETTO:-0500
DTSTART:19700308T020000
RRULE:FREQ=YEARLY;BYMONTH=3;BYDAY=2SU
END:DAYLIGHT
BEGIN:STANDARD
TZNAME:CST
TZOFFSETFROM:-0500
TZOFFSETTO:-0600
DTSTART:19701101T020000
RRULE:FREQ=YEARLY;BYMONTH=11;BYDAY=1SU
END:STANDARD
END:VTIMEZONE
BEGIN:VEVENT
UID:pupc-68130052-20250407T180000@quickscores.com
DTSTAMP:20260422T180200Z
DTSTART;TZID=America/Chicago:20250407T180000
DURATION:PT0H40M0S
SUMMARY:Schilly/Boschert vs. Kellerman/Dilger
DESCRIPTION:Ddtc Monday Low Intermediate Lg. - Spring 25 - Paddle Up Pickleball Club
LOCATION:DDTC Court 13N
CATEGORIES:QuickScores, Pickleball Game
TRANSP:OPAQUE
BEGIN:VALARM
TRIGGER:-PT2H
ACTION:DISPLAY
DESCRIPTION:Schilly/Boschert vs. Kellerman/Dilger
END:VALARM
END:VEVENT
BEGIN:VEVENT
UID:pupc-68130053-20250407T184000@quickscores.com
DTSTAMP:20260422T180200Z
DTSTART;TZID=America/Chicago:20250407T184000
DURATION:PT0H40M0S
SUMMARY:Krekovich/Gorman vs. Schilly/Boschert
DESCRIPTION:Ddtc Monday Low Intermediate Lg. - Spring 25 - Paddle Up Pickleball Club
LOCATION:DDTC Court 13S
CATEGORIES:QuickScores, Pickleball Game
TRANSP:OPAQUE
BEGIN:VALARM
TRIGGER:-PT2H
ACTION:DISPLAY
DESCRIPTION:Krekovich/Gorman vs. Schilly/Boschert
END:VALARM
END:VEVENT
BEGIN:VEVENT
UID:pupc-68130076-20250414T174000@quickscores.com
DTSTAMP:20260422T180200Z
DTSTART;TZID=America/Chicago:20250414T174000
DURATION:PT0H40M0S
SUMMARY:Murphy/Lampe vs. Schilly/Boschert
DESCRIPTION:Ddtc Monday Low Intermediate Lg. - Spring 25 - Paddle Up Pickleball Club
LOCATION:DDTC Court 22
CATEGORIES:QuickScores, Pickleball Game
TRANSP:OPAQUE
BEGIN:VALARM
TRIGGER:-PT2H
ACTION:DISPLAY
DESCRIPTION:Murphy/Lampe vs. Schilly/Boschert
END:VALARM
END:VEVENT
BEGIN:VEVENT
UID:pupc-68130077-20250414T190000@quickscores.com
DTSTAMP:20260422T180200Z
DTSTART;TZID=America/Chicago:20250414T190000
DURATION:PT0H40M0S
SUMMARY:Hutchens/Rainford vs. Schilly/Boschert
DESCRIPTION:Ddtc Monday Low Intermediate Lg. - Spring 25 - Paddle Up Pickleball Club
LOCATION:DDTC Court 13S
CATEGORIES:QuickScores, Pickleball Game
TRANSP:OPAQUE
BEGIN:VALARM
TRIGGER:-PT2H
ACTION:DISPLAY
DESCRIPTION:Hutchens/Rainford vs. Schilly/Boschert
END:VALARM
END:VEVENT
BEGIN:VEVENT
UID:pupc-68130104-20250421T200000@quickscores.com
DTSTAMP:20260422T180200Z
DTSTART;TZID=America/Chicago:20250421T200000
DURATION:PT0H40M0S
SUMMARY:Schilly/Boschert vs. Parr/George
DESCRIPTION:Ddtc Monday Low Intermediate Lg. - Spring 25 - Paddle Up Pickleball Club
LOCATION:DDTC Court 14N
CATEGORIES:QuickScores, Pickleball Game
TRANSP:OPAQUE
BEGIN:VALARM
TRIGGER:-PT2H
ACTION:DISPLAY
DESCRIPTION:Schilly/Boschert vs. Parr/George
END:VALARM
END:VEVENT
BEGIN:VEVENT
UID:pupc-68130103-20250421T204000@quickscores.com
DTSTAMP:20260422T180200Z
DTSTART;TZID=America/Chicago:20250421T204000
DURATION:PT0H40M0S
SUMMARY:Schilly/Boschert vs. Aldrich/Rasche
DESCRIPTION:Ddtc Monday Low Intermediate Lg. - Spring 25 - Paddle Up Pickleball Club
LOCATION:DDTC Court 13S
CATEGORIES:QuickScores, Pickleball Game
TRANSP:OPAQUE
BEGIN:VALARM
TRIGGER:-PT2H
ACTION:DISPLAY
DESCRIPTION:Schilly/Boschert vs. Aldrich/Rasche
END:VALARM
END:VEVENT
BEGIN:VEVENT
UID:pupc-68130128-20250428T180000@quickscores.com
DTSTAMP:20260422T180200Z
DTSTART;TZID=America/Chicago:20250428T180000
DURATION:PT0H40M0S
SUMMARY:Williams/Minch vs. Schilly/Boschert
DESCRIPTION:Ddtc Monday Low Intermediate Lg. - Spring 25 - Paddle Up Pickleball Club
LOCATION:DDTC Court 14N
CATEGORIES:QuickScores, Pickleball Game
TRANSP:OPAQUE
BEGIN:VALARM
TRIGGER:-PT2H
ACTION:DISPLAY
DESCRIPTION:Williams/Minch vs. Schilly/Boschert
END:VALARM
END:VEVENT
BEGIN:VEVENT
UID:pupc-68130127-20250428T184000@quickscores.com
DTSTAMP:20260422T180200Z
DTSTART;TZID=America/Chicago:20250428T184000
DURATION:PT0H40M0S
SUMMARY:Schilly/Boschert vs. Harman/Fisher
DESCRIPTION:Ddtc Monday Low Intermediate Lg. - Spring 25 - Paddle Up Pickleball Club
LOCATION:DDTC Court 14N
CATEGORIES:QuickScores, Pickleball Game
TRANSP:OPAQUE
BEGIN:VALARM
TRIGGER:-PT2H
ACTION:DISPLAY
DESCRIPTION:Schilly/Boschert vs. Harman/Fisher
END:VALARM
END:VEVENT
BEGIN:VEVENT
UID:pupc-68130146-20250505T184000@quickscores.com
DTSTAMP:20260422T180200Z
DTSTART;TZID=America/Chicago:20250505T184000
DURATION:PT0H40M0S
SUMMARY:Lanter/Lanter vs. Schilly/Boschert
DESCRIPTION:Ddtc Monday Low Intermediate Lg. - Spring 25 - Paddle Up Pickleball Club
LOCATION:DDTC Court 13N
CATEGORIES:QuickScores, Pickleball Game
TRANSP:OPAQUE
BEGIN:VALARM
TRIGGER:-PT2H
ACTION:DISPLAY
DESCRIPTION:Lanter/Lanter vs. Schilly/Boschert
END:VALARM
END:VEVENT
BEGIN:VEVENT
UID:pupc-68130145-20250505T200000@quickscores.com
DTSTAMP:20260422T180200Z
DTSTART;TZID=America/Chicago:20250505T200000
DURATION:PT0H40M0S
SUMMARY:Schilly/Boschert vs. Krekovich/Gorman
DESCRIPTION:Ddtc Monday Low Intermediate Lg. - Spring 25 - Paddle Up Pickleball Club
LOCATION:DDTC Court 13N
CATEGORIES:QuickScores, Pickleball Game
TRANSP:OPAQUE
BEGIN:VALARM
TRIGGER:-PT2H
ACTION:DISPLAY
DESCRIPTION:Schilly/Boschert vs. Krekovich/Gorman
END:VALARM
END:VEVENT
BEGIN:VEVENT
UID:pupc-68945323-20250602T180000@quickscores.com
DTSTAMP:20260422T180200Z
DTSTART;TZID=America/Chicago:20250602T180000
DURATION:PT0H30M0S
SUMMARY:Parr/George vs. Schilly/Boschert
DESCRIPTION:Ddtc Monday Low Intermediate Lg. - Spring 25 - Paddle Up Pickleball Club
LOCATION:DDTC Court 12N
CATEGORIES:QuickScores, Pickleball Game
TRANSP:OPAQUE
BEGIN:VALARM
TRIGGER:-PT2H
ACTION:DISPLAY
DESCRIPTION:Parr/George vs. Schilly/Boschert
END:VALARM
END:VEVENT
END:VCALENDAR
