BEGIN:VCALENDAR
VERSION:2.0
PRODID:-//QuickScores.com//BQ Dynamic iCal Creator//EN
METHOD:PUBLISH
X-WR-CALNAME:MatSevilla/JonHarris - Pickle Madness All Gender U9.0 And U8.0 - 3/29 1:30pm - Completed Tournaments 2024-25
X-WR-CALDESC:QuickScores game calendar
X-PUBLISHED-TTL:PT24H
REFRESH-INTERVAL;VALUE=DURATION:PT24H
CALSCALE:GREGORIAN
BEGIN:VTIMEZONE
TZID:America/Chicago
X-LIC-LOCATION:America/Chicago
BEGIN:DAYLIGHT
TZNAME:CDT
TZOFFSETFROM:-0600
TZOFFSETTO:-0500
DTSTART:19700308T020000
RRULE:FREQ=YEARLY;BYMONTH=3;BYDAY=2SU
END:DAYLIGHT
BEGIN:STANDARD
TZNAME:CST
TZOFFSETFROM:-0500
TZOFFSETTO:-0600
DTSTART:19701101T020000
RRULE:FREQ=YEARLY;BYMONTH=11;BYDAY=1SU
END:STANDARD
END:VTIMEZONE
BEGIN:VEVENT
UID:pupc-68101071-20250329T140000@quickscores.com
DTSTAMP:20260422T020800Z
DTSTART;TZID=America/Chicago:20250329T140000
DURATION:PT0H20M0S
SUMMARY:MattLandolt/PatAlexander vs. MatSevilla/JonHarris
DESCRIPTION:Pickle Madness All Gender U9.0 And U8.0 - 3/29 1:30pm - Paddle Up Pickleball Club
LOCATION:Court 8
CATEGORIES:QuickScores, Pickleball Game
TRANSP:OPAQUE
BEGIN:VALARM
TRIGGER:-PT2H
ACTION:DISPLAY
DESCRIPTION:MattLandolt/PatAlexander vs. MatSevilla/JonHarris
END:VALARM
END:VEVENT
BEGIN:VEVENT
UID:pupc-68101115-20250329T144000@quickscores.com
DTSTAMP:20260422T020800Z
DTSTART;TZID=America/Chicago:20250329T144000
DURATION:PT0H20M0S
SUMMARY:MichealBerry/BradNobel vs. MatSevilla/JonHarris
DESCRIPTION:Pickle Madness All Gender U9.0 And U8.0 - 3/29 1:30pm - Paddle Up Pickleball Club
LOCATION:Court 8
CATEGORIES:QuickScores, Pickleball Game
TRANSP:OPAQUE
BEGIN:VALARM
TRIGGER:-PT2H
ACTION:DISPLAY
DESCRIPTION:MichealBerry/BradNobel vs. MatSevilla/JonHarris
END:VALARM
END:VEVENT
BEGIN:VEVENT
UID:pupc-68101096-20250329T150000@quickscores.com
DTSTAMP:20260422T020800Z
DTSTART;TZID=America/Chicago:20250329T150000
DURATION:PT0H20M0S
SUMMARY:MatSevilla/JonHarris vs. KevinReque/PaigeReque
DESCRIPTION:Pickle Madness All Gender U9.0 And U8.0 - 3/29 1:30pm - Paddle Up Pickleball Club
LOCATION:Court 6
CATEGORIES:QuickScores, Pickleball Game
TRANSP:OPAQUE
BEGIN:VALARM
TRIGGER:-PT2H
ACTION:DISPLAY
DESCRIPTION:MatSevilla/JonHarris vs. KevinReque/PaigeReque
END:VALARM
END:VEVENT
BEGIN:VEVENT
UID:pupc-68101107-20250329T154000@quickscores.com
DTSTAMP:20260422T020800Z
DTSTART;TZID=America/Chicago:20250329T154000
DURATION:PT0H20M0S
SUMMARY:MatSevilla/JonHarris vs. ChaseBlickhan/JohnPaden
DESCRIPTION:Pickle Madness All Gender U9.0 And U8.0 - 3/29 1:30pm - Paddle Up Pickleball Club
LOCATION:Court 1
CATEGORIES:QuickScores, Pickleball Game
TRANSP:OPAQUE
BEGIN:VALARM
TRIGGER:-PT2H
ACTION:DISPLAY
DESCRIPTION:MatSevilla/JonHarris vs. ChaseBlickhan/JohnPaden
END:VALARM
END:VEVENT
END:VCALENDAR
