BEGIN:VCALENDAR
VERSION:2.0
PRODID:-//QuickScores.com//BQ Dynamic iCal Creator//EN
METHOD:PUBLISH
X-WR-CALNAME:AlexHoffmeister/EduardoGomez - Pickle Madness All Gender U9.0 And U8.0 - 3/29 1:30pm - Completed Tournaments 2024-25
X-WR-CALDESC:QuickScores game calendar
X-PUBLISHED-TTL:PT24H
REFRESH-INTERVAL;VALUE=DURATION:PT24H
CALSCALE:GREGORIAN
BEGIN:VTIMEZONE
TZID:America/Chicago
X-LIC-LOCATION:America/Chicago
BEGIN:DAYLIGHT
TZNAME:CDT
TZOFFSETFROM:-0600
TZOFFSETTO:-0500
DTSTART:19700308T020000
RRULE:FREQ=YEARLY;BYMONTH=3;BYDAY=2SU
END:DAYLIGHT
BEGIN:STANDARD
TZNAME:CST
TZOFFSETFROM:-0500
TZOFFSETTO:-0600
DTSTART:19701101T020000
RRULE:FREQ=YEARLY;BYMONTH=11;BYDAY=1SU
END:STANDARD
END:VTIMEZONE
BEGIN:VEVENT
UID:pupc-68101077-20250329T140000@quickscores.com
DTSTAMP:20260422T094300Z
DTSTART;TZID=America/Chicago:20250329T140000
DURATION:PT0H20M0S
SUMMARY:NickBhambri/RichLandmann vs. AlexHoffmeister/EduardoGomez
DESCRIPTION:Pickle Madness All Gender U9.0 And U8.0 - 3/29 1:30pm - Paddle Up Pickleball Club
LOCATION:Court 3
CATEGORIES:QuickScores, Pickleball Game
TRANSP:OPAQUE
BEGIN:VALARM
TRIGGER:-PT2H
ACTION:DISPLAY
DESCRIPTION:NickBhambri/RichLandmann vs. AlexHoffmeister/EduardoGomez
END:VALARM
END:VEVENT
BEGIN:VEVENT
UID:pupc-68101091-20250329T142000@quickscores.com
DTSTAMP:20260422T094300Z
DTSTART;TZID=America/Chicago:20250329T142000
DURATION:PT0H20M0S
SUMMARY:AlexHoffmeister/EduardoGomez vs. NoahOrr/GregChappel
DESCRIPTION:Pickle Madness All Gender U9.0 And U8.0 - 3/29 1:30pm - Paddle Up Pickleball Club
LOCATION:Court 8
CATEGORIES:QuickScores, Pickleball Game
TRANSP:OPAQUE
BEGIN:VALARM
TRIGGER:-PT2H
ACTION:DISPLAY
DESCRIPTION:AlexHoffmeister/EduardoGomez vs. NoahOrr/GregChappel
END:VALARM
END:VEVENT
BEGIN:VEVENT
UID:pupc-68101100-20250329T150000@quickscores.com
DTSTAMP:20260422T094300Z
DTSTART;TZID=America/Chicago:20250329T150000
DURATION:PT0H20M0S
SUMMARY:AlexHoffmeister/EduardoGomez vs. ColbyRinehart/JonothonAntonio
DESCRIPTION:Pickle Madness All Gender U9.0 And U8.0 - 3/29 1:30pm - Paddle Up Pickleball Club
LOCATION:Court 7
CATEGORIES:QuickScores, Pickleball Game
TRANSP:OPAQUE
BEGIN:VALARM
TRIGGER:-PT2H
ACTION:DISPLAY
DESCRIPTION:AlexHoffmeister/EduardoGomez vs. ColbyRinehart/JonothonAntonio
END:VALARM
END:VEVENT
BEGIN:VEVENT
UID:pupc-68101066-20250329T152000@quickscores.com
DTSTAMP:20260422T094300Z
DTSTART;TZID=America/Chicago:20250329T152000
DURATION:PT0H20M0S
SUMMARY:JasonColeman/BrandonColeman vs. AlexHoffmeister/EduardoGomez
DESCRIPTION:Pickle Madness All Gender U9.0 And U8.0 - 3/29 1:30pm - Paddle Up Pickleball Club
LOCATION:Court 9
CATEGORIES:QuickScores, Pickleball Game
TRANSP:OPAQUE
BEGIN:VALARM
TRIGGER:-PT2H
ACTION:DISPLAY
DESCRIPTION:JasonColeman/BrandonColeman vs. AlexHoffmeister/EduardoGomez
END:VALARM
END:VEVENT
END:VCALENDAR
