BEGIN:VCALENDAR
VERSION:2.0
PRODID:-//QuickScores.com//BQ Dynamic iCal Creator//EN
METHOD:PUBLISH
X-WR-CALNAME:Hoffman/Boyce - Pupc Wednesday Intermediate Lg. - Latewinter2025 - Completed Leagues 2025
X-WR-CALDESC:QuickScores game calendar
X-PUBLISHED-TTL:PT24H
REFRESH-INTERVAL;VALUE=DURATION:PT24H
CALSCALE:GREGORIAN
BEGIN:VTIMEZONE
TZID:America/Chicago
X-LIC-LOCATION:America/Chicago
BEGIN:DAYLIGHT
TZNAME:CDT
TZOFFSETFROM:-0600
TZOFFSETTO:-0500
DTSTART:19700308T020000
RRULE:FREQ=YEARLY;BYMONTH=3;BYDAY=2SU
END:DAYLIGHT
BEGIN:STANDARD
TZNAME:CST
TZOFFSETFROM:-0500
TZOFFSETTO:-0600
DTSTART:19701101T020000
RRULE:FREQ=YEARLY;BYMONTH=11;BYDAY=1SU
END:STANDARD
END:VTIMEZONE
BEGIN:VEVENT
UID:pupc-67329199-20250226T184000@quickscores.com
DTSTAMP:20260425T092800Z
DTSTART;TZID=America/Chicago:20250226T184000
DURATION:PT0H40M0S
SUMMARY:Kelley/Kelley vs. Hoffman/Boyce
DESCRIPTION:Pupc Wednesday Intermediate Lg. - Latewinter2025 - Paddle Up Pickleball Club
LOCATION:Court 6
CATEGORIES:QuickScores, Pickleball Game
TRANSP:OPAQUE
BEGIN:VALARM
TRIGGER:-PT2H
ACTION:DISPLAY
DESCRIPTION:Kelley/Kelley vs. Hoffman/Boyce
END:VALARM
END:VEVENT
BEGIN:VEVENT
UID:pupc-67329200-20250226T192000@quickscores.com
DTSTAMP:20260425T092800Z
DTSTART;TZID=America/Chicago:20250226T192000
DURATION:PT0H40M0S
SUMMARY:Langston/Luber vs. Hoffman/Boyce
DESCRIPTION:Pupc Wednesday Intermediate Lg. - Latewinter2025 - Paddle Up Pickleball Club
LOCATION:Court 7
CATEGORIES:QuickScores, Pickleball Game
TRANSP:OPAQUE
BEGIN:VALARM
TRIGGER:-PT2H
ACTION:DISPLAY
DESCRIPTION:Langston/Luber vs. Hoffman/Boyce
END:VALARM
END:VEVENT
BEGIN:VEVENT
UID:pupc-67329203-20250305T172000@quickscores.com
DTSTAMP:20260425T092800Z
DTSTART;TZID=America/Chicago:20250305T172000
DURATION:PT0H40M0S
SUMMARY:Hoffman/Boyce vs. Mayhall/Bye
DESCRIPTION:Pupc Wednesday Intermediate Lg. - Latewinter2025 - Paddle Up Pickleball Club
LOCATION:Court 6
CATEGORIES:QuickScores, Pickleball Game
TRANSP:OPAQUE
BEGIN:VALARM
TRIGGER:-PT2H
ACTION:DISPLAY
DESCRIPTION:Hoffman/Boyce vs. Mayhall/Bye
END:VALARM
END:VEVENT
BEGIN:VEVENT
UID:pupc-67329202-20250305T180000@quickscores.com
DTSTAMP:20260425T092800Z
DTSTART;TZID=America/Chicago:20250305T180000
DURATION:PT0H40M0S
SUMMARY:Heinrich/Reidelberger vs. Hoffman/Boyce
DESCRIPTION:Pupc Wednesday Intermediate Lg. - Latewinter2025 - Paddle Up Pickleball Club
LOCATION:Court 7
CATEGORIES:QuickScores, Pickleball Game
TRANSP:OPAQUE
BEGIN:VALARM
TRIGGER:-PT2H
ACTION:DISPLAY
DESCRIPTION:Heinrich/Reidelberger vs. Hoffman/Boyce
END:VALARM
END:VEVENT
BEGIN:VEVENT
UID:pupc-67329210-20250312T172000@quickscores.com
DTSTAMP:20260425T092800Z
DTSTART;TZID=America/Chicago:20250312T172000
DURATION:PT0H40M0S
SUMMARY:Hoffman/Boyce vs. Langston/Luber
DESCRIPTION:Pupc Wednesday Intermediate Lg. - Latewinter2025 - Paddle Up Pickleball Club
LOCATION:Court 6
CATEGORIES:QuickScores, Pickleball Game
TRANSP:OPAQUE
BEGIN:VALARM
TRIGGER:-PT2H
ACTION:DISPLAY
DESCRIPTION:Hoffman/Boyce vs. Langston/Luber
END:VALARM
END:VEVENT
BEGIN:VEVENT
UID:pupc-67329212-20250312T180000@quickscores.com
DTSTAMP:20260425T092800Z
DTSTART;TZID=America/Chicago:20250312T180000
DURATION:PT0H40M0S
SUMMARY:Hoffman/Boyce vs. Scism/Lawson
DESCRIPTION:Pupc Wednesday Intermediate Lg. - Latewinter2025 - Paddle Up Pickleball Club
LOCATION:Court 7
CATEGORIES:QuickScores, Pickleball Game
TRANSP:OPAQUE
BEGIN:VALARM
TRIGGER:-PT2H
ACTION:DISPLAY
DESCRIPTION:Hoffman/Boyce vs. Scism/Lawson
END:VALARM
END:VEVENT
BEGIN:VEVENT
UID:pupc-67329215-20250319T184000@quickscores.com
DTSTAMP:20260425T092800Z
DTSTART;TZID=America/Chicago:20250319T184000
DURATION:PT0H40M0S
SUMMARY:Hoffman/Boyce vs. Kelley/Kelley
DESCRIPTION:Pupc Wednesday Intermediate Lg. - Latewinter2025 - Paddle Up Pickleball Club
LOCATION:Court 6
CATEGORIES:QuickScores, Pickleball Game
TRANSP:OPAQUE
BEGIN:VALARM
TRIGGER:-PT2H
ACTION:DISPLAY
DESCRIPTION:Hoffman/Boyce vs. Kelley/Kelley
END:VALARM
END:VEVENT
BEGIN:VEVENT
UID:pupc-67329217-20250319T192000@quickscores.com
DTSTAMP:20260425T092800Z
DTSTART;TZID=America/Chicago:20250319T192000
DURATION:PT0H40M0S
SUMMARY:Hoffman/Boyce vs. Heinrich/Reidelberger
DESCRIPTION:Pupc Wednesday Intermediate Lg. - Latewinter2025 - Paddle Up Pickleball Club
LOCATION:Court 7
CATEGORIES:QuickScores, Pickleball Game
TRANSP:OPAQUE
BEGIN:VALARM
TRIGGER:-PT2H
ACTION:DISPLAY
DESCRIPTION:Hoffman/Boyce vs. Heinrich/Reidelberger
END:VALARM
END:VEVENT
BEGIN:VEVENT
UID:pupc-67329224-20250326T180000@quickscores.com
DTSTAMP:20260425T092800Z
DTSTART;TZID=America/Chicago:20250326T180000
DURATION:PT0H40M0S
SUMMARY:Scism/Lawson vs. Hoffman/Boyce
DESCRIPTION:Pupc Wednesday Intermediate Lg. - Latewinter2025 - Paddle Up Pickleball Club
LOCATION:Court 6
CATEGORIES:QuickScores, Pickleball Game
TRANSP:OPAQUE
BEGIN:VALARM
TRIGGER:-PT2H
ACTION:DISPLAY
DESCRIPTION:Scism/Lawson vs. Hoffman/Boyce
END:VALARM
END:VEVENT
BEGIN:VEVENT
UID:pupc-67329220-20250326T192000@quickscores.com
DTSTAMP:20260425T092800Z
DTSTART;TZID=America/Chicago:20250326T192000
DURATION:PT0H40M0S
SUMMARY:Mayhall/Bye vs. Hoffman/Boyce
DESCRIPTION:Pupc Wednesday Intermediate Lg. - Latewinter2025 - Paddle Up Pickleball Club
LOCATION:Court 6
CATEGORIES:QuickScores, Pickleball Game
TRANSP:OPAQUE
BEGIN:VALARM
TRIGGER:-PT2H
ACTION:DISPLAY
DESCRIPTION:Mayhall/Bye vs. Hoffman/Boyce
END:VALARM
END:VEVENT
BEGIN:VEVENT
UID:pupc-68051451-20250402T183000@quickscores.com
DTSTAMP:20260425T092800Z
DTSTART;TZID=America/Chicago:20250402T183000
DURATION:PT0H30M0S
SUMMARY:[1] Hoffman/Boyce vs. Winner of Game 1
DESCRIPTION:Pupc Wednesday Intermediate Lg. - Latewinter2025 - Paddle Up Pickleball Club
LOCATION:Court 8
CATEGORIES:QuickScores, Pickleball Game
TRANSP:OPAQUE
BEGIN:VALARM
TRIGGER:-PT2H
ACTION:DISPLAY
DESCRIPTION:[1] Hoffman/Boyce vs. Winner of Game 1
END:VALARM
END:VEVENT
END:VCALENDAR
