BEGIN:VCALENDAR
VERSION:2.0
PRODID:-//QuickScores.com//BQ Dynamic iCal Creator//EN
METHOD:PUBLISH
X-WR-CALNAME:MichaelMiller/ElizabethMiller - Lou Fusz Winter Classic Age 55+ 2pm 1/31 - Completed Tournaments 2024-25
X-WR-CALDESC:QuickScores game calendar
X-PUBLISHED-TTL:PT24H
REFRESH-INTERVAL;VALUE=DURATION:PT24H
CALSCALE:GREGORIAN
BEGIN:VTIMEZONE
TZID:America/Chicago
X-LIC-LOCATION:America/Chicago
BEGIN:DAYLIGHT
TZNAME:CDT
TZOFFSETFROM:-0600
TZOFFSETTO:-0500
DTSTART:19700308T020000
RRULE:FREQ=YEARLY;BYMONTH=3;BYDAY=2SU
END:DAYLIGHT
BEGIN:STANDARD
TZNAME:CST
TZOFFSETFROM:-0500
TZOFFSETTO:-0600
DTSTART:19701101T020000
RRULE:FREQ=YEARLY;BYMONTH=11;BYDAY=1SU
END:STANDARD
END:VTIMEZONE
BEGIN:VEVENT
UID:pupc-67027083-20250131T141000@quickscores.com
DTSTAMP:20260419T155500Z
DTSTART;TZID=America/Chicago:20250131T141000
DURATION:PT0H20M0S
SUMMARY:MichaelMiller/ElizabethMiller vs. MichaelBochenek/JenniferThaxton
DESCRIPTION:Lou Fusz Winter Classic Age 55+ 2pm 1/31 - Paddle Up Pickleball Club
LOCATION:Court 9
CATEGORIES:QuickScores, Pickleball Game
TRANSP:OPAQUE
BEGIN:VALARM
TRIGGER:-PT2H
ACTION:DISPLAY
DESCRIPTION:MichaelMiller/ElizabethMiller vs. MichaelBochenek/JenniferThaxton
END:VALARM
END:VEVENT
BEGIN:VEVENT
UID:pupc-67027088-20250131T143000@quickscores.com
DTSTAMP:20260419T155500Z
DTSTART;TZID=America/Chicago:20250131T143000
DURATION:PT0H20M0S
SUMMARY:MichaelMiller/ElizabethMiller vs. MarkGauding/SandraGauding
DESCRIPTION:Lou Fusz Winter Classic Age 55+ 2pm 1/31 - Paddle Up Pickleball Club
LOCATION:Court 1
CATEGORIES:QuickScores, Pickleball Game
TRANSP:OPAQUE
BEGIN:VALARM
TRIGGER:-PT2H
ACTION:DISPLAY
DESCRIPTION:MichaelMiller/ElizabethMiller vs. MarkGauding/SandraGauding
END:VALARM
END:VEVENT
BEGIN:VEVENT
UID:pupc-67027095-20250131T145000@quickscores.com
DTSTAMP:20260419T155500Z
DTSTART;TZID=America/Chicago:20250131T145000
DURATION:PT0H20M0S
SUMMARY:BillBrowne/JohnCreason vs. MichaelMiller/ElizabethMiller
DESCRIPTION:Lou Fusz Winter Classic Age 55+ 2pm 1/31 - Paddle Up Pickleball Club
LOCATION:Court 1
CATEGORIES:QuickScores, Pickleball Game
TRANSP:OPAQUE
BEGIN:VALARM
TRIGGER:-PT2H
ACTION:DISPLAY
DESCRIPTION:BillBrowne/JohnCreason vs. MichaelMiller/ElizabethMiller
END:VALARM
END:VEVENT
BEGIN:VEVENT
UID:pupc-67027106-20250131T153000@quickscores.com
DTSTAMP:20260419T155500Z
DTSTART;TZID=America/Chicago:20250131T153000
DURATION:PT0H20M0S
SUMMARY:LarryLaramie/DouglasGriesenauer vs. MichaelMiller/ElizabethMiller
DESCRIPTION:Lou Fusz Winter Classic Age 55+ 2pm 1/31 - Paddle Up Pickleball Club
LOCATION:Court 4
CATEGORIES:QuickScores, Pickleball Game
TRANSP:OPAQUE
BEGIN:VALARM
TRIGGER:-PT2H
ACTION:DISPLAY
DESCRIPTION:LarryLaramie/DouglasGriesenauer vs. MichaelMiller/ElizabethMiller
END:VALARM
END:VEVENT
END:VCALENDAR
