BEGIN:VCALENDAR
VERSION:2.0
PRODID:-//QuickScores.com//BQ Dynamic iCal Creator//EN
METHOD:PUBLISH
X-WR-CALNAME:RusselWeston/MissyWeston - Lou Fusz Winter Classic Age 55+ 2pm 1/31 - Completed Tournaments 2024-25
X-WR-CALDESC:QuickScores game calendar
X-PUBLISHED-TTL:PT24H
REFRESH-INTERVAL;VALUE=DURATION:PT24H
CALSCALE:GREGORIAN
BEGIN:VTIMEZONE
TZID:America/Chicago
X-LIC-LOCATION:America/Chicago
BEGIN:DAYLIGHT
TZNAME:CDT
TZOFFSETFROM:-0600
TZOFFSETTO:-0500
DTSTART:19700308T020000
RRULE:FREQ=YEARLY;BYMONTH=3;BYDAY=2SU
END:DAYLIGHT
BEGIN:STANDARD
TZNAME:CST
TZOFFSETFROM:-0500
TZOFFSETTO:-0600
DTSTART:19701101T020000
RRULE:FREQ=YEARLY;BYMONTH=11;BYDAY=1SU
END:STANDARD
END:VTIMEZONE
BEGIN:VEVENT
UID:pupc-67027086-20250131T143000@quickscores.com
DTSTAMP:20260422T012700Z
DTSTART;TZID=America/Chicago:20250131T143000
DURATION:PT0H20M0S
SUMMARY:NoalPresley/RandyPenberthy vs. RusselWeston/MissyWeston
DESCRIPTION:Lou Fusz Winter Classic Age 55+ 2pm 1/31 - Paddle Up Pickleball Club
LOCATION:Court 2
CATEGORIES:QuickScores, Pickleball Game
TRANSP:OPAQUE
BEGIN:VALARM
TRIGGER:-PT2H
ACTION:DISPLAY
DESCRIPTION:NoalPresley/RandyPenberthy vs. RusselWeston/MissyWeston
END:VALARM
END:VEVENT
BEGIN:VEVENT
UID:pupc-67027092-20250131T145000@quickscores.com
DTSTAMP:20260422T012700Z
DTSTART;TZID=America/Chicago:20250131T145000
DURATION:PT0H20M0S
SUMMARY:RusselWeston/MissyWeston vs. SteveTeson/DennisMuessig
DESCRIPTION:Lou Fusz Winter Classic Age 55+ 2pm 1/31 - Paddle Up Pickleball Club
LOCATION:Court 2
CATEGORIES:QuickScores, Pickleball Game
TRANSP:OPAQUE
BEGIN:VALARM
TRIGGER:-PT2H
ACTION:DISPLAY
DESCRIPTION:RusselWeston/MissyWeston vs. SteveTeson/DennisMuessig
END:VALARM
END:VEVENT
BEGIN:VEVENT
UID:pupc-67027099-20250131T151000@quickscores.com
DTSTAMP:20260422T012700Z
DTSTART;TZID=America/Chicago:20250131T151000
DURATION:PT0H20M0S
SUMMARY:ChristineTessereau/MattSimon vs. RusselWeston/MissyWeston
DESCRIPTION:Lou Fusz Winter Classic Age 55+ 2pm 1/31 - Paddle Up Pickleball Club
LOCATION:Court 1
CATEGORIES:QuickScores, Pickleball Game
TRANSP:OPAQUE
BEGIN:VALARM
TRIGGER:-PT2H
ACTION:DISPLAY
DESCRIPTION:ChristineTessereau/MattSimon vs. RusselWeston/MissyWeston
END:VALARM
END:VEVENT
BEGIN:VEVENT
UID:pupc-67027105-20250131T153000@quickscores.com
DTSTAMP:20260422T012700Z
DTSTART;TZID=America/Chicago:20250131T153000
DURATION:PT0H20M0S
SUMMARY:RusselWeston/MissyWeston vs. WayneBrinker/BrendaAlexander
DESCRIPTION:Lou Fusz Winter Classic Age 55+ 2pm 1/31 - Paddle Up Pickleball Club
LOCATION:Court 8
CATEGORIES:QuickScores, Pickleball Game
TRANSP:OPAQUE
BEGIN:VALARM
TRIGGER:-PT2H
ACTION:DISPLAY
DESCRIPTION:RusselWeston/MissyWeston vs. WayneBrinker/BrendaAlexander
END:VALARM
END:VEVENT
END:VCALENDAR
