BEGIN:VCALENDAR
VERSION:2.0
PRODID:-//QuickScores.com//BQ Dynamic iCal Creator//EN
METHOD:PUBLISH
X-WR-CALNAME:ElizabethLansing/DiannCage - Lou Fusz Winter Classic Womens Dbls 9am  2/1 - Completed Tournaments 2024-25
X-WR-CALDESC:QuickScores game calendar
X-PUBLISHED-TTL:PT24H
REFRESH-INTERVAL;VALUE=DURATION:PT24H
CALSCALE:GREGORIAN
BEGIN:VTIMEZONE
TZID:America/Chicago
X-LIC-LOCATION:America/Chicago
BEGIN:DAYLIGHT
TZNAME:CDT
TZOFFSETFROM:-0600
TZOFFSETTO:-0500
DTSTART:19700308T020000
RRULE:FREQ=YEARLY;BYMONTH=3;BYDAY=2SU
END:DAYLIGHT
BEGIN:STANDARD
TZNAME:CST
TZOFFSETFROM:-0500
TZOFFSETTO:-0600
DTSTART:19701101T020000
RRULE:FREQ=YEARLY;BYMONTH=11;BYDAY=1SU
END:STANDARD
END:VTIMEZONE
BEGIN:VEVENT
UID:pupc-67025134-20250201T090000@quickscores.com
DTSTAMP:20260422T140100Z
DTSTART;TZID=America/Chicago:20250201T090000
DURATION:PT0H20M0S
SUMMARY:CherylDuBois/GwenBrooks vs. ElizabethLansing/DiannCage
DESCRIPTION:Lou Fusz Winter Classic Womens Dbls 9am  2/1 - Paddle Up Pickleball Club
LOCATION:Court 6
CATEGORIES:QuickScores, Pickleball Game
TRANSP:OPAQUE
BEGIN:VALARM
TRIGGER:-PT2H
ACTION:DISPLAY
DESCRIPTION:CherylDuBois/GwenBrooks vs. ElizabethLansing/DiannCage
END:VALARM
END:VEVENT
BEGIN:VEVENT
UID:pupc-67025141-20250201T092000@quickscores.com
DTSTAMP:20260422T140100Z
DTSTART;TZID=America/Chicago:20250201T092000
DURATION:PT0H20M0S
SUMMARY:LoriGibson/JodiKruse vs. ElizabethLansing/DiannCage
DESCRIPTION:Lou Fusz Winter Classic Womens Dbls 9am  2/1 - Paddle Up Pickleball Club
LOCATION:Court 3
CATEGORIES:QuickScores, Pickleball Game
TRANSP:OPAQUE
BEGIN:VALARM
TRIGGER:-PT2H
ACTION:DISPLAY
DESCRIPTION:LoriGibson/JodiKruse vs. ElizabethLansing/DiannCage
END:VALARM
END:VEVENT
BEGIN:VEVENT
UID:pupc-67025148-20250201T094000@quickscores.com
DTSTAMP:20260422T140100Z
DTSTART;TZID=America/Chicago:20250201T094000
DURATION:PT0H20M0S
SUMMARY:ElizabethLansing/DiannCage vs. MarieJenkins/CarrieLitzelfelner
DESCRIPTION:Lou Fusz Winter Classic Womens Dbls 9am  2/1 - Paddle Up Pickleball Club
LOCATION:Court 8
CATEGORIES:QuickScores, Pickleball Game
TRANSP:OPAQUE
BEGIN:VALARM
TRIGGER:-PT2H
ACTION:DISPLAY
DESCRIPTION:ElizabethLansing/DiannCage vs. MarieJenkins/CarrieLitzelfelner
END:VALARM
END:VEVENT
BEGIN:VEVENT
UID:pupc-67025155-20250201T100000@quickscores.com
DTSTAMP:20260422T140100Z
DTSTART;TZID=America/Chicago:20250201T100000
DURATION:PT0H20M0S
SUMMARY:ElizabethLansing/DiannCage vs. JulieHarrison/ToniKalish
DESCRIPTION:Lou Fusz Winter Classic Womens Dbls 9am  2/1 - Paddle Up Pickleball Club
LOCATION:Court 4
CATEGORIES:QuickScores, Pickleball Game
TRANSP:OPAQUE
BEGIN:VALARM
TRIGGER:-PT2H
ACTION:DISPLAY
DESCRIPTION:ElizabethLansing/DiannCage vs. JulieHarrison/ToniKalish
END:VALARM
END:VEVENT
BEGIN:VEVENT
UID:pupc-67025162-20250201T102000@quickscores.com
DTSTAMP:20260422T140100Z
DTSTART;TZID=America/Chicago:20250201T102000
DURATION:PT0H20M0S
SUMMARY:ElizabethLansing/DiannCage vs. LauraSwindler/ColleenSiebeneck
DESCRIPTION:Lou Fusz Winter Classic Womens Dbls 9am  2/1 - Paddle Up Pickleball Club
LOCATION:Court 9
CATEGORIES:QuickScores, Pickleball Game
TRANSP:OPAQUE
BEGIN:VALARM
TRIGGER:-PT2H
ACTION:DISPLAY
DESCRIPTION:ElizabethLansing/DiannCage vs. LauraSwindler/ColleenSiebeneck
END:VALARM
END:VEVENT
BEGIN:VEVENT
UID:pupc-67025166-20250201T104000@quickscores.com
DTSTAMP:20260422T140100Z
DTSTART;TZID=America/Chicago:20250201T104000
DURATION:PT0H20M0S
SUMMARY:TinaIngrim/DinaDougherty vs. ElizabethLansing/DiannCage
DESCRIPTION:Lou Fusz Winter Classic Womens Dbls 9am  2/1 - Paddle Up Pickleball Club
LOCATION:Court 3
CATEGORIES:QuickScores, Pickleball Game
TRANSP:OPAQUE
BEGIN:VALARM
TRIGGER:-PT2H
ACTION:DISPLAY
DESCRIPTION:TinaIngrim/DinaDougherty vs. ElizabethLansing/DiannCage
END:VALARM
END:VEVENT
END:VCALENDAR
