BEGIN:VCALENDAR
VERSION:2.0
PRODID:-//QuickScores.com//BQ Dynamic iCal Creator//EN
METHOD:PUBLISH
X-WR-CALNAME:Heinrich/Reidelberger - Friday Night Tourney 1/3 - 6:30pm Start - Completed Tournaments 2024-25
X-WR-CALDESC:QuickScores game calendar
X-PUBLISHED-TTL:PT24H
REFRESH-INTERVAL;VALUE=DURATION:PT24H
CALSCALE:GREGORIAN
BEGIN:VTIMEZONE
TZID:America/Chicago
X-LIC-LOCATION:America/Chicago
BEGIN:DAYLIGHT
TZNAME:CDT
TZOFFSETFROM:-0600
TZOFFSETTO:-0500
DTSTART:19700308T020000
RRULE:FREQ=YEARLY;BYMONTH=3;BYDAY=2SU
END:DAYLIGHT
BEGIN:STANDARD
TZNAME:CST
TZOFFSETFROM:-0500
TZOFFSETTO:-0600
DTSTART:19701101T020000
RRULE:FREQ=YEARLY;BYMONTH=11;BYDAY=1SU
END:STANDARD
END:VTIMEZONE
BEGIN:VEVENT
UID:pupc-66625622-20250103T183000@quickscores.com
DTSTAMP:20260423T150700Z
DTSTART;TZID=America/Chicago:20250103T183000
DURATION:PT0H20M0S
SUMMARY:Rials/Schwartz vs. Heinrich/Reidelberger
DESCRIPTION:Friday Night Tourney 1/3 - 6:30pm Start - Paddle Up Pickleball Club
LOCATION:Court 2
CATEGORIES:QuickScores, Pickleball Game
TRANSP:OPAQUE
BEGIN:VALARM
TRIGGER:-PT2H
ACTION:DISPLAY
DESCRIPTION:Rials/Schwartz vs. Heinrich/Reidelberger
END:VALARM
END:VEVENT
BEGIN:VEVENT
UID:pupc-66625611-20250103T185000@quickscores.com
DTSTAMP:20260423T150700Z
DTSTART;TZID=America/Chicago:20250103T185000
DURATION:PT0H20M0S
SUMMARY:Heinrich/Reidelberger vs. Riddle/Riddle
DESCRIPTION:Friday Night Tourney 1/3 - 6:30pm Start - Paddle Up Pickleball Club
LOCATION:Court 6
CATEGORIES:QuickScores, Pickleball Game
TRANSP:OPAQUE
BEGIN:VALARM
TRIGGER:-PT2H
ACTION:DISPLAY
DESCRIPTION:Heinrich/Reidelberger vs. Riddle/Riddle
END:VALARM
END:VEVENT
BEGIN:VEVENT
UID:pupc-66625636-20250103T193000@quickscores.com
DTSTAMP:20260423T150700Z
DTSTART;TZID=America/Chicago:20250103T193000
DURATION:PT0H20M0S
SUMMARY:Stewart/Ransom vs. Heinrich/Reidelberger
DESCRIPTION:Friday Night Tourney 1/3 - 6:30pm Start - Paddle Up Pickleball Club
LOCATION:Court 3
CATEGORIES:QuickScores, Pickleball Game
TRANSP:OPAQUE
BEGIN:VALARM
TRIGGER:-PT2H
ACTION:DISPLAY
DESCRIPTION:Stewart/Ransom vs. Heinrich/Reidelberger
END:VALARM
END:VEVENT
END:VCALENDAR
