BEGIN:VCALENDAR
VERSION:2.0
PRODID:-//QuickScores.com//BQ Dynamic iCal Creator//EN
METHOD:PUBLISH
X-WR-CALNAME:Presley/Presley - Pupc Sunday High Intermediate League - Winter25 - Completed Leagues 2025
X-WR-CALDESC:QuickScores game calendar
X-PUBLISHED-TTL:PT24H
REFRESH-INTERVAL;VALUE=DURATION:PT24H
CALSCALE:GREGORIAN
BEGIN:VTIMEZONE
TZID:America/Chicago
X-LIC-LOCATION:America/Chicago
BEGIN:DAYLIGHT
TZNAME:CDT
TZOFFSETFROM:-0600
TZOFFSETTO:-0500
DTSTART:19700308T020000
RRULE:FREQ=YEARLY;BYMONTH=3;BYDAY=2SU
END:DAYLIGHT
BEGIN:STANDARD
TZNAME:CST
TZOFFSETFROM:-0500
TZOFFSETTO:-0600
DTSTART:19701101T020000
RRULE:FREQ=YEARLY;BYMONTH=11;BYDAY=1SU
END:STANDARD
END:VTIMEZONE
BEGIN:VEVENT
UID:pupc-66514420-20250112T180000@quickscores.com
DTSTAMP:20260424T063100Z
DTSTART;TZID=America/Chicago:20250112T180000
DURATION:PT0H40M0S
SUMMARY:Presley/Presley vs. Leppert/Leppert
DESCRIPTION:Pupc Sunday High Intermediate League - Winter25 - Paddle Up Pickleball Club
LOCATION:Court 2
CATEGORIES:QuickScores, Pickleball Game
TRANSP:OPAQUE
BEGIN:VALARM
TRIGGER:-PT2H
ACTION:DISPLAY
DESCRIPTION:Presley/Presley vs. Leppert/Leppert
END:VALARM
END:VEVENT
BEGIN:VEVENT
UID:pupc-66514418-20250112T192000@quickscores.com
DTSTAMP:20260424T063100Z
DTSTART;TZID=America/Chicago:20250112T192000
DURATION:PT0H40M0S
SUMMARY:Presley/Presley vs. Thomson/Barth
DESCRIPTION:Pupc Sunday High Intermediate League - Winter25 - Paddle Up Pickleball Club
LOCATION:Court 2
CATEGORIES:QuickScores, Pickleball Game
TRANSP:OPAQUE
BEGIN:VALARM
TRIGGER:-PT2H
ACTION:DISPLAY
DESCRIPTION:Presley/Presley vs. Thomson/Barth
END:VALARM
END:VEVENT
BEGIN:VEVENT
UID:pupc-66514427-20250119T180000@quickscores.com
DTSTAMP:20260424T063100Z
DTSTART;TZID=America/Chicago:20250119T180000
DURATION:PT0H40M0S
SUMMARY:Breunig/Elguezabal vs. Presley/Presley
DESCRIPTION:Pupc Sunday High Intermediate League - Winter25 - Paddle Up Pickleball Club
LOCATION:Court 3
CATEGORIES:QuickScores, Pickleball Game
TRANSP:OPAQUE
BEGIN:VALARM
TRIGGER:-PT2H
ACTION:DISPLAY
DESCRIPTION:Breunig/Elguezabal vs. Presley/Presley
END:VALARM
END:VEVENT
BEGIN:VEVENT
UID:pupc-66514426-20250119T184000@quickscores.com
DTSTAMP:20260424T063100Z
DTSTART;TZID=America/Chicago:20250119T184000
DURATION:PT0H40M0S
SUMMARY:Gibson/Gibson vs. Presley/Presley
DESCRIPTION:Pupc Sunday High Intermediate League - Winter25 - Paddle Up Pickleball Club
LOCATION:Court 2
CATEGORIES:QuickScores, Pickleball Game
TRANSP:OPAQUE
BEGIN:VALARM
TRIGGER:-PT2H
ACTION:DISPLAY
DESCRIPTION:Gibson/Gibson vs. Presley/Presley
END:VALARM
END:VEVENT
BEGIN:VEVENT
UID:pupc-66514434-20250126T200000@quickscores.com
DTSTAMP:20260424T063100Z
DTSTART;TZID=America/Chicago:20250126T200000
DURATION:PT0H40M0S
SUMMARY:Leppert/Leppert vs. Presley/Presley
DESCRIPTION:Pupc Sunday High Intermediate League - Winter25 - Paddle Up Pickleball Club
LOCATION:Court 4
CATEGORIES:QuickScores, Pickleball Game
TRANSP:OPAQUE
BEGIN:VALARM
TRIGGER:-PT2H
ACTION:DISPLAY
DESCRIPTION:Leppert/Leppert vs. Presley/Presley
END:VALARM
END:VEVENT
BEGIN:VEVENT
UID:pupc-66514437-20250126T204000@quickscores.com
DTSTAMP:20260424T063100Z
DTSTART;TZID=America/Chicago:20250126T204000
DURATION:PT0H40M0S
SUMMARY:Rizzo/Schwent vs. Presley/Presley
DESCRIPTION:Pupc Sunday High Intermediate League - Winter25 - Paddle Up Pickleball Club
LOCATION:Court 2
CATEGORIES:QuickScores, Pickleball Game
TRANSP:OPAQUE
BEGIN:VALARM
TRIGGER:-PT2H
ACTION:DISPLAY
DESCRIPTION:Rizzo/Schwent vs. Presley/Presley
END:VALARM
END:VEVENT
BEGIN:VEVENT
UID:pupc-66514444-20250202T184000@quickscores.com
DTSTAMP:20260424T063100Z
DTSTART;TZID=America/Chicago:20250202T184000
DURATION:PT0H40M0S
SUMMARY:Presley/Presley vs. Rizzo/Schwent
DESCRIPTION:Pupc Sunday High Intermediate League - Winter25 - Paddle Up Pickleball Club
LOCATION:Court 6
CATEGORIES:QuickScores, Pickleball Game
TRANSP:OPAQUE
BEGIN:VALARM
TRIGGER:-PT2H
ACTION:DISPLAY
DESCRIPTION:Presley/Presley vs. Rizzo/Schwent
END:VALARM
END:VEVENT
BEGIN:VEVENT
UID:pupc-66514446-20250202T192000@quickscores.com
DTSTAMP:20260424T063100Z
DTSTART;TZID=America/Chicago:20250202T192000
DURATION:PT0H40M0S
SUMMARY:Thomson/Barth vs. Presley/Presley
DESCRIPTION:Pupc Sunday High Intermediate League - Winter25 - Paddle Up Pickleball Club
LOCATION:Court 1
CATEGORIES:QuickScores, Pickleball Game
TRANSP:OPAQUE
BEGIN:VALARM
TRIGGER:-PT2H
ACTION:DISPLAY
DESCRIPTION:Thomson/Barth vs. Presley/Presley
END:VALARM
END:VEVENT
BEGIN:VEVENT
UID:pupc-66654868-20250216T180000@quickscores.com
DTSTAMP:20260424T063100Z
DTSTART;TZID=America/Chicago:20250216T180000
DURATION:PT0H40M0S
SUMMARY:Breunig/Elguezabal vs. Presley/Presley
DESCRIPTION:Pupc Sunday High Intermediate League - Winter25 - Paddle Up Pickleball Club
LOCATION:Court 2
CATEGORIES:QuickScores, Pickleball Game
TRANSP:OPAQUE
BEGIN:VALARM
TRIGGER:-PT2H
ACTION:DISPLAY
DESCRIPTION:Breunig/Elguezabal vs. Presley/Presley
END:VALARM
END:VEVENT
BEGIN:VEVENT
UID:pupc-66654870-20250216T192000@quickscores.com
DTSTAMP:20260424T063100Z
DTSTART;TZID=America/Chicago:20250216T192000
DURATION:PT0H40M0S
SUMMARY:Presley/Presley vs. Flinn/Turner
DESCRIPTION:Pupc Sunday High Intermediate League - Winter25 - Paddle Up Pickleball Club
LOCATION:Court 2
CATEGORIES:QuickScores, Pickleball Game
TRANSP:OPAQUE
BEGIN:VALARM
TRIGGER:-PT2H
ACTION:DISPLAY
DESCRIPTION:Presley/Presley vs. Flinn/Turner
END:VALARM
END:VEVENT
BEGIN:VEVENT
UID:pupc-67249312-20250223T193000@quickscores.com
DTSTAMP:20260424T063100Z
DTSTART;TZID=America/Chicago:20250223T193000
DURATION:PT0H30M0S
SUMMARY:Thomson/Barth vs. Presley/Presley
DESCRIPTION:Pupc Sunday High Intermediate League - Winter25 - Paddle Up Pickleball Club
LOCATION:Court 2
CATEGORIES:QuickScores, Pickleball Game
TRANSP:OPAQUE
BEGIN:VALARM
TRIGGER:-PT2H
ACTION:DISPLAY
DESCRIPTION:Thomson/Barth vs. Presley/Presley
END:VALARM
END:VEVENT
END:VCALENDAR
