BEGIN:VCALENDAR
VERSION:2.0
PRODID:-//QuickScores.com//BQ Dynamic iCal Creator//EN
METHOD:PUBLISH
X-WR-CALNAME:KevinThomas/StacieThomas - Santa Smash Mixed Doubles Rec/lowint 9am 12/22 - Completed Tournaments 2023/24
X-WR-CALDESC:QuickScores game calendar
X-PUBLISHED-TTL:PT24H
REFRESH-INTERVAL;VALUE=DURATION:PT24H
CALSCALE:GREGORIAN
BEGIN:VTIMEZONE
TZID:America/Chicago
X-LIC-LOCATION:America/Chicago
BEGIN:DAYLIGHT
TZNAME:CDT
TZOFFSETFROM:-0600
TZOFFSETTO:-0500
DTSTART:19700308T020000
RRULE:FREQ=YEARLY;BYMONTH=3;BYDAY=2SU
END:DAYLIGHT
BEGIN:STANDARD
TZNAME:CST
TZOFFSETFROM:-0500
TZOFFSETTO:-0600
DTSTART:19701101T020000
RRULE:FREQ=YEARLY;BYMONTH=11;BYDAY=1SU
END:STANDARD
END:VTIMEZONE
BEGIN:VEVENT
UID:pupc-66478930-20241222T092000@quickscores.com
DTSTAMP:20260422T074400Z
DTSTART;TZID=America/Chicago:20241222T092000
DURATION:PT0H20M0S
SUMMARY:KevinThomas/StacieThomas vs. DawnTegeler/KevinTegeler
DESCRIPTION:Santa Smash Mixed Doubles Rec/lowint 9am 12/22 - Paddle Up Pickleball Club
LOCATION:Court 6
CATEGORIES:QuickScores, Pickleball Game
TRANSP:OPAQUE
BEGIN:VALARM
TRIGGER:-PT2H
ACTION:DISPLAY
DESCRIPTION:KevinThomas/StacieThomas vs. DawnTegeler/KevinTegeler
END:VALARM
END:VEVENT
BEGIN:VEVENT
UID:pupc-66478901-20241222T100000@quickscores.com
DTSTAMP:20260422T074400Z
DTSTART;TZID=America/Chicago:20241222T100000
DURATION:PT0H20M0S
SUMMARY:KevinThomas/StacieThomas vs. MichaelNotorangelo/SophieNotorangelo
DESCRIPTION:Santa Smash Mixed Doubles Rec/lowint 9am 12/22 - Paddle Up Pickleball Club
LOCATION:Court 3
CATEGORIES:QuickScores, Pickleball Game
TRANSP:OPAQUE
BEGIN:VALARM
TRIGGER:-PT2H
ACTION:DISPLAY
DESCRIPTION:KevinThomas/StacieThomas vs. MichaelNotorangelo/SophieNotorangelo
END:VALARM
END:VEVENT
BEGIN:VEVENT
UID:pupc-66478887-20241222T102000@quickscores.com
DTSTAMP:20260422T074400Z
DTSTART;TZID=America/Chicago:20241222T102000
DURATION:PT0H20M0S
SUMMARY:LisaJett/JoeySchneider vs. KevinThomas/StacieThomas
DESCRIPTION:Santa Smash Mixed Doubles Rec/lowint 9am 12/22 - Paddle Up Pickleball Club
LOCATION:Court 6
CATEGORIES:QuickScores, Pickleball Game
TRANSP:OPAQUE
BEGIN:VALARM
TRIGGER:-PT2H
ACTION:DISPLAY
DESCRIPTION:LisaJett/JoeySchneider vs. KevinThomas/StacieThomas
END:VALARM
END:VEVENT
BEGIN:VEVENT
UID:pupc-66478916-20241222T104000@quickscores.com
DTSTAMP:20260422T074400Z
DTSTART;TZID=America/Chicago:20241222T104000
DURATION:PT0H20M0S
SUMMARY:CharlesRollins/LauraHaller vs. KevinThomas/StacieThomas
DESCRIPTION:Santa Smash Mixed Doubles Rec/lowint 9am 12/22 - Paddle Up Pickleball Club
LOCATION:Court 8
CATEGORIES:QuickScores, Pickleball Game
TRANSP:OPAQUE
BEGIN:VALARM
TRIGGER:-PT2H
ACTION:DISPLAY
DESCRIPTION:CharlesRollins/LauraHaller vs. KevinThomas/StacieThomas
END:VALARM
END:VEVENT
BEGIN:VEVENT
UID:pupc-66478955-20241222T110000@quickscores.com
DTSTAMP:20260422T074400Z
DTSTART;TZID=America/Chicago:20241222T110000
DURATION:PT0H20M0S
SUMMARY:KevinThomas/StacieThomas vs. SteveDubois/CherylDubois
DESCRIPTION:Santa Smash Mixed Doubles Rec/lowint 9am 12/22 - Paddle Up Pickleball Club
LOCATION:Court 2
CATEGORIES:QuickScores, Pickleball Game
TRANSP:OPAQUE
BEGIN:VALARM
TRIGGER:-PT2H
ACTION:DISPLAY
DESCRIPTION:KevinThomas/StacieThomas vs. SteveDubois/CherylDubois
END:VALARM
END:VEVENT
BEGIN:VEVENT
UID:pupc-66478945-20241222T114000@quickscores.com
DTSTAMP:20260422T074400Z
DTSTART;TZID=America/Chicago:20241222T114000
DURATION:PT0H20M0S
SUMMARY:DeniseWunderlich/MikeWunderlich vs. KevinThomas/StacieThomas
DESCRIPTION:Santa Smash Mixed Doubles Rec/lowint 9am 12/22 - Paddle Up Pickleball Club
LOCATION:Court 3
CATEGORIES:QuickScores, Pickleball Game
TRANSP:OPAQUE
BEGIN:VALARM
TRIGGER:-PT2H
ACTION:DISPLAY
DESCRIPTION:DeniseWunderlich/MikeWunderlich vs. KevinThomas/StacieThomas
END:VALARM
END:VEVENT
END:VCALENDAR
