BEGIN:VCALENDAR
VERSION:2.0
PRODID:-//QuickScores.com//BQ Dynamic iCal Creator//EN
METHOD:PUBLISH
X-WR-CALNAME:Cohea/NPainter - Friday Night Tourney 12/13 - 6pm - Completed Tournaments 2023/24
X-WR-CALDESC:QuickScores game calendar
X-PUBLISHED-TTL:PT24H
REFRESH-INTERVAL;VALUE=DURATION:PT24H
CALSCALE:GREGORIAN
BEGIN:VTIMEZONE
TZID:America/Chicago
X-LIC-LOCATION:America/Chicago
BEGIN:DAYLIGHT
TZNAME:CDT
TZOFFSETFROM:-0600
TZOFFSETTO:-0500
DTSTART:19700308T020000
RRULE:FREQ=YEARLY;BYMONTH=3;BYDAY=2SU
END:DAYLIGHT
BEGIN:STANDARD
TZNAME:CST
TZOFFSETFROM:-0500
TZOFFSETTO:-0600
DTSTART:19701101T020000
RRULE:FREQ=YEARLY;BYMONTH=11;BYDAY=1SU
END:STANDARD
END:VTIMEZONE
BEGIN:VEVENT
UID:pupc-66387180-20241213T183000@quickscores.com
DTSTAMP:20260425T055100Z
DTSTART;TZID=America/Chicago:20241213T183000
DURATION:PT0H20M0S
SUMMARY:Singleton/Outman vs. Cohea/NPainter
DESCRIPTION:Friday Night Tourney 12/13 - 6pm - Paddle Up Pickleball Club
LOCATION:Court 8
CATEGORIES:QuickScores, Pickleball Game
TRANSP:OPAQUE
BEGIN:VALARM
TRIGGER:-PT2H
ACTION:DISPLAY
DESCRIPTION:Singleton/Outman vs. Cohea/NPainter
END:VALARM
END:VEVENT
BEGIN:VEVENT
UID:pupc-66387159-20241213T185000@quickscores.com
DTSTAMP:20260425T055100Z
DTSTART;TZID=America/Chicago:20241213T185000
DURATION:PT0H20M0S
SUMMARY:Wunderlich/Wunderlich vs. Cohea/NPainter
DESCRIPTION:Friday Night Tourney 12/13 - 6pm - Paddle Up Pickleball Club
LOCATION:Court 3
CATEGORIES:QuickScores, Pickleball Game
TRANSP:OPAQUE
BEGIN:VALARM
TRIGGER:-PT2H
ACTION:DISPLAY
DESCRIPTION:Wunderlich/Wunderlich vs. Cohea/NPainter
END:VALARM
END:VEVENT
BEGIN:VEVENT
UID:pupc-66387184-20241213T193000@quickscores.com
DTSTAMP:20260425T055100Z
DTSTART;TZID=America/Chicago:20241213T193000
DURATION:PT0H20M0S
SUMMARY:Cohea/NPainter vs. Wilson/Schulte
DESCRIPTION:Friday Night Tourney 12/13 - 6pm - Paddle Up Pickleball Club
LOCATION:Court 5
CATEGORIES:QuickScores, Pickleball Game
TRANSP:OPAQUE
BEGIN:VALARM
TRIGGER:-PT2H
ACTION:DISPLAY
DESCRIPTION:Cohea/NPainter vs. Wilson/Schulte
END:VALARM
END:VEVENT
END:VCALENDAR
