BEGIN:VCALENDAR
VERSION:2.0
PRODID:-//QuickScores.com//BQ Dynamic iCal Creator//EN
METHOD:PUBLISH
X-WR-CALNAME:Gibson/Gibson - Pupc Sunday High Intermediate League - Winter25 - Completed Leagues 2025
X-WR-CALDESC:QuickScores game calendar
X-PUBLISHED-TTL:PT24H
REFRESH-INTERVAL;VALUE=DURATION:PT24H
CALSCALE:GREGORIAN
BEGIN:VTIMEZONE
TZID:America/Chicago
X-LIC-LOCATION:America/Chicago
BEGIN:DAYLIGHT
TZNAME:CDT
TZOFFSETFROM:-0600
TZOFFSETTO:-0500
DTSTART:19700308T020000
RRULE:FREQ=YEARLY;BYMONTH=3;BYDAY=2SU
END:DAYLIGHT
BEGIN:STANDARD
TZNAME:CST
TZOFFSETFROM:-0500
TZOFFSETTO:-0600
DTSTART:19701101T020000
RRULE:FREQ=YEARLY;BYMONTH=11;BYDAY=1SU
END:STANDARD
END:VTIMEZONE
BEGIN:VEVENT
UID:pupc-66514412-20250112T192000@quickscores.com
DTSTAMP:20260424T070200Z
DTSTART;TZID=America/Chicago:20250112T192000
DURATION:PT0H40M0S
SUMMARY:Gibson/Gibson vs. Rees/Meyer
DESCRIPTION:Pupc Sunday High Intermediate League - Winter25 - Paddle Up Pickleball Club
LOCATION:Court 3
CATEGORIES:QuickScores, Pickleball Game
TRANSP:OPAQUE
BEGIN:VALARM
TRIGGER:-PT2H
ACTION:DISPLAY
DESCRIPTION:Gibson/Gibson vs. Rees/Meyer
END:VALARM
END:VEVENT
BEGIN:VEVENT
UID:pupc-66514416-20250112T200000@quickscores.com
DTSTAMP:20260424T070200Z
DTSTART;TZID=America/Chicago:20250112T200000
DURATION:PT0H40M0S
SUMMARY:Gibson/Gibson vs. Breunig/Elguezabal
DESCRIPTION:Pupc Sunday High Intermediate League - Winter25 - Paddle Up Pickleball Club
LOCATION:Court 2
CATEGORIES:QuickScores, Pickleball Game
TRANSP:OPAQUE
BEGIN:VALARM
TRIGGER:-PT2H
ACTION:DISPLAY
DESCRIPTION:Gibson/Gibson vs. Breunig/Elguezabal
END:VALARM
END:VEVENT
BEGIN:VEVENT
UID:pupc-66514425-20250119T180000@quickscores.com
DTSTAMP:20260424T070200Z
DTSTART;TZID=America/Chicago:20250119T180000
DURATION:PT0H40M0S
SUMMARY:Flinn/Turner vs. Gibson/Gibson
DESCRIPTION:Pupc Sunday High Intermediate League - Winter25 - Paddle Up Pickleball Club
LOCATION:Court 2
CATEGORIES:QuickScores, Pickleball Game
TRANSP:OPAQUE
BEGIN:VALARM
TRIGGER:-PT2H
ACTION:DISPLAY
DESCRIPTION:Flinn/Turner vs. Gibson/Gibson
END:VALARM
END:VEVENT
BEGIN:VEVENT
UID:pupc-66514426-20250119T184000@quickscores.com
DTSTAMP:20260424T070200Z
DTSTART;TZID=America/Chicago:20250119T184000
DURATION:PT0H40M0S
SUMMARY:Gibson/Gibson vs. Presley/Presley
DESCRIPTION:Pupc Sunday High Intermediate League - Winter25 - Paddle Up Pickleball Club
LOCATION:Court 2
CATEGORIES:QuickScores, Pickleball Game
TRANSP:OPAQUE
BEGIN:VALARM
TRIGGER:-PT2H
ACTION:DISPLAY
DESCRIPTION:Gibson/Gibson vs. Presley/Presley
END:VALARM
END:VEVENT
BEGIN:VEVENT
UID:pupc-66514432-20250126T180000@quickscores.com
DTSTAMP:20260424T070200Z
DTSTART;TZID=America/Chicago:20250126T180000
DURATION:PT0H40M0S
SUMMARY:Gibson/Gibson vs. Thomson/Barth
DESCRIPTION:Pupc Sunday High Intermediate League - Winter25 - Paddle Up Pickleball Club
LOCATION:Court 2
CATEGORIES:QuickScores, Pickleball Game
TRANSP:OPAQUE
BEGIN:VALARM
TRIGGER:-PT2H
ACTION:DISPLAY
DESCRIPTION:Gibson/Gibson vs. Thomson/Barth
END:VALARM
END:VEVENT
BEGIN:VEVENT
UID:pupc-66514431-20250126T184000@quickscores.com
DTSTAMP:20260424T070200Z
DTSTART;TZID=America/Chicago:20250126T184000
DURATION:PT0H40M0S
SUMMARY:Flinn/Turner vs. Gibson/Gibson
DESCRIPTION:Pupc Sunday High Intermediate League - Winter25 - Paddle Up Pickleball Club
LOCATION:Court 2
CATEGORIES:QuickScores, Pickleball Game
TRANSP:OPAQUE
BEGIN:VALARM
TRIGGER:-PT2H
ACTION:DISPLAY
DESCRIPTION:Flinn/Turner vs. Gibson/Gibson
END:VALARM
END:VEVENT
BEGIN:VEVENT
UID:pupc-66654869-20250216T192000@quickscores.com
DTSTAMP:20260424T070200Z
DTSTART;TZID=America/Chicago:20250216T192000
DURATION:PT0H40M0S
SUMMARY:Rizzo/Schwent vs. Gibson/Gibson
DESCRIPTION:Pupc Sunday High Intermediate League - Winter25 - Paddle Up Pickleball Club
LOCATION:Court 1
CATEGORIES:QuickScores, Pickleball Game
TRANSP:OPAQUE
BEGIN:VALARM
TRIGGER:-PT2H
ACTION:DISPLAY
DESCRIPTION:Rizzo/Schwent vs. Gibson/Gibson
END:VALARM
END:VEVENT
BEGIN:VEVENT
UID:pupc-66654872-20250216T204000@quickscores.com
DTSTAMP:20260424T070200Z
DTSTART;TZID=America/Chicago:20250216T204000
DURATION:PT0H40M0S
SUMMARY:Leppert/Leppert vs. Gibson/Gibson
DESCRIPTION:Pupc Sunday High Intermediate League - Winter25 - Paddle Up Pickleball Club
LOCATION:Court 1
CATEGORIES:QuickScores, Pickleball Game
TRANSP:OPAQUE
BEGIN:VALARM
TRIGGER:-PT2H
ACTION:DISPLAY
DESCRIPTION:Leppert/Leppert vs. Gibson/Gibson
END:VALARM
END:VEVENT
BEGIN:VEVENT
UID:pupc-67249310-20250223T193000@quickscores.com
DTSTAMP:20260424T070200Z
DTSTART;TZID=America/Chicago:20250223T193000
DURATION:PT0H30M0S
SUMMARY:Flinn/Turner vs. Gibson/Gibson
DESCRIPTION:Pupc Sunday High Intermediate League - Winter25 - Paddle Up Pickleball Club
LOCATION:Court 1
CATEGORIES:QuickScores, Pickleball Game
TRANSP:OPAQUE
BEGIN:VALARM
TRIGGER:-PT2H
ACTION:DISPLAY
DESCRIPTION:Flinn/Turner vs. Gibson/Gibson
END:VALARM
END:VEVENT
END:VCALENDAR
