BEGIN:VCALENDAR
VERSION:2.0
PRODID:-//QuickScores.com//BQ Dynamic iCal Creator//EN
METHOD:PUBLISH
X-WR-CALNAME:SeanListon/LibbyListon - Santa Smash Mixed Doubles Highint/adv.1:30pm 12/22 - Completed Tournaments 2023/24
X-WR-CALDESC:QuickScores game calendar
X-PUBLISHED-TTL:PT24H
REFRESH-INTERVAL;VALUE=DURATION:PT24H
CALSCALE:GREGORIAN
BEGIN:VTIMEZONE
TZID:America/Chicago
X-LIC-LOCATION:America/Chicago
BEGIN:DAYLIGHT
TZNAME:CDT
TZOFFSETFROM:-0600
TZOFFSETTO:-0500
DTSTART:19700308T020000
RRULE:FREQ=YEARLY;BYMONTH=3;BYDAY=2SU
END:DAYLIGHT
BEGIN:STANDARD
TZNAME:CST
TZOFFSETFROM:-0500
TZOFFSETTO:-0600
DTSTART:19701101T020000
RRULE:FREQ=YEARLY;BYMONTH=11;BYDAY=1SU
END:STANDARD
END:VTIMEZONE
BEGIN:VEVENT
UID:pupc-66478597-20241222T134000@quickscores.com
DTSTAMP:20260425T195700Z
DTSTART;TZID=America/Chicago:20241222T134000
DURATION:PT0H20M0S
SUMMARY:CourtneyOpich/NicholasPangilinan vs. SeanListon/LibbyListon
DESCRIPTION:Santa Smash Mixed Doubles Highint/adv.1:30pm 12/22 - Paddle Up Pickleball Club
LOCATION:Court 7
CATEGORIES:QuickScores, Pickleball Game
TRANSP:OPAQUE
BEGIN:VALARM
TRIGGER:-PT2H
ACTION:DISPLAY
DESCRIPTION:CourtneyOpich/NicholasPangilinan vs. SeanListon/LibbyListon
END:VALARM
END:VEVENT
BEGIN:VEVENT
UID:pupc-66478608-20241222T140000@quickscores.com
DTSTAMP:20260425T195700Z
DTSTART;TZID=America/Chicago:20241222T140000
DURATION:PT0H20M0S
SUMMARY:SeanListon/LibbyListon vs. ZakKruse/LindaWells
DESCRIPTION:Santa Smash Mixed Doubles Highint/adv.1:30pm 12/22 - Paddle Up Pickleball Club
LOCATION:Court 7
CATEGORIES:QuickScores, Pickleball Game
TRANSP:OPAQUE
BEGIN:VALARM
TRIGGER:-PT2H
ACTION:DISPLAY
DESCRIPTION:SeanListon/LibbyListon vs. ZakKruse/LindaWells
END:VALARM
END:VEVENT
BEGIN:VEVENT
UID:pupc-66478621-20241222T142000@quickscores.com
DTSTAMP:20260425T195700Z
DTSTART;TZID=America/Chicago:20241222T142000
DURATION:PT0H20M0S
SUMMARY:ChaseBlickhan/KayleighTrokey vs. SeanListon/LibbyListon
DESCRIPTION:Santa Smash Mixed Doubles Highint/adv.1:30pm 12/22 - Paddle Up Pickleball Club
LOCATION:Court 6
CATEGORIES:QuickScores, Pickleball Game
TRANSP:OPAQUE
BEGIN:VALARM
TRIGGER:-PT2H
ACTION:DISPLAY
DESCRIPTION:ChaseBlickhan/KayleighTrokey vs. SeanListon/LibbyListon
END:VALARM
END:VEVENT
BEGIN:VEVENT
UID:pupc-66478635-20241222T150000@quickscores.com
DTSTAMP:20260425T195700Z
DTSTART;TZID=America/Chicago:20241222T150000
DURATION:PT0H20M0S
SUMMARY:SeanListon/LibbyListon vs. JacquelineBall/KirkSchaaf
DESCRIPTION:Santa Smash Mixed Doubles Highint/adv.1:30pm 12/22 - Paddle Up Pickleball Club
LOCATION:Court 6
CATEGORIES:QuickScores, Pickleball Game
TRANSP:OPAQUE
BEGIN:VALARM
TRIGGER:-PT2H
ACTION:DISPLAY
DESCRIPTION:SeanListon/LibbyListon vs. JacquelineBall/KirkSchaaf
END:VALARM
END:VEVENT
BEGIN:VEVENT
UID:pupc-66478662-20241222T160000@quickscores.com
DTSTAMP:20260425T195700Z
DTSTART;TZID=America/Chicago:20241222T160000
DURATION:PT0H20M0S
SUMMARY:SeanListon/LibbyListon vs. FlorDeLuca/MatiasSevilla
DESCRIPTION:Santa Smash Mixed Doubles Highint/adv.1:30pm 12/22 - Paddle Up Pickleball Club
LOCATION:Court 8
CATEGORIES:QuickScores, Pickleball Game
TRANSP:OPAQUE
BEGIN:VALARM
TRIGGER:-PT2H
ACTION:DISPLAY
DESCRIPTION:SeanListon/LibbyListon vs. FlorDeLuca/MatiasSevilla
END:VALARM
END:VEVENT
BEGIN:VEVENT
UID:pupc-66478648-20241222T162000@quickscores.com
DTSTAMP:20260425T195700Z
DTSTART;TZID=America/Chicago:20241222T162000
DURATION:PT0H20M0S
SUMMARY:AndyBlickhan/AmySmith vs. SeanListon/LibbyListon
DESCRIPTION:Santa Smash Mixed Doubles Highint/adv.1:30pm 12/22 - Paddle Up Pickleball Club
LOCATION:Court 3
CATEGORIES:QuickScores, Pickleball Game
TRANSP:OPAQUE
BEGIN:VALARM
TRIGGER:-PT2H
ACTION:DISPLAY
DESCRIPTION:AndyBlickhan/AmySmith vs. SeanListon/LibbyListon
END:VALARM
END:VEVENT
END:VCALENDAR
