BEGIN:VCALENDAR
VERSION:2.0
PRODID:-//QuickScores.com//BQ Dynamic iCal Creator//EN
METHOD:PUBLISH
X-WR-CALNAME:RandyParham/EmilyParham - Santa Smash Mixed Doubles Rec/lowint 9am 12/22 - Completed Tournaments 2023/24
X-WR-CALDESC:QuickScores game calendar
X-PUBLISHED-TTL:PT24H
REFRESH-INTERVAL;VALUE=DURATION:PT24H
CALSCALE:GREGORIAN
BEGIN:VTIMEZONE
TZID:America/Chicago
X-LIC-LOCATION:America/Chicago
BEGIN:DAYLIGHT
TZNAME:CDT
TZOFFSETFROM:-0600
TZOFFSETTO:-0500
DTSTART:19700308T020000
RRULE:FREQ=YEARLY;BYMONTH=3;BYDAY=2SU
END:DAYLIGHT
BEGIN:STANDARD
TZNAME:CST
TZOFFSETFROM:-0500
TZOFFSETTO:-0600
DTSTART:19701101T020000
RRULE:FREQ=YEARLY;BYMONTH=11;BYDAY=1SU
END:STANDARD
END:VTIMEZONE
BEGIN:VEVENT
UID:pupc-66478886-20241222T090000@quickscores.com
DTSTAMP:20260419T104200Z
DTSTART;TZID=America/Chicago:20241222T090000
DURATION:PT0H20M0S
SUMMARY:RandyParham/EmilyParham vs. SaraVanAmburgh/JoeClay
DESCRIPTION:Santa Smash Mixed Doubles Rec/lowint 9am 12/22 - Paddle Up Pickleball Club
LOCATION:Court 9
CATEGORIES:QuickScores, Pickleball Game
TRANSP:OPAQUE
BEGIN:VALARM
TRIGGER:-PT2H
ACTION:DISPLAY
DESCRIPTION:RandyParham/EmilyParham vs. SaraVanAmburgh/JoeClay
END:VALARM
END:VEVENT
BEGIN:VEVENT
UID:pupc-66478913-20241222T094000@quickscores.com
DTSTAMP:20260419T104200Z
DTSTART;TZID=America/Chicago:20241222T094000
DURATION:PT0H20M0S
SUMMARY:EduardoGomez/MarinaConklin vs. RandyParham/EmilyParham
DESCRIPTION:Santa Smash Mixed Doubles Rec/lowint 9am 12/22 - Paddle Up Pickleball Club
LOCATION:Court 1
CATEGORIES:QuickScores, Pickleball Game
TRANSP:OPAQUE
BEGIN:VALARM
TRIGGER:-PT2H
ACTION:DISPLAY
DESCRIPTION:EduardoGomez/MarinaConklin vs. RandyParham/EmilyParham
END:VALARM
END:VEVENT
BEGIN:VEVENT
UID:pupc-66478899-20241222T100000@quickscores.com
DTSTAMP:20260419T104200Z
DTSTART;TZID=America/Chicago:20241222T100000
DURATION:PT0H20M0S
SUMMARY:ToddLane/AshlynLane vs. RandyParham/EmilyParham
DESCRIPTION:Santa Smash Mixed Doubles Rec/lowint 9am 12/22 - Paddle Up Pickleball Club
LOCATION:Court 7
CATEGORIES:QuickScores, Pickleball Game
TRANSP:OPAQUE
BEGIN:VALARM
TRIGGER:-PT2H
ACTION:DISPLAY
DESCRIPTION:ToddLane/AshlynLane vs. RandyParham/EmilyParham
END:VALARM
END:VEVENT
BEGIN:VEVENT
UID:pupc-66478926-20241222T104000@quickscores.com
DTSTAMP:20260419T104200Z
DTSTART;TZID=America/Chicago:20241222T104000
DURATION:PT0H20M0S
SUMMARY:RandyParham/EmilyParham vs. JamieRichardson/AdamRichardson
DESCRIPTION:Santa Smash Mixed Doubles Rec/lowint 9am 12/22 - Paddle Up Pickleball Club
LOCATION:Court 6
CATEGORIES:QuickScores, Pickleball Game
TRANSP:OPAQUE
BEGIN:VALARM
TRIGGER:-PT2H
ACTION:DISPLAY
DESCRIPTION:RandyParham/EmilyParham vs. JamieRichardson/AdamRichardson
END:VALARM
END:VEVENT
BEGIN:VEVENT
UID:pupc-66478872-20241222T112000@quickscores.com
DTSTAMP:20260419T104200Z
DTSTART;TZID=America/Chicago:20241222T112000
DURATION:PT0H20M0S
SUMMARY:DanielleDuHadway/RobDuHadway vs. RandyParham/EmilyParham
DESCRIPTION:Santa Smash Mixed Doubles Rec/lowint 9am 12/22 - Paddle Up Pickleball Club
LOCATION:Court 5
CATEGORIES:QuickScores, Pickleball Game
TRANSP:OPAQUE
BEGIN:VALARM
TRIGGER:-PT2H
ACTION:DISPLAY
DESCRIPTION:DanielleDuHadway/RobDuHadway vs. RandyParham/EmilyParham
END:VALARM
END:VEVENT
BEGIN:VEVENT
UID:pupc-66478940-20241222T114000@quickscores.com
DTSTAMP:20260419T104200Z
DTSTART;TZID=America/Chicago:20241222T114000
DURATION:PT0H20M0S
SUMMARY:RandyParham/EmilyParham vs. LoriGibson/NickGibson
DESCRIPTION:Santa Smash Mixed Doubles Rec/lowint 9am 12/22 - Paddle Up Pickleball Club
LOCATION:Court 1
CATEGORIES:QuickScores, Pickleball Game
TRANSP:OPAQUE
BEGIN:VALARM
TRIGGER:-PT2H
ACTION:DISPLAY
DESCRIPTION:RandyParham/EmilyParham vs. LoriGibson/NickGibson
END:VALARM
END:VEVENT
END:VCALENDAR
