BEGIN:VCALENDAR
VERSION:2.0
PRODID:-//QuickScores.com//BQ Dynamic iCal Creator//EN
METHOD:PUBLISH
X-WR-CALNAME:JamieRichardson/AdamRichardson - Santa Smash Mixed Doubles Rec/lowint 9am 12/22 - Completed Tournaments 2023/24
X-WR-CALDESC:QuickScores game calendar
X-PUBLISHED-TTL:PT24H
REFRESH-INTERVAL;VALUE=DURATION:PT24H
CALSCALE:GREGORIAN
BEGIN:VTIMEZONE
TZID:America/Chicago
X-LIC-LOCATION:America/Chicago
BEGIN:DAYLIGHT
TZNAME:CDT
TZOFFSETFROM:-0600
TZOFFSETTO:-0500
DTSTART:19700308T020000
RRULE:FREQ=YEARLY;BYMONTH=3;BYDAY=2SU
END:DAYLIGHT
BEGIN:STANDARD
TZNAME:CST
TZOFFSETFROM:-0500
TZOFFSETTO:-0600
DTSTART:19701101T020000
RRULE:FREQ=YEARLY;BYMONTH=11;BYDAY=1SU
END:STANDARD
END:VTIMEZONE
BEGIN:VEVENT
UID:pupc-66478868-20241222T090000@quickscores.com
DTSTAMP:20260419T122100Z
DTSTART;TZID=America/Chicago:20241222T090000
DURATION:PT0H20M0S
SUMMARY:BradDonley/SaraDonley vs. JamieRichardson/AdamRichardson
DESCRIPTION:Santa Smash Mixed Doubles Rec/lowint 9am 12/22 - Paddle Up Pickleball Club
LOCATION:Court 6
CATEGORIES:QuickScores, Pickleball Game
TRANSP:OPAQUE
BEGIN:VALARM
TRIGGER:-PT2H
ACTION:DISPLAY
DESCRIPTION:BradDonley/SaraDonley vs. JamieRichardson/AdamRichardson
END:VALARM
END:VEVENT
BEGIN:VEVENT
UID:pupc-66478897-20241222T094000@quickscores.com
DTSTAMP:20260419T122100Z
DTSTART;TZID=America/Chicago:20241222T094000
DURATION:PT0H20M0S
SUMMARY:JamieRichardson/AdamRichardson vs. TroyHamilton/HaileyBurnett
DESCRIPTION:Santa Smash Mixed Doubles Rec/lowint 9am 12/22 - Paddle Up Pickleball Club
LOCATION:Court 3
CATEGORIES:QuickScores, Pickleball Game
TRANSP:OPAQUE
BEGIN:VALARM
TRIGGER:-PT2H
ACTION:DISPLAY
DESCRIPTION:JamieRichardson/AdamRichardson vs. TroyHamilton/HaileyBurnett
END:VALARM
END:VEVENT
BEGIN:VEVENT
UID:pupc-66478908-20241222T102000@quickscores.com
DTSTAMP:20260419T122100Z
DTSTART;TZID=America/Chicago:20241222T102000
DURATION:PT0H20M0S
SUMMARY:JamieRichardson/AdamRichardson vs. CassieHackworth/EricSchroeder
DESCRIPTION:Santa Smash Mixed Doubles Rec/lowint 9am 12/22 - Paddle Up Pickleball Club
LOCATION:Court 1
CATEGORIES:QuickScores, Pickleball Game
TRANSP:OPAQUE
BEGIN:VALARM
TRIGGER:-PT2H
ACTION:DISPLAY
DESCRIPTION:JamieRichardson/AdamRichardson vs. CassieHackworth/EricSchroeder
END:VALARM
END:VEVENT
BEGIN:VEVENT
UID:pupc-66478926-20241222T104000@quickscores.com
DTSTAMP:20260419T122100Z
DTSTART;TZID=America/Chicago:20241222T104000
DURATION:PT0H20M0S
SUMMARY:RandyParham/EmilyParham vs. JamieRichardson/AdamRichardson
DESCRIPTION:Santa Smash Mixed Doubles Rec/lowint 9am 12/22 - Paddle Up Pickleball Club
LOCATION:Court 6
CATEGORIES:QuickScores, Pickleball Game
TRANSP:OPAQUE
BEGIN:VALARM
TRIGGER:-PT2H
ACTION:DISPLAY
DESCRIPTION:RandyParham/EmilyParham vs. JamieRichardson/AdamRichardson
END:VALARM
END:VEVENT
BEGIN:VEVENT
UID:pupc-66478952-20241222T112000@quickscores.com
DTSTAMP:20260419T122100Z
DTSTART;TZID=America/Chicago:20241222T112000
DURATION:PT0H20M0S
SUMMARY:LoriGibson/NickGibson vs. JamieRichardson/AdamRichardson
DESCRIPTION:Santa Smash Mixed Doubles Rec/lowint 9am 12/22 - Paddle Up Pickleball Club
LOCATION:Court 6
CATEGORIES:QuickScores, Pickleball Game
TRANSP:OPAQUE
BEGIN:VALARM
TRIGGER:-PT2H
ACTION:DISPLAY
DESCRIPTION:LoriGibson/NickGibson vs. JamieRichardson/AdamRichardson
END:VALARM
END:VEVENT
BEGIN:VEVENT
UID:pupc-66478881-20241222T120000@quickscores.com
DTSTAMP:20260419T122100Z
DTSTART;TZID=America/Chicago:20241222T120000
DURATION:PT0H20M0S
SUMMARY:JamieRichardson/AdamRichardson vs. JustinFears/NicciFears
DESCRIPTION:Santa Smash Mixed Doubles Rec/lowint 9am 12/22 - Paddle Up Pickleball Club
LOCATION:Court 4
CATEGORIES:QuickScores, Pickleball Game
TRANSP:OPAQUE
BEGIN:VALARM
TRIGGER:-PT2H
ACTION:DISPLAY
DESCRIPTION:JamieRichardson/AdamRichardson vs. JustinFears/NicciFears
END:VALARM
END:VEVENT
END:VCALENDAR
