BEGIN:VCALENDAR
VERSION:2.0
PRODID:-//QuickScores.com//BQ Dynamic iCal Creator//EN
METHOD:PUBLISH
X-WR-CALNAME:MattBremer/DeniseGlenn - Santa Smash Mixed Doubles Rec/lowint 9am 12/22 - Completed Tournaments 2023/24
X-WR-CALDESC:QuickScores game calendar
X-PUBLISHED-TTL:PT24H
REFRESH-INTERVAL;VALUE=DURATION:PT24H
CALSCALE:GREGORIAN
BEGIN:VTIMEZONE
TZID:America/Chicago
X-LIC-LOCATION:America/Chicago
BEGIN:DAYLIGHT
TZNAME:CDT
TZOFFSETFROM:-0600
TZOFFSETTO:-0500
DTSTART:19700308T020000
RRULE:FREQ=YEARLY;BYMONTH=3;BYDAY=2SU
END:DAYLIGHT
BEGIN:STANDARD
TZNAME:CST
TZOFFSETFROM:-0500
TZOFFSETTO:-0600
DTSTART:19701101T020000
RRULE:FREQ=YEARLY;BYMONTH=11;BYDAY=1SU
END:STANDARD
END:VTIMEZONE
BEGIN:VEVENT
UID:pupc-66478879-20241222T090000@quickscores.com
DTSTAMP:20260421T002300Z
DTSTART;TZID=America/Chicago:20241222T090000
DURATION:PT0H20M0S
SUMMARY:MattBremer/DeniseGlenn vs. BeckyBee/RyanEckman
DESCRIPTION:Santa Smash Mixed Doubles Rec/lowint 9am 12/22 - Paddle Up Pickleball Club
LOCATION:Court 7
CATEGORIES:QuickScores, Pickleball Game
TRANSP:OPAQUE
BEGIN:VALARM
TRIGGER:-PT2H
ACTION:DISPLAY
DESCRIPTION:MattBremer/DeniseGlenn vs. BeckyBee/RyanEckman
END:VALARM
END:VEVENT
BEGIN:VEVENT
UID:pupc-66478892-20241222T094000@quickscores.com
DTSTAMP:20260421T002300Z
DTSTART;TZID=America/Chicago:20241222T094000
DURATION:PT0H20M0S
SUMMARY:MarieJenkins/BrianJenkins vs. MattBremer/DeniseGlenn
DESCRIPTION:Santa Smash Mixed Doubles Rec/lowint 9am 12/22 - Paddle Up Pickleball Club
LOCATION:Court 8
CATEGORIES:QuickScores, Pickleball Game
TRANSP:OPAQUE
BEGIN:VALARM
TRIGGER:-PT2H
ACTION:DISPLAY
DESCRIPTION:MarieJenkins/BrianJenkins vs. MattBremer/DeniseGlenn
END:VALARM
END:VEVENT
BEGIN:VEVENT
UID:pupc-66478907-20241222T100000@quickscores.com
DTSTAMP:20260421T002300Z
DTSTART;TZID=America/Chicago:20241222T100000
DURATION:PT0H20M0S
SUMMARY:MattBremer/DeniseGlenn vs. NoalPresley/GinaPresley
DESCRIPTION:Santa Smash Mixed Doubles Rec/lowint 9am 12/22 - Paddle Up Pickleball Club
LOCATION:Court 5
CATEGORIES:QuickScores, Pickleball Game
TRANSP:OPAQUE
BEGIN:VALARM
TRIGGER:-PT2H
ACTION:DISPLAY
DESCRIPTION:MattBremer/DeniseGlenn vs. NoalPresley/GinaPresley
END:VALARM
END:VEVENT
BEGIN:VEVENT
UID:pupc-66478919-20241222T104000@quickscores.com
DTSTAMP:20260421T002300Z
DTSTART;TZID=America/Chicago:20241222T104000
DURATION:PT0H20M0S
SUMMARY:PaulKirkseyAnneDennison vs. MattBremer/DeniseGlenn
DESCRIPTION:Santa Smash Mixed Doubles Rec/lowint 9am 12/22 - Paddle Up Pickleball Club
LOCATION:Court 9
CATEGORIES:QuickScores, Pickleball Game
TRANSP:OPAQUE
BEGIN:VALARM
TRIGGER:-PT2H
ACTION:DISPLAY
DESCRIPTION:PaulKirkseyAnneDennison vs. MattBremer/DeniseGlenn
END:VALARM
END:VEVENT
BEGIN:VEVENT
UID:pupc-66478934-20241222T112000@quickscores.com
DTSTAMP:20260421T002300Z
DTSTART;TZID=America/Chicago:20241222T112000
DURATION:PT0H20M0S
SUMMARY:MattBremer/DeniseGlenn vs. MaryKelley//DanKelley
DESCRIPTION:Santa Smash Mixed Doubles Rec/lowint 9am 12/22 - Paddle Up Pickleball Club
LOCATION:Court 2
CATEGORIES:QuickScores, Pickleball Game
TRANSP:OPAQUE
BEGIN:VALARM
TRIGGER:-PT2H
ACTION:DISPLAY
DESCRIPTION:MattBremer/DeniseGlenn vs. MaryKelley//DanKelley
END:VALARM
END:VEVENT
BEGIN:VEVENT
UID:pupc-66478946-20241222T120000@quickscores.com
DTSTAMP:20260421T002300Z
DTSTART;TZID=America/Chicago:20241222T120000
DURATION:PT0H20M0S
SUMMARY:WhitneyDurham/ScottDurham vs. MattBremer/DeniseGlenn
DESCRIPTION:Santa Smash Mixed Doubles Rec/lowint 9am 12/22 - Paddle Up Pickleball Club
LOCATION:Court 3
CATEGORIES:QuickScores, Pickleball Game
TRANSP:OPAQUE
BEGIN:VALARM
TRIGGER:-PT2H
ACTION:DISPLAY
DESCRIPTION:WhitneyDurham/ScottDurham vs. MattBremer/DeniseGlenn
END:VALARM
END:VEVENT
END:VCALENDAR
