BEGIN:VCALENDAR
VERSION:2.0
PRODID:-//QuickScores.com//BQ Dynamic iCal Creator//EN
METHOD:PUBLISH
X-WR-CALNAME:MandyWindham/JacobWindham - Santa Smash Mixed Doubles Highint/adv.1:30pm 12/22 - Completed Tournaments 2023/24
X-WR-CALDESC:QuickScores game calendar
X-PUBLISHED-TTL:PT24H
REFRESH-INTERVAL;VALUE=DURATION:PT24H
CALSCALE:GREGORIAN
BEGIN:VTIMEZONE
TZID:America/Chicago
X-LIC-LOCATION:America/Chicago
BEGIN:DAYLIGHT
TZNAME:CDT
TZOFFSETFROM:-0600
TZOFFSETTO:-0500
DTSTART:19700308T020000
RRULE:FREQ=YEARLY;BYMONTH=3;BYDAY=2SU
END:DAYLIGHT
BEGIN:STANDARD
TZNAME:CST
TZOFFSETFROM:-0500
TZOFFSETTO:-0600
DTSTART:19701101T020000
RRULE:FREQ=YEARLY;BYMONTH=11;BYDAY=1SU
END:STANDARD
END:VTIMEZONE
BEGIN:VEVENT
UID:pupc-66478602-20241222T134000@quickscores.com
DTSTAMP:20260424T223900Z
DTSTART;TZID=America/Chicago:20241222T134000
DURATION:PT0H20M0S
SUMMARY:RichPerkins/RenessaDrainer vs. MandyWindham/JacobWindham
DESCRIPTION:Santa Smash Mixed Doubles Highint/adv.1:30pm 12/22 - Paddle Up Pickleball Club
LOCATION:Court 2
CATEGORIES:QuickScores, Pickleball Game
TRANSP:OPAQUE
BEGIN:VALARM
TRIGGER:-PT2H
ACTION:DISPLAY
DESCRIPTION:RichPerkins/RenessaDrainer vs. MandyWindham/JacobWindham
END:VALARM
END:VEVENT
BEGIN:VEVENT
UID:pupc-66478612-20241222T140000@quickscores.com
DTSTAMP:20260424T223900Z
DTSTART;TZID=America/Chicago:20241222T140000
DURATION:PT0H20M0S
SUMMARY:MandyWindham/JacobWindham vs. KimPenrod/ToddPenrod
DESCRIPTION:Santa Smash Mixed Doubles Highint/adv.1:30pm 12/22 - Paddle Up Pickleball Club
LOCATION:Court 8
CATEGORIES:QuickScores, Pickleball Game
TRANSP:OPAQUE
BEGIN:VALARM
TRIGGER:-PT2H
ACTION:DISPLAY
DESCRIPTION:MandyWindham/JacobWindham vs. KimPenrod/ToddPenrod
END:VALARM
END:VEVENT
BEGIN:VEVENT
UID:pupc-66478628-20241222T144000@quickscores.com
DTSTAMP:20260424T223900Z
DTSTART;TZID=America/Chicago:20241222T144000
DURATION:PT0H20M0S
SUMMARY:TomSierra/MelDeGrande vs. MandyWindham/JacobWindham
DESCRIPTION:Santa Smash Mixed Doubles Highint/adv.1:30pm 12/22 - Paddle Up Pickleball Club
LOCATION:Court 9
CATEGORIES:QuickScores, Pickleball Game
TRANSP:OPAQUE
BEGIN:VALARM
TRIGGER:-PT2H
ACTION:DISPLAY
DESCRIPTION:TomSierra/MelDeGrande vs. MandyWindham/JacobWindham
END:VALARM
END:VEVENT
BEGIN:VEVENT
UID:pupc-66478639-20241222T152000@quickscores.com
DTSTAMP:20260424T223900Z
DTSTART;TZID=America/Chicago:20241222T152000
DURATION:PT0H20M0S
SUMMARY:MandyWindham/JacobWindham vs. LoganJustice/TimothyHowell
DESCRIPTION:Santa Smash Mixed Doubles Highint/adv.1:30pm 12/22 - Paddle Up Pickleball Club
LOCATION:Court 1
CATEGORIES:QuickScores, Pickleball Game
TRANSP:OPAQUE
BEGIN:VALARM
TRIGGER:-PT2H
ACTION:DISPLAY
DESCRIPTION:MandyWindham/JacobWindham vs. LoganJustice/TimothyHowell
END:VALARM
END:VEVENT
BEGIN:VEVENT
UID:pupc-66478657-20241222T154000@quickscores.com
DTSTAMP:20260424T223900Z
DTSTART;TZID=America/Chicago:20241222T154000
DURATION:PT0H20M0S
SUMMARY:MandyWindham/JacobWindham vs. LisaLucido/PaulLucido
DESCRIPTION:Santa Smash Mixed Doubles Highint/adv.1:30pm 12/22 - Paddle Up Pickleball Club
LOCATION:Court 4
CATEGORIES:QuickScores, Pickleball Game
TRANSP:OPAQUE
BEGIN:VALARM
TRIGGER:-PT2H
ACTION:DISPLAY
DESCRIPTION:MandyWindham/JacobWindham vs. LisaLucido/PaulLucido
END:VALARM
END:VEVENT
BEGIN:VEVENT
UID:pupc-66478666-20241222T162000@quickscores.com
DTSTAMP:20260424T223900Z
DTSTART;TZID=America/Chicago:20241222T162000
DURATION:PT0H20M0S
SUMMARY:JaneJoy/DanLangford vs. MandyWindham/JacobWindham
DESCRIPTION:Santa Smash Mixed Doubles Highint/adv.1:30pm 12/22 - Paddle Up Pickleball Club
LOCATION:Court 7
CATEGORIES:QuickScores, Pickleball Game
TRANSP:OPAQUE
BEGIN:VALARM
TRIGGER:-PT2H
ACTION:DISPLAY
DESCRIPTION:JaneJoy/DanLangford vs. MandyWindham/JacobWindham
END:VALARM
END:VEVENT
END:VCALENDAR
