BEGIN:VCALENDAR
VERSION:2.0
PRODID:-//QuickScores.com//BQ Dynamic iCal Creator//EN
METHOD:PUBLISH
X-WR-CALNAME:DeniseWunderlich/MikeWunderlich - Santa Smash Mixed Doubles Rec/lowint 9am 12/22 - Completed Tournaments 2023/24
X-WR-CALDESC:QuickScores game calendar
X-PUBLISHED-TTL:PT24H
REFRESH-INTERVAL;VALUE=DURATION:PT24H
CALSCALE:GREGORIAN
BEGIN:VTIMEZONE
TZID:America/Chicago
X-LIC-LOCATION:America/Chicago
BEGIN:DAYLIGHT
TZNAME:CDT
TZOFFSETFROM:-0600
TZOFFSETTO:-0500
DTSTART:19700308T020000
RRULE:FREQ=YEARLY;BYMONTH=3;BYDAY=2SU
END:DAYLIGHT
BEGIN:STANDARD
TZNAME:CST
TZOFFSETFROM:-0500
TZOFFSETTO:-0600
DTSTART:19701101T020000
RRULE:FREQ=YEARLY;BYMONTH=11;BYDAY=1SU
END:STANDARD
END:VTIMEZONE
BEGIN:VEVENT
UID:pupc-66478873-20241222T092000@quickscores.com
DTSTAMP:20260419T104400Z
DTSTART;TZID=America/Chicago:20241222T092000
DURATION:PT0H20M0S
SUMMARY:SteveDubois/CherylDubois vs. DeniseWunderlich/MikeWunderlich
DESCRIPTION:Santa Smash Mixed Doubles Rec/lowint 9am 12/22 - Paddle Up Pickleball Club
LOCATION:Court 3
CATEGORIES:QuickScores, Pickleball Game
TRANSP:OPAQUE
BEGIN:VALARM
TRIGGER:-PT2H
ACTION:DISPLAY
DESCRIPTION:SteveDubois/CherylDubois vs. DeniseWunderlich/MikeWunderlich
END:VALARM
END:VEVENT
BEGIN:VEVENT
UID:pupc-66478888-20241222T100000@quickscores.com
DTSTAMP:20260419T104400Z
DTSTART;TZID=America/Chicago:20241222T100000
DURATION:PT0H20M0S
SUMMARY:DawnTegeler/KevinTegeler vs. DeniseWunderlich/MikeWunderlich
DESCRIPTION:Santa Smash Mixed Doubles Rec/lowint 9am 12/22 - Paddle Up Pickleball Club
LOCATION:Court 9
CATEGORIES:QuickScores, Pickleball Game
TRANSP:OPAQUE
BEGIN:VALARM
TRIGGER:-PT2H
ACTION:DISPLAY
DESCRIPTION:DawnTegeler/KevinTegeler vs. DeniseWunderlich/MikeWunderlich
END:VALARM
END:VEVENT
BEGIN:VEVENT
UID:pupc-66478917-20241222T104000@quickscores.com
DTSTAMP:20260419T104400Z
DTSTART;TZID=America/Chicago:20241222T104000
DURATION:PT0H20M0S
SUMMARY:MichaelNotorangelo/SophieNotorangelo vs. DeniseWunderlich/MikeWunderlich
DESCRIPTION:Santa Smash Mixed Doubles Rec/lowint 9am 12/22 - Paddle Up Pickleball Club
LOCATION:Court 1
CATEGORIES:QuickScores, Pickleball Game
TRANSP:OPAQUE
BEGIN:VALARM
TRIGGER:-PT2H
ACTION:DISPLAY
DESCRIPTION:MichaelNotorangelo/SophieNotorangelo vs. DeniseWunderlich/MikeWunderlich
END:VALARM
END:VEVENT
BEGIN:VEVENT
UID:pupc-66478929-20241222T112000@quickscores.com
DTSTAMP:20260419T104400Z
DTSTART;TZID=America/Chicago:20241222T112000
DURATION:PT0H20M0S
SUMMARY:DeniseWunderlich/MikeWunderlich vs. CharlesRollins/LauraHaller
DESCRIPTION:Santa Smash Mixed Doubles Rec/lowint 9am 12/22 - Paddle Up Pickleball Club
LOCATION:Court 9
CATEGORIES:QuickScores, Pickleball Game
TRANSP:OPAQUE
BEGIN:VALARM
TRIGGER:-PT2H
ACTION:DISPLAY
DESCRIPTION:DeniseWunderlich/MikeWunderlich vs. CharlesRollins/LauraHaller
END:VALARM
END:VEVENT
BEGIN:VEVENT
UID:pupc-66478945-20241222T114000@quickscores.com
DTSTAMP:20260419T104400Z
DTSTART;TZID=America/Chicago:20241222T114000
DURATION:PT0H20M0S
SUMMARY:DeniseWunderlich/MikeWunderlich vs. KevinThomas/StacieThomas
DESCRIPTION:Santa Smash Mixed Doubles Rec/lowint 9am 12/22 - Paddle Up Pickleball Club
LOCATION:Court 3
CATEGORIES:QuickScores, Pickleball Game
TRANSP:OPAQUE
BEGIN:VALARM
TRIGGER:-PT2H
ACTION:DISPLAY
DESCRIPTION:DeniseWunderlich/MikeWunderlich vs. KevinThomas/StacieThomas
END:VALARM
END:VEVENT
BEGIN:VEVENT
UID:pupc-66478954-20241222T120000@quickscores.com
DTSTAMP:20260419T104400Z
DTSTART;TZID=America/Chicago:20241222T120000
DURATION:PT0H20M0S
SUMMARY:DeniseWunderlich/MikeWunderlich vs. LisaJett/JoeySchneider
DESCRIPTION:Santa Smash Mixed Doubles Rec/lowint 9am 12/22 - Paddle Up Pickleball Club
LOCATION:Court 6
CATEGORIES:QuickScores, Pickleball Game
TRANSP:OPAQUE
BEGIN:VALARM
TRIGGER:-PT2H
ACTION:DISPLAY
DESCRIPTION:DeniseWunderlich/MikeWunderlich vs. LisaJett/JoeySchneider
END:VALARM
END:VEVENT
END:VCALENDAR
