BEGIN:VCALENDAR
VERSION:2.0
PRODID:-//QuickScores.com//BQ Dynamic iCal Creator//EN
METHOD:PUBLISH
X-WR-CALNAME:JustinFears/NicciFears - Santa Smash Mixed Doubles Rec/lowint 9am 12/22 - Completed Tournaments 2023/24
X-WR-CALDESC:QuickScores game calendar
X-PUBLISHED-TTL:PT24H
REFRESH-INTERVAL;VALUE=DURATION:PT24H
CALSCALE:GREGORIAN
BEGIN:VTIMEZONE
TZID:America/Chicago
X-LIC-LOCATION:America/Chicago
BEGIN:DAYLIGHT
TZNAME:CDT
TZOFFSETFROM:-0600
TZOFFSETTO:-0500
DTSTART:19700308T020000
RRULE:FREQ=YEARLY;BYMONTH=3;BYDAY=2SU
END:DAYLIGHT
BEGIN:STANDARD
TZNAME:CST
TZOFFSETFROM:-0500
TZOFFSETTO:-0600
DTSTART:19701101T020000
RRULE:FREQ=YEARLY;BYMONTH=11;BYDAY=1SU
END:STANDARD
END:VTIMEZONE
BEGIN:VEVENT
UID:pupc-66478866-20241222T092000@quickscores.com
DTSTAMP:20260419T090500Z
DTSTART;TZID=America/Chicago:20241222T092000
DURATION:PT0H20M0S
SUMMARY:JustinFears/NicciFears vs. CassieHackworth/EricSchroeder
DESCRIPTION:Santa Smash Mixed Doubles Rec/lowint 9am 12/22 - Paddle Up Pickleball Club
LOCATION:Court 5
CATEGORIES:QuickScores, Pickleball Game
TRANSP:OPAQUE
BEGIN:VALARM
TRIGGER:-PT2H
ACTION:DISPLAY
DESCRIPTION:JustinFears/NicciFears vs. CassieHackworth/EricSchroeder
END:VALARM
END:VEVENT
BEGIN:VEVENT
UID:pupc-66478951-20241222T100000@quickscores.com
DTSTAMP:20260419T090500Z
DTSTART;TZID=America/Chicago:20241222T100000
DURATION:PT0H20M0S
SUMMARY:JustinFears/NicciFears vs. ChrisMiles/LauraMiles
DESCRIPTION:Santa Smash Mixed Doubles Rec/lowint 9am 12/22 - Paddle Up Pickleball Club
LOCATION:Court 8
CATEGORIES:QuickScores, Pickleball Game
TRANSP:OPAQUE
BEGIN:VALARM
TRIGGER:-PT2H
ACTION:DISPLAY
DESCRIPTION:JustinFears/NicciFears vs. ChrisMiles/LauraMiles
END:VALARM
END:VEVENT
BEGIN:VEVENT
UID:pupc-66478910-20241222T104000@quickscores.com
DTSTAMP:20260419T090500Z
DTSTART;TZID=America/Chicago:20241222T104000
DURATION:PT0H20M0S
SUMMARY:ToddLane/AshlynLane vs. JustinFears/NicciFears
DESCRIPTION:Santa Smash Mixed Doubles Rec/lowint 9am 12/22 - Paddle Up Pickleball Club
LOCATION:Court 3
CATEGORIES:QuickScores, Pickleball Game
TRANSP:OPAQUE
BEGIN:VALARM
TRIGGER:-PT2H
ACTION:DISPLAY
DESCRIPTION:ToddLane/AshlynLane vs. JustinFears/NicciFears
END:VALARM
END:VEVENT
BEGIN:VEVENT
UID:pupc-66478922-20241222T110000@quickscores.com
DTSTAMP:20260419T090500Z
DTSTART;TZID=America/Chicago:20241222T110000
DURATION:PT0H20M0S
SUMMARY:BradDonley/SaraDonley vs. JustinFears/NicciFears
DESCRIPTION:Santa Smash Mixed Doubles Rec/lowint 9am 12/22 - Paddle Up Pickleball Club
LOCATION:Court 8
CATEGORIES:QuickScores, Pickleball Game
TRANSP:OPAQUE
BEGIN:VALARM
TRIGGER:-PT2H
ACTION:DISPLAY
DESCRIPTION:BradDonley/SaraDonley vs. JustinFears/NicciFears
END:VALARM
END:VEVENT
BEGIN:VEVENT
UID:pupc-66478939-20241222T114000@quickscores.com
DTSTAMP:20260419T090500Z
DTSTART;TZID=America/Chicago:20241222T114000
DURATION:PT0H20M0S
SUMMARY:JustinFears/NicciFears vs. DanielleDuHadway/RobDuHadway
DESCRIPTION:Santa Smash Mixed Doubles Rec/lowint 9am 12/22 - Paddle Up Pickleball Club
LOCATION:Court 8
CATEGORIES:QuickScores, Pickleball Game
TRANSP:OPAQUE
BEGIN:VALARM
TRIGGER:-PT2H
ACTION:DISPLAY
DESCRIPTION:JustinFears/NicciFears vs. DanielleDuHadway/RobDuHadway
END:VALARM
END:VEVENT
BEGIN:VEVENT
UID:pupc-66478881-20241222T120000@quickscores.com
DTSTAMP:20260419T090500Z
DTSTART;TZID=America/Chicago:20241222T120000
DURATION:PT0H20M0S
SUMMARY:JamieRichardson/AdamRichardson vs. JustinFears/NicciFears
DESCRIPTION:Santa Smash Mixed Doubles Rec/lowint 9am 12/22 - Paddle Up Pickleball Club
LOCATION:Court 4
CATEGORIES:QuickScores, Pickleball Game
TRANSP:OPAQUE
BEGIN:VALARM
TRIGGER:-PT2H
ACTION:DISPLAY
DESCRIPTION:JamieRichardson/AdamRichardson vs. JustinFears/NicciFears
END:VALARM
END:VEVENT
END:VCALENDAR
