BEGIN:VCALENDAR
VERSION:2.0
PRODID:-//QuickScores.com//BQ Dynamic iCal Creator//EN
METHOD:PUBLISH
X-WR-CALNAME:Struckmann/Struckmann - Pupc Tuesday Recreational - Earlywinter24 - Completed Leagues 2023/24
X-WR-CALDESC:QuickScores game calendar
X-PUBLISHED-TTL:PT24H
REFRESH-INTERVAL;VALUE=DURATION:PT24H
CALSCALE:GREGORIAN
BEGIN:VTIMEZONE
TZID:America/Chicago
X-LIC-LOCATION:America/Chicago
BEGIN:DAYLIGHT
TZNAME:CDT
TZOFFSETFROM:-0600
TZOFFSETTO:-0500
DTSTART:19700308T020000
RRULE:FREQ=YEARLY;BYMONTH=3;BYDAY=2SU
END:DAYLIGHT
BEGIN:STANDARD
TZNAME:CST
TZOFFSETFROM:-0500
TZOFFSETTO:-0600
DTSTART:19701101T020000
RRULE:FREQ=YEARLY;BYMONTH=11;BYDAY=1SU
END:STANDARD
END:VTIMEZONE
BEGIN:VEVENT
UID:pupc-65936363-20241119T172000@quickscores.com
DTSTAMP:20260422T171400Z
DTSTART;TZID=America/Chicago:20241119T172000
DURATION:PT0H40M0S
SUMMARY:Struckmann/Struckmann vs. Chi/Pabst
DESCRIPTION:Pupc Tuesday Recreational - Earlywinter24 - Paddle Up Pickleball Club
LOCATION:Court 8
CATEGORIES:QuickScores, Pickleball Game
TRANSP:OPAQUE
BEGIN:VALARM
TRIGGER:-PT2H
ACTION:DISPLAY
DESCRIPTION:Struckmann/Struckmann vs. Chi/Pabst
END:VALARM
END:VEVENT
BEGIN:VEVENT
UID:pupc-65936366-20241119T180000@quickscores.com
DTSTAMP:20260422T171400Z
DTSTART;TZID=America/Chicago:20241119T180000
DURATION:PT0H40M0S
SUMMARY:Garrett/Garrett vs. Struckmann/Struckmann
DESCRIPTION:Pupc Tuesday Recreational - Earlywinter24 - Paddle Up Pickleball Club
LOCATION:Court 7
CATEGORIES:QuickScores, Pickleball Game
TRANSP:OPAQUE
BEGIN:VALARM
TRIGGER:-PT2H
ACTION:DISPLAY
DESCRIPTION:Garrett/Garrett vs. Struckmann/Struckmann
END:VALARM
END:VEVENT
BEGIN:VEVENT
UID:pupc-65936372-20241126T184000@quickscores.com
DTSTAMP:20260422T171400Z
DTSTART;TZID=America/Chicago:20241126T184000
DURATION:PT0H40M0S
SUMMARY:Beaudoin/Boyle vs. Struckmann/Struckmann
DESCRIPTION:Pupc Tuesday Recreational - Earlywinter24 - Paddle Up Pickleball Club
LOCATION:Court 8
CATEGORIES:QuickScores, Pickleball Game
TRANSP:OPAQUE
BEGIN:VALARM
TRIGGER:-PT2H
ACTION:DISPLAY
DESCRIPTION:Beaudoin/Boyle vs. Struckmann/Struckmann
END:VALARM
END:VEVENT
BEGIN:VEVENT
UID:pupc-65936381-20241126T192000@quickscores.com
DTSTAMP:20260422T171400Z
DTSTART;TZID=America/Chicago:20241126T192000
DURATION:PT0H40M0S
SUMMARY:Tureen/Springer vs. Struckmann/Struckmann
DESCRIPTION:Pupc Tuesday Recreational - Earlywinter24 - Paddle Up Pickleball Club
LOCATION:Court 7
CATEGORIES:QuickScores, Pickleball Game
TRANSP:OPAQUE
BEGIN:VALARM
TRIGGER:-PT2H
ACTION:DISPLAY
DESCRIPTION:Tureen/Springer vs. Struckmann/Struckmann
END:VALARM
END:VEVENT
BEGIN:VEVENT
UID:pupc-65936393-20241203T192000@quickscores.com
DTSTAMP:20260422T171400Z
DTSTART;TZID=America/Chicago:20241203T192000
DURATION:PT0H40M0S
SUMMARY:Struckmann/Struckmann vs. Kelting/Kelting
DESCRIPTION:Pupc Tuesday Recreational - Earlywinter24 - Paddle Up Pickleball Club
LOCATION:Court 8
CATEGORIES:QuickScores, Pickleball Game
TRANSP:OPAQUE
BEGIN:VALARM
TRIGGER:-PT2H
ACTION:DISPLAY
DESCRIPTION:Struckmann/Struckmann vs. Kelting/Kelting
END:VALARM
END:VEVENT
BEGIN:VEVENT
UID:pupc-65936394-20241203T204000@quickscores.com
DTSTAMP:20260422T171400Z
DTSTART;TZID=America/Chicago:20241203T204000
DURATION:PT0H40M0S
SUMMARY:EStiers/SSchiffer vs. Struckmann/Struckmann
DESCRIPTION:Pupc Tuesday Recreational - Earlywinter24 - Paddle Up Pickleball Club
LOCATION:Court 8
CATEGORIES:QuickScores, Pickleball Game
TRANSP:OPAQUE
BEGIN:VALARM
TRIGGER:-PT2H
ACTION:DISPLAY
DESCRIPTION:EStiers/SSchiffer vs. Struckmann/Struckmann
END:VALARM
END:VEVENT
BEGIN:VEVENT
UID:pupc-65936406-20241210T172000@quickscores.com
DTSTAMP:20260422T171400Z
DTSTART;TZID=America/Chicago:20241210T172000
DURATION:PT0H40M0S
SUMMARY:Struckmann/Struckmann vs. Chi/Pabst
DESCRIPTION:Pupc Tuesday Recreational - Earlywinter24 - Paddle Up Pickleball Club
LOCATION:Court 8
CATEGORIES:QuickScores, Pickleball Game
TRANSP:OPAQUE
BEGIN:VALARM
TRIGGER:-PT2H
ACTION:DISPLAY
DESCRIPTION:Struckmann/Struckmann vs. Chi/Pabst
END:VALARM
END:VEVENT
BEGIN:VEVENT
UID:pupc-65936405-20241210T180000@quickscores.com
DTSTAMP:20260422T171400Z
DTSTART;TZID=America/Chicago:20241210T180000
DURATION:PT0H40M0S
SUMMARY:TStiers/RSchiffer vs. Struckmann/Struckmann
DESCRIPTION:Pupc Tuesday Recreational - Earlywinter24 - Paddle Up Pickleball Club
LOCATION:Court 8
CATEGORIES:QuickScores, Pickleball Game
TRANSP:OPAQUE
BEGIN:VALARM
TRIGGER:-PT2H
ACTION:DISPLAY
DESCRIPTION:TStiers/RSchiffer vs. Struckmann/Struckmann
END:VALARM
END:VEVENT
END:VCALENDAR
