BEGIN:VCALENDAR
VERSION:2.0
PRODID:-//QuickScores.com//BQ Dynamic iCal Creator//EN
METHOD:PUBLISH
X-WR-CALNAME:Kelting/Kelting - Pupc Tuesday Recreational - Earlywinter24 - Completed Leagues 2023/24
X-WR-CALDESC:QuickScores game calendar
X-PUBLISHED-TTL:PT24H
REFRESH-INTERVAL;VALUE=DURATION:PT24H
CALSCALE:GREGORIAN
BEGIN:VTIMEZONE
TZID:America/Chicago
X-LIC-LOCATION:America/Chicago
BEGIN:DAYLIGHT
TZNAME:CDT
TZOFFSETFROM:-0600
TZOFFSETTO:-0500
DTSTART:19700308T020000
RRULE:FREQ=YEARLY;BYMONTH=3;BYDAY=2SU
END:DAYLIGHT
BEGIN:STANDARD
TZNAME:CST
TZOFFSETFROM:-0500
TZOFFSETTO:-0600
DTSTART:19701101T020000
RRULE:FREQ=YEARLY;BYMONTH=11;BYDAY=1SU
END:STANDARD
END:VTIMEZONE
BEGIN:VEVENT
UID:pupc-65936362-20241119T180000@quickscores.com
DTSTAMP:20260421T180000Z
DTSTART;TZID=America/Chicago:20241119T180000
DURATION:PT0H40M0S
SUMMARY:Kelting/Kelting vs. Chi/Pabst
DESCRIPTION:Pupc Tuesday Recreational - Earlywinter24 - Paddle Up Pickleball Club
LOCATION:Court 8
CATEGORIES:QuickScores, Pickleball Game
TRANSP:OPAQUE
BEGIN:VALARM
TRIGGER:-PT2H
ACTION:DISPLAY
DESCRIPTION:Kelting/Kelting vs. Chi/Pabst
END:VALARM
END:VEVENT
BEGIN:VEVENT
UID:pupc-65936361-20241119T184000@quickscores.com
DTSTAMP:20260421T180000Z
DTSTART;TZID=America/Chicago:20241119T184000
DURATION:PT0H40M0S
SUMMARY:Kelting/Kelting vs. Garrett/Garrett
DESCRIPTION:Pupc Tuesday Recreational - Earlywinter24 - Paddle Up Pickleball Club
LOCATION:Court 8
CATEGORIES:QuickScores, Pickleball Game
TRANSP:OPAQUE
BEGIN:VALARM
TRIGGER:-PT2H
ACTION:DISPLAY
DESCRIPTION:Kelting/Kelting vs. Garrett/Garrett
END:VALARM
END:VEVENT
BEGIN:VEVENT
UID:pupc-65936380-20241126T200000@quickscores.com
DTSTAMP:20260421T180000Z
DTSTART;TZID=America/Chicago:20241126T200000
DURATION:PT0H40M0S
SUMMARY:Malloy/Robinson vs. Kelting/Kelting
DESCRIPTION:Pupc Tuesday Recreational - Earlywinter24 - Paddle Up Pickleball Club
LOCATION:Court 7
CATEGORIES:QuickScores, Pickleball Game
TRANSP:OPAQUE
BEGIN:VALARM
TRIGGER:-PT2H
ACTION:DISPLAY
DESCRIPTION:Malloy/Robinson vs. Kelting/Kelting
END:VALARM
END:VEVENT
BEGIN:VEVENT
UID:pupc-65936377-20241126T204000@quickscores.com
DTSTAMP:20260421T180000Z
DTSTART;TZID=America/Chicago:20241126T204000
DURATION:PT0H40M0S
SUMMARY:Russo/Russo vs. Kelting/Kelting
DESCRIPTION:Pupc Tuesday Recreational - Earlywinter24 - Paddle Up Pickleball Club
LOCATION:Court 8
CATEGORIES:QuickScores, Pickleball Game
TRANSP:OPAQUE
BEGIN:VALARM
TRIGGER:-PT2H
ACTION:DISPLAY
DESCRIPTION:Russo/Russo vs. Kelting/Kelting
END:VALARM
END:VEVENT
BEGIN:VEVENT
UID:pupc-65936392-20241203T184000@quickscores.com
DTSTAMP:20260421T180000Z
DTSTART;TZID=America/Chicago:20241203T184000
DURATION:PT0H40M0S
SUMMARY:Dare/O'Keefe vs. Kelting/Kelting
DESCRIPTION:Pupc Tuesday Recreational - Earlywinter24 - Paddle Up Pickleball Club
LOCATION:Court 8
CATEGORIES:QuickScores, Pickleball Game
TRANSP:OPAQUE
BEGIN:VALARM
TRIGGER:-PT2H
ACTION:DISPLAY
DESCRIPTION:Dare/O'Keefe vs. Kelting/Kelting
END:VALARM
END:VEVENT
BEGIN:VEVENT
UID:pupc-65936393-20241203T192000@quickscores.com
DTSTAMP:20260421T180000Z
DTSTART;TZID=America/Chicago:20241203T192000
DURATION:PT0H40M0S
SUMMARY:Struckmann/Struckmann vs. Kelting/Kelting
DESCRIPTION:Pupc Tuesday Recreational - Earlywinter24 - Paddle Up Pickleball Club
LOCATION:Court 8
CATEGORIES:QuickScores, Pickleball Game
TRANSP:OPAQUE
BEGIN:VALARM
TRIGGER:-PT2H
ACTION:DISPLAY
DESCRIPTION:Struckmann/Struckmann vs. Kelting/Kelting
END:VALARM
END:VEVENT
BEGIN:VEVENT
UID:pupc-65936398-20241210T200000@quickscores.com
DTSTAMP:20260421T180000Z
DTSTART;TZID=America/Chicago:20241210T200000
DURATION:PT0H40M0S
SUMMARY:Kelting/Kelting vs. EStiers/SSchiffer
DESCRIPTION:Pupc Tuesday Recreational - Earlywinter24 - Paddle Up Pickleball Club
LOCATION:Court 7
CATEGORIES:QuickScores, Pickleball Game
TRANSP:OPAQUE
BEGIN:VALARM
TRIGGER:-PT2H
ACTION:DISPLAY
DESCRIPTION:Kelting/Kelting vs. EStiers/SSchiffer
END:VALARM
END:VEVENT
BEGIN:VEVENT
UID:pupc-65936397-20241210T204000@quickscores.com
DTSTAMP:20260421T180000Z
DTSTART;TZID=America/Chicago:20241210T204000
DURATION:PT0H40M0S
SUMMARY:Patterson/Fox vs. Kelting/Kelting
DESCRIPTION:Pupc Tuesday Recreational - Earlywinter24 - Paddle Up Pickleball Club
LOCATION:Court 7
CATEGORIES:QuickScores, Pickleball Game
TRANSP:OPAQUE
BEGIN:VALARM
TRIGGER:-PT2H
ACTION:DISPLAY
DESCRIPTION:Patterson/Fox vs. Kelting/Kelting
END:VALARM
END:VEVENT
END:VCALENDAR
