BEGIN:VCALENDAR
VERSION:2.0
PRODID:-//QuickScores.com//BQ Dynamic iCal Creator//EN
METHOD:PUBLISH
X-WR-CALNAME:DeniseWunderlich/MikeWunderlich - Fall Classic Doubles 9am 11/16 - Completed Tournaments 2023/24
X-WR-CALDESC:QuickScores game calendar
X-PUBLISHED-TTL:PT24H
REFRESH-INTERVAL;VALUE=DURATION:PT24H
CALSCALE:GREGORIAN
BEGIN:VTIMEZONE
TZID:America/Chicago
X-LIC-LOCATION:America/Chicago
BEGIN:DAYLIGHT
TZNAME:CDT
TZOFFSETFROM:-0600
TZOFFSETTO:-0500
DTSTART:19700308T020000
RRULE:FREQ=YEARLY;BYMONTH=3;BYDAY=2SU
END:DAYLIGHT
BEGIN:STANDARD
TZNAME:CST
TZOFFSETFROM:-0500
TZOFFSETTO:-0600
DTSTART:19701101T020000
RRULE:FREQ=YEARLY;BYMONTH=11;BYDAY=1SU
END:STANDARD
END:VTIMEZONE
BEGIN:VEVENT
UID:pupc-66050236-20241116T090000@quickscores.com
DTSTAMP:20260421T002700Z
DTSTART;TZID=America/Chicago:20241116T090000
DURATION:PT0H20M0S
SUMMARY:AliKhaled/Said El Khezraji vs. DeniseWunderlich/MikeWunderlich
DESCRIPTION:Fall Classic Doubles 9am 11/16 - Paddle Up Pickleball Club
LOCATION:Court 4
CATEGORIES:QuickScores, Pickleball Game
TRANSP:OPAQUE
BEGIN:VALARM
TRIGGER:-PT2H
ACTION:DISPLAY
DESCRIPTION:AliKhaled/Said El Khezraji vs. DeniseWunderlich/MikeWunderlich
END:VALARM
END:VEVENT
BEGIN:VEVENT
UID:pupc-66050190-20241116T094000@quickscores.com
DTSTAMP:20260421T002700Z
DTSTART;TZID=America/Chicago:20241116T094000
DURATION:PT0H20M0S
SUMMARY:DeniseWunderlich/MikeWunderlich vs. MarcRosner/MarcRosnerJr
DESCRIPTION:Fall Classic Doubles 9am 11/16 - Paddle Up Pickleball Club
LOCATION:Court 7
CATEGORIES:QuickScores, Pickleball Game
TRANSP:OPAQUE
BEGIN:VALARM
TRIGGER:-PT2H
ACTION:DISPLAY
DESCRIPTION:DeniseWunderlich/MikeWunderlich vs. MarcRosner/MarcRosnerJr
END:VALARM
END:VEVENT
BEGIN:VEVENT
UID:pupc-66050213-20241116T102000@quickscores.com
DTSTAMP:20260421T002700Z
DTSTART;TZID=America/Chicago:20241116T102000
DURATION:PT0H20M0S
SUMMARY:DeniseWunderlich/MikeWunderlich vs. LisaHavens/LoganHavens
DESCRIPTION:Fall Classic Doubles 9am 11/16 - Paddle Up Pickleball Club
LOCATION:Court 8
CATEGORIES:QuickScores, Pickleball Game
TRANSP:OPAQUE
BEGIN:VALARM
TRIGGER:-PT2H
ACTION:DISPLAY
DESCRIPTION:DeniseWunderlich/MikeWunderlich vs. LisaHavens/LoganHavens
END:VALARM
END:VEVENT
BEGIN:VEVENT
UID:pupc-66050203-20241116T104000@quickscores.com
DTSTAMP:20260421T002700Z
DTSTART;TZID=America/Chicago:20241116T104000
DURATION:PT0H20M0S
SUMMARY:LonnieNeckermann/GwenBrooks vs. DeniseWunderlich/MikeWunderlich
DESCRIPTION:Fall Classic Doubles 9am 11/16 - Paddle Up Pickleball Club
LOCATION:Court 7
CATEGORIES:QuickScores, Pickleball Game
TRANSP:OPAQUE
BEGIN:VALARM
TRIGGER:-PT2H
ACTION:DISPLAY
DESCRIPTION:LonnieNeckermann/GwenBrooks vs. DeniseWunderlich/MikeWunderlich
END:VALARM
END:VEVENT
BEGIN:VEVENT
UID:pupc-66050226-20241116T110000@quickscores.com
DTSTAMP:20260421T002700Z
DTSTART;TZID=America/Chicago:20241116T110000
DURATION:PT0H20M0S
SUMMARY:DerekPollock/JannaPollock vs. DeniseWunderlich/MikeWunderlich
DESCRIPTION:Fall Classic Doubles 9am 11/16 - Paddle Up Pickleball Club
LOCATION:Court 7
CATEGORIES:QuickScores, Pickleball Game
TRANSP:OPAQUE
BEGIN:VALARM
TRIGGER:-PT2H
ACTION:DISPLAY
DESCRIPTION:DerekPollock/JannaPollock vs. DeniseWunderlich/MikeWunderlich
END:VALARM
END:VEVENT
BEGIN:VEVENT
UID:pupc-66050179-20241116T112000@quickscores.com
DTSTAMP:20260421T002700Z
DTSTART;TZID=America/Chicago:20241116T112000
DURATION:PT0H20M0S
SUMMARY:DeniseWunderlich/MikeWunderlich vs. FrankFleming/PaulStewart
DESCRIPTION:Fall Classic Doubles 9am 11/16 - Paddle Up Pickleball Club
LOCATION:Court 7
CATEGORIES:QuickScores, Pickleball Game
TRANSP:OPAQUE
BEGIN:VALARM
TRIGGER:-PT2H
ACTION:DISPLAY
DESCRIPTION:DeniseWunderlich/MikeWunderlich vs. FrankFleming/PaulStewart
END:VALARM
END:VEVENT
END:VCALENDAR
