BEGIN:VCALENDAR
VERSION:2.0
PRODID:-//QuickScores.com//BQ Dynamic iCal Creator//EN
METHOD:PUBLISH
X-WR-CALNAME:MarcRosner/MarcRosnerJr - Fall Classic Doubles 9am 11/16 - Completed Tournaments 2023/24
X-WR-CALDESC:QuickScores game calendar
X-PUBLISHED-TTL:PT24H
REFRESH-INTERVAL;VALUE=DURATION:PT24H
CALSCALE:GREGORIAN
BEGIN:VTIMEZONE
TZID:America/Chicago
X-LIC-LOCATION:America/Chicago
BEGIN:DAYLIGHT
TZNAME:CDT
TZOFFSETFROM:-0600
TZOFFSETTO:-0500
DTSTART:19700308T020000
RRULE:FREQ=YEARLY;BYMONTH=3;BYDAY=2SU
END:DAYLIGHT
BEGIN:STANDARD
TZNAME:CST
TZOFFSETFROM:-0500
TZOFFSETTO:-0600
DTSTART:19701101T020000
RRULE:FREQ=YEARLY;BYMONTH=11;BYDAY=1SU
END:STANDARD
END:VTIMEZONE
BEGIN:VEVENT
UID:pupc-66050200-20241116T090000@quickscores.com
DTSTAMP:20260420T175000Z
DTSTART;TZID=America/Chicago:20241116T090000
DURATION:PT0H20M0S
SUMMARY:LisaHavens/LoganHavens vs. MarcRosner/MarcRosnerJr
DESCRIPTION:Fall Classic Doubles 9am 11/16 - Paddle Up Pickleball Club
LOCATION:Court 3
CATEGORIES:QuickScores, Pickleball Game
TRANSP:OPAQUE
BEGIN:VALARM
TRIGGER:-PT2H
ACTION:DISPLAY
DESCRIPTION:LisaHavens/LoganHavens vs. MarcRosner/MarcRosnerJr
END:VALARM
END:VEVENT
BEGIN:VEVENT
UID:pupc-66050190-20241116T094000@quickscores.com
DTSTAMP:20260420T175000Z
DTSTART;TZID=America/Chicago:20241116T094000
DURATION:PT0H20M0S
SUMMARY:DeniseWunderlich/MikeWunderlich vs. MarcRosner/MarcRosnerJr
DESCRIPTION:Fall Classic Doubles 9am 11/16 - Paddle Up Pickleball Club
LOCATION:Court 7
CATEGORIES:QuickScores, Pickleball Game
TRANSP:OPAQUE
BEGIN:VALARM
TRIGGER:-PT2H
ACTION:DISPLAY
DESCRIPTION:DeniseWunderlich/MikeWunderlich vs. MarcRosner/MarcRosnerJr
END:VALARM
END:VEVENT
BEGIN:VEVENT
UID:pupc-66050239-20241116T100000@quickscores.com
DTSTAMP:20260420T175000Z
DTSTART;TZID=America/Chicago:20241116T100000
DURATION:PT0H20M0S
SUMMARY:MarcRosner/MarcRosnerJr vs. CamdenScobey/KrissyCox
DESCRIPTION:Fall Classic Doubles 9am 11/16 - Paddle Up Pickleball Club
LOCATION:Court 1
CATEGORIES:QuickScores, Pickleball Game
TRANSP:OPAQUE
BEGIN:VALARM
TRIGGER:-PT2H
ACTION:DISPLAY
DESCRIPTION:MarcRosner/MarcRosnerJr vs. CamdenScobey/KrissyCox
END:VALARM
END:VEVENT
BEGIN:VEVENT
UID:pupc-66050215-20241116T102000@quickscores.com
DTSTAMP:20260420T175000Z
DTSTART;TZID=America/Chicago:20241116T102000
DURATION:PT0H20M0S
SUMMARY:SteveDuBois/CherylDubois vs. MarcRosner/MarcRosnerJr
DESCRIPTION:Fall Classic Doubles 9am 11/16 - Paddle Up Pickleball Club
LOCATION:Court 9
CATEGORIES:QuickScores, Pickleball Game
TRANSP:OPAQUE
BEGIN:VALARM
TRIGGER:-PT2H
ACTION:DISPLAY
DESCRIPTION:SteveDuBois/CherylDubois vs. MarcRosner/MarcRosnerJr
END:VALARM
END:VEVENT
BEGIN:VEVENT
UID:pupc-66050248-20241116T110000@quickscores.com
DTSTAMP:20260420T175000Z
DTSTART;TZID=America/Chicago:20241116T110000
DURATION:PT0H20M0S
SUMMARY:MarcRosner/MarcRosnerJr vs. LonnieNeckermann/GwenBrooks
DESCRIPTION:Fall Classic Doubles 9am 11/16 - Paddle Up Pickleball Club
LOCATION:Court 8
CATEGORIES:QuickScores, Pickleball Game
TRANSP:OPAQUE
BEGIN:VALARM
TRIGGER:-PT2H
ACTION:DISPLAY
DESCRIPTION:MarcRosner/MarcRosnerJr vs. LonnieNeckermann/GwenBrooks
END:VALARM
END:VEVENT
BEGIN:VEVENT
UID:pupc-66050177-20241116T112000@quickscores.com
DTSTAMP:20260420T175000Z
DTSTART;TZID=America/Chicago:20241116T112000
DURATION:PT0H20M0S
SUMMARY:MarcRosner/MarcRosnerJr vs. AliKhaled/Said El Khezraji
DESCRIPTION:Fall Classic Doubles 9am 11/16 - Paddle Up Pickleball Club
LOCATION:Court 8
CATEGORIES:QuickScores, Pickleball Game
TRANSP:OPAQUE
BEGIN:VALARM
TRIGGER:-PT2H
ACTION:DISPLAY
DESCRIPTION:MarcRosner/MarcRosnerJr vs. AliKhaled/Said El Khezraji
END:VALARM
END:VEVENT
END:VCALENDAR
