BEGIN:VCALENDAR
VERSION:2.0
PRODID:-//QuickScores.com//BQ Dynamic iCal Creator//EN
METHOD:PUBLISH
X-WR-CALNAME:DiannCage/BethLansing - Fall Classic Doubles 9am 11/16 - Completed Tournaments 2023/24
X-WR-CALDESC:QuickScores game calendar
X-PUBLISHED-TTL:PT24H
REFRESH-INTERVAL;VALUE=DURATION:PT24H
CALSCALE:GREGORIAN
BEGIN:VTIMEZONE
TZID:America/Chicago
X-LIC-LOCATION:America/Chicago
BEGIN:DAYLIGHT
TZNAME:CDT
TZOFFSETFROM:-0600
TZOFFSETTO:-0500
DTSTART:19700308T020000
RRULE:FREQ=YEARLY;BYMONTH=3;BYDAY=2SU
END:DAYLIGHT
BEGIN:STANDARD
TZNAME:CST
TZOFFSETFROM:-0500
TZOFFSETTO:-0600
DTSTART:19701101T020000
RRULE:FREQ=YEARLY;BYMONTH=11;BYDAY=1SU
END:STANDARD
END:VTIMEZONE
BEGIN:VEVENT
UID:pupc-66050173-20241116T092000@quickscores.com
DTSTAMP:20260421T032700Z
DTSTART;TZID=America/Chicago:20241116T092000
DURATION:PT0H20M0S
SUMMARY:DiannCage/BethLansing vs. KellieKeling/LauraSwindler
DESCRIPTION:Fall Classic Doubles 9am 11/16 - Paddle Up Pickleball Club
LOCATION:Court 8
CATEGORIES:QuickScores, Pickleball Game
TRANSP:OPAQUE
BEGIN:VALARM
TRIGGER:-PT2H
ACTION:DISPLAY
DESCRIPTION:DiannCage/BethLansing vs. KellieKeling/LauraSwindler
END:VALARM
END:VEVENT
BEGIN:VEVENT
UID:pupc-66050211-20241116T094000@quickscores.com
DTSTAMP:20260421T032700Z
DTSTART;TZID=America/Chicago:20241116T094000
DURATION:PT0H20M0S
SUMMARY:AnnaDornquast/JenDuong vs. DiannCage/BethLansing
DESCRIPTION:Fall Classic Doubles 9am 11/16 - Paddle Up Pickleball Club
LOCATION:Court 4
CATEGORIES:QuickScores, Pickleball Game
TRANSP:OPAQUE
BEGIN:VALARM
TRIGGER:-PT2H
ACTION:DISPLAY
DESCRIPTION:AnnaDornquast/JenDuong vs. DiannCage/BethLansing
END:VALARM
END:VEVENT
BEGIN:VEVENT
UID:pupc-66050196-20241116T100000@quickscores.com
DTSTAMP:20260421T032700Z
DTSTART;TZID=America/Chicago:20241116T100000
DURATION:PT0H20M0S
SUMMARY:DinaDougherty/BridgetGagne vs. DiannCage/BethLansing
DESCRIPTION:Fall Classic Doubles 9am 11/16 - Paddle Up Pickleball Club
LOCATION:Court 2
CATEGORIES:QuickScores, Pickleball Game
TRANSP:OPAQUE
BEGIN:VALARM
TRIGGER:-PT2H
ACTION:DISPLAY
DESCRIPTION:DinaDougherty/BridgetGagne vs. DiannCage/BethLansing
END:VALARM
END:VEVENT
BEGIN:VEVENT
UID:pupc-66050186-20241116T102000@quickscores.com
DTSTAMP:20260421T032700Z
DTSTART;TZID=America/Chicago:20241116T102000
DURATION:PT0H20M0S
SUMMARY:DiannCage/BethLansing vs. WhitneyDurham/VickieWheeler
DESCRIPTION:Fall Classic Doubles 9am 11/16 - Paddle Up Pickleball Club
LOCATION:Court 7
CATEGORIES:QuickScores, Pickleball Game
TRANSP:OPAQUE
BEGIN:VALARM
TRIGGER:-PT2H
ACTION:DISPLAY
DESCRIPTION:DiannCage/BethLansing vs. WhitneyDurham/VickieWheeler
END:VALARM
END:VEVENT
BEGIN:VEVENT
UID:pupc-66050235-20241116T110000@quickscores.com
DTSTAMP:20260421T032700Z
DTSTART;TZID=America/Chicago:20241116T110000
DURATION:PT0H20M0S
SUMMARY:RobinFox/LindaRobben vs. DiannCage/BethLansing
DESCRIPTION:Fall Classic Doubles 9am 11/16 - Paddle Up Pickleball Club
LOCATION:Court 4
CATEGORIES:QuickScores, Pickleball Game
TRANSP:OPAQUE
BEGIN:VALARM
TRIGGER:-PT2H
ACTION:DISPLAY
DESCRIPTION:RobinFox/LindaRobben vs. DiannCage/BethLansing
END:VALARM
END:VEVENT
BEGIN:VEVENT
UID:pupc-66050245-20241116T112000@quickscores.com
DTSTAMP:20260421T032700Z
DTSTART;TZID=America/Chicago:20241116T112000
DURATION:PT0H20M0S
SUMMARY:DiannCage/BethLansing vs. JulieTaylor/DanielleDuHadway
DESCRIPTION:Fall Classic Doubles 9am 11/16 - Paddle Up Pickleball Club
LOCATION:Court 4
CATEGORIES:QuickScores, Pickleball Game
TRANSP:OPAQUE
BEGIN:VALARM
TRIGGER:-PT2H
ACTION:DISPLAY
DESCRIPTION:DiannCage/BethLansing vs. JulieTaylor/DanielleDuHadway
END:VALARM
END:VEVENT
END:VCALENDAR
