BEGIN:VCALENDAR
VERSION:2.0
PRODID:-//QuickScores.com//BQ Dynamic iCal Creator//EN
METHOD:PUBLISH
X-WR-CALNAME:LibbyListon/JodiKruse - Pickleball For The Cure! - Womens - 10/12 9:00am (as Of 10/8) - Completed Tournaments 2023/24
X-WR-CALDESC:QuickScores game calendar
X-PUBLISHED-TTL:PT24H
REFRESH-INTERVAL;VALUE=DURATION:PT24H
CALSCALE:GREGORIAN
BEGIN:VTIMEZONE
TZID:America/Chicago
X-LIC-LOCATION:America/Chicago
BEGIN:DAYLIGHT
TZNAME:CDT
TZOFFSETFROM:-0600
TZOFFSETTO:-0500
DTSTART:19700308T020000
RRULE:FREQ=YEARLY;BYMONTH=3;BYDAY=2SU
END:DAYLIGHT
BEGIN:STANDARD
TZNAME:CST
TZOFFSETFROM:-0500
TZOFFSETTO:-0600
DTSTART:19701101T020000
RRULE:FREQ=YEARLY;BYMONTH=11;BYDAY=1SU
END:STANDARD
END:VTIMEZONE
BEGIN:VEVENT
UID:pupc-65629711-20241012T090000@quickscores.com
DTSTAMP:20260421T151300Z
DTSTART;TZID=America/Chicago:20241012T090000
DURATION:PT0H20M0S
SUMMARY:RukoSenseney/JennyLee vs. LibbyListon/JodiKruse
DESCRIPTION:Pickleball For The Cure! - Womens - 10/12 9:00am (as Of 10/8) - Paddle Up Pickleball Club
LOCATION:Court 9
CATEGORIES:QuickScores, Pickleball Game
TRANSP:OPAQUE
BEGIN:VALARM
TRIGGER:-PT2H
ACTION:DISPLAY
DESCRIPTION:RukoSenseney/JennyLee vs. LibbyListon/JodiKruse
END:VALARM
END:VEVENT
BEGIN:VEVENT
UID:pupc-65629748-20241012T092000@quickscores.com
DTSTAMP:20260421T151300Z
DTSTART;TZID=America/Chicago:20241012T092000
DURATION:PT0H20M0S
SUMMARY:LibbyListon/JodiKruse vs. LauraLink/TaraFesser
DESCRIPTION:Pickleball For The Cure! - Womens - 10/12 9:00am (as Of 10/8) - Paddle Up Pickleball Club
LOCATION:Court 7
CATEGORIES:QuickScores, Pickleball Game
TRANSP:OPAQUE
BEGIN:VALARM
TRIGGER:-PT2H
ACTION:DISPLAY
DESCRIPTION:LibbyListon/JodiKruse vs. LauraLink/TaraFesser
END:VALARM
END:VEVENT
BEGIN:VEVENT
UID:pupc-65629716-20241012T094000@quickscores.com
DTSTAMP:20260421T151300Z
DTSTART;TZID=America/Chicago:20241012T094000
DURATION:PT0H20M0S
SUMMARY:LibbyListon/JodiKruse vs. MichelleBeattie/KayleighTrokey
DESCRIPTION:Pickleball For The Cure! - Womens - 10/12 9:00am (as Of 10/8) - Paddle Up Pickleball Club
LOCATION:Court 9
CATEGORIES:QuickScores, Pickleball Game
TRANSP:OPAQUE
BEGIN:VALARM
TRIGGER:-PT2H
ACTION:DISPLAY
DESCRIPTION:LibbyListon/JodiKruse vs. MichelleBeattie/KayleighTrokey
END:VALARM
END:VEVENT
BEGIN:VEVENT
UID:pupc-65629725-20241012T100000@quickscores.com
DTSTAMP:20260421T151300Z
DTSTART;TZID=America/Chicago:20241012T100000
DURATION:PT0H20M0S
SUMMARY:AmySmith/JanetEubanks vs. LibbyListon/JodiKruse
DESCRIPTION:Pickleball For The Cure! - Womens - 10/12 9:00am (as Of 10/8) - Paddle Up Pickleball Club
LOCATION:Court 8
CATEGORIES:QuickScores, Pickleball Game
TRANSP:OPAQUE
BEGIN:VALARM
TRIGGER:-PT2H
ACTION:DISPLAY
DESCRIPTION:AmySmith/JanetEubanks vs. LibbyListon/JodiKruse
END:VALARM
END:VEVENT
BEGIN:VEVENT
UID:pupc-65629747-20241012T102000@quickscores.com
DTSTAMP:20260421T151300Z
DTSTART;TZID=America/Chicago:20241012T102000
DURATION:PT0H20M0S
SUMMARY:LauraLink/TaraFesser vs. LibbyListon/JodiKruse
DESCRIPTION:Pickleball For The Cure! - Womens - 10/12 9:00am (as Of 10/8) - Paddle Up Pickleball Club
LOCATION:Court 8
CATEGORIES:QuickScores, Pickleball Game
TRANSP:OPAQUE
BEGIN:VALARM
TRIGGER:-PT2H
ACTION:DISPLAY
DESCRIPTION:LauraLink/TaraFesser vs. LibbyListon/JodiKruse
END:VALARM
END:VEVENT
BEGIN:VEVENT
UID:pupc-65629731-20241012T110000@quickscores.com
DTSTAMP:20260421T151300Z
DTSTART;TZID=America/Chicago:20241012T110000
DURATION:PT0H20M0S
SUMMARY:LibbyListon/JodiKruse vs. AmandaBurgesen/RenessaDrainer
DESCRIPTION:Pickleball For The Cure! - Womens - 10/12 9:00am (as Of 10/8) - Paddle Up Pickleball Club
LOCATION:Court 2
CATEGORIES:QuickScores, Pickleball Game
TRANSP:OPAQUE
BEGIN:VALARM
TRIGGER:-PT2H
ACTION:DISPLAY
DESCRIPTION:LibbyListon/JodiKruse vs. AmandaBurgesen/RenessaDrainer
END:VALARM
END:VEVENT
END:VCALENDAR
