BEGIN:VCALENDAR
VERSION:2.0
PRODID:-//QuickScores.com//BQ Dynamic iCal Creator//EN
METHOD:PUBLISH
X-WR-CALNAME:Team Windham - Pupc Thursday Squads League - Fall 24 - Completed Leagues 2023/24
X-WR-CALDESC:QuickScores game calendar
X-PUBLISHED-TTL:PT24H
REFRESH-INTERVAL;VALUE=DURATION:PT24H
CALSCALE:GREGORIAN
BEGIN:VTIMEZONE
TZID:America/Chicago
X-LIC-LOCATION:America/Chicago
BEGIN:DAYLIGHT
TZNAME:CDT
TZOFFSETFROM:-0600
TZOFFSETTO:-0500
DTSTART:19700308T020000
RRULE:FREQ=YEARLY;BYMONTH=3;BYDAY=2SU
END:DAYLIGHT
BEGIN:STANDARD
TZNAME:CST
TZOFFSETFROM:-0500
TZOFFSETTO:-0600
DTSTART:19701101T020000
RRULE:FREQ=YEARLY;BYMONTH=11;BYDAY=1SU
END:STANDARD
END:VTIMEZONE
BEGIN:VEVENT
UID:pupc-65398503-20240926T200000@quickscores.com
DTSTAMP:20260424T184800Z
DTSTART;TZID=America/Chicago:20240926T200000
DURATION:PT0H40M0S
SUMMARY:Team Windham vs. Team Breeding
DESCRIPTION:Pupc Thursday Squads League - Fall 24 - Paddle Up Pickleball Club
LOCATION:Court 2
CATEGORIES:QuickScores, Pickleball Game
TRANSP:OPAQUE
BEGIN:VALARM
TRIGGER:-PT2H
ACTION:DISPLAY
DESCRIPTION:Team Windham vs. Team Breeding
END:VALARM
END:VEVENT
BEGIN:VEVENT
UID:pupc-65398502-20240926T210000@quickscores.com
DTSTAMP:20260424T184800Z
DTSTART;TZID=America/Chicago:20240926T210000
DURATION:PT0H40M0S
SUMMARY:Team Link vs. Team Windham
DESCRIPTION:Pupc Thursday Squads League - Fall 24 - Paddle Up Pickleball Club
LOCATION:Court 7
CATEGORIES:QuickScores, Pickleball Game
TRANSP:OPAQUE
BEGIN:VALARM
TRIGGER:-PT2H
ACTION:DISPLAY
DESCRIPTION:Team Link vs. Team Windham
END:VALARM
END:VEVENT
BEGIN:VEVENT
UID:pupc-65398508-20241003T200000@quickscores.com
DTSTAMP:20260424T184800Z
DTSTART;TZID=America/Chicago:20241003T200000
DURATION:PT0H40M0S
SUMMARY:Team Lyell vs. Team Windham
DESCRIPTION:Pupc Thursday Squads League - Fall 24 - Paddle Up Pickleball Club
LOCATION:Court 2
CATEGORIES:QuickScores, Pickleball Game
TRANSP:OPAQUE
BEGIN:VALARM
TRIGGER:-PT2H
ACTION:DISPLAY
DESCRIPTION:Team Lyell vs. Team Windham
END:VALARM
END:VEVENT
BEGIN:VEVENT
UID:pupc-65398509-20241003T210000@quickscores.com
DTSTAMP:20260424T184800Z
DTSTART;TZID=America/Chicago:20241003T210000
DURATION:PT0H40M0S
SUMMARY:Team Windham vs. Team Liston
DESCRIPTION:Pupc Thursday Squads League - Fall 24 - Paddle Up Pickleball Club
LOCATION:Court 2
CATEGORIES:QuickScores, Pickleball Game
TRANSP:OPAQUE
BEGIN:VALARM
TRIGGER:-PT2H
ACTION:DISPLAY
DESCRIPTION:Team Windham vs. Team Liston
END:VALARM
END:VEVENT
BEGIN:VEVENT
UID:pupc-65398513-20241010T200000@quickscores.com
DTSTAMP:20260424T184800Z
DTSTART;TZID=America/Chicago:20241010T200000
DURATION:PT0H40M0S
SUMMARY:Team Windham vs. Team Link
DESCRIPTION:Pupc Thursday Squads League - Fall 24 - Paddle Up Pickleball Club
LOCATION:Court 6
CATEGORIES:QuickScores, Pickleball Game
TRANSP:OPAQUE
BEGIN:VALARM
TRIGGER:-PT2H
ACTION:DISPLAY
DESCRIPTION:Team Windham vs. Team Link
END:VALARM
END:VEVENT
BEGIN:VEVENT
UID:pupc-65398515-20241010T210000@quickscores.com
DTSTAMP:20260424T184800Z
DTSTART;TZID=America/Chicago:20241010T210000
DURATION:PT0H40M0S
SUMMARY:Team Richert vs. Team Windham
DESCRIPTION:Pupc Thursday Squads League - Fall 24 - Paddle Up Pickleball Club
LOCATION:Court 2
CATEGORIES:QuickScores, Pickleball Game
TRANSP:OPAQUE
BEGIN:VALARM
TRIGGER:-PT2H
ACTION:DISPLAY
DESCRIPTION:Team Richert vs. Team Windham
END:VALARM
END:VEVENT
BEGIN:VEVENT
UID:pupc-65398522-20241017T200000@quickscores.com
DTSTAMP:20260424T184800Z
DTSTART;TZID=America/Chicago:20241017T200000
DURATION:PT0H40M0S
SUMMARY:Team Windham vs. Team Lyell
DESCRIPTION:Pupc Thursday Squads League - Fall 24 - Paddle Up Pickleball Club
LOCATION:Court 6
CATEGORIES:QuickScores, Pickleball Game
TRANSP:OPAQUE
BEGIN:VALARM
TRIGGER:-PT2H
ACTION:DISPLAY
DESCRIPTION:Team Windham vs. Team Lyell
END:VALARM
END:VEVENT
BEGIN:VEVENT
UID:pupc-65398519-20241017T210000@quickscores.com
DTSTAMP:20260424T184800Z
DTSTART;TZID=America/Chicago:20241017T210000
DURATION:PT0H40M0S
SUMMARY:Team Breeding vs. Team Windham
DESCRIPTION:Pupc Thursday Squads League - Fall 24 - Paddle Up Pickleball Club
LOCATION:Court 6
CATEGORIES:QuickScores, Pickleball Game
TRANSP:OPAQUE
BEGIN:VALARM
TRIGGER:-PT2H
ACTION:DISPLAY
DESCRIPTION:Team Breeding vs. Team Windham
END:VALARM
END:VEVENT
BEGIN:VEVENT
UID:pupc-65398525-20241024T200000@quickscores.com
DTSTAMP:20260424T184800Z
DTSTART;TZID=America/Chicago:20241024T200000
DURATION:PT0H40M0S
SUMMARY:Team Liston vs. Team Windham
DESCRIPTION:Pupc Thursday Squads League - Fall 24 - Paddle Up Pickleball Club
LOCATION:Court 5
CATEGORIES:QuickScores, Pickleball Game
TRANSP:OPAQUE
BEGIN:VALARM
TRIGGER:-PT2H
ACTION:DISPLAY
DESCRIPTION:Team Liston vs. Team Windham
END:VALARM
END:VEVENT
BEGIN:VEVENT
UID:pupc-65398527-20241024T210000@quickscores.com
DTSTAMP:20260424T184800Z
DTSTART;TZID=America/Chicago:20241024T210000
DURATION:PT0H40M0S
SUMMARY:Team Windham vs. Team Richert
DESCRIPTION:Pupc Thursday Squads League - Fall 24 - Paddle Up Pickleball Club
LOCATION:Court 5
CATEGORIES:QuickScores, Pickleball Game
TRANSP:OPAQUE
BEGIN:VALARM
TRIGGER:-PT2H
ACTION:DISPLAY
DESCRIPTION:Team Windham vs. Team Richert
END:VALARM
END:VEVENT
BEGIN:VEVENT
UID:pupc-65799980-20241107T202000@quickscores.com
DTSTAMP:20260424T184800Z
DTSTART;TZID=America/Chicago:20241107T202000
DURATION:PT0H50M0S
SUMMARY:[2] Team Windham vs. Winner of Game 2
DESCRIPTION:Pupc Thursday Squads League - Fall 24 - Paddle Up Pickleball Club
LOCATION:Court 5
CATEGORIES:QuickScores, Pickleball Game
TRANSP:OPAQUE
BEGIN:VALARM
TRIGGER:-PT2H
ACTION:DISPLAY
DESCRIPTION:[2] Team Windham vs. Winner of Game 2
END:VALARM
END:VEVENT
END:VCALENDAR
